BEGIN:VCALENDAR
VERSION:2.0
PRODID:-//CACAU CENTER - ECPv6.15.11//NONSGML v1.0//EN
CALSCALE:GREGORIAN
METHOD:PUBLISH
X-WR-CALNAME:CACAU CENTER
X-ORIGINAL-URL:https://cacaucenter.com.br
X-WR-CALDESC:Eventos para CACAU CENTER
REFRESH-INTERVAL;VALUE=DURATION:PT1H
X-Robots-Tag:noindex
X-PUBLISHED-TTL:PT1H
BEGIN:VTIMEZONE
TZID:America/Sao_Paulo
BEGIN:STANDARD
TZOFFSETFROM:-0300
TZOFFSETTO:-0300
TZNAME:-03
DTSTART:20240101T000000
END:STANDARD
END:VTIMEZONE
BEGIN:VEVENT
DTSTART;TZID=America/Sao_Paulo:20250730T100000
DTEND;TZID=America/Sao_Paulo:20250730T130000
DTSTAMP:20260424T020949
CREATED:20250712T172751Z
LAST-MODIFIED:20250712T172751Z
UID:6286-1753869600-1753880400@cacaucenter.com.br
SUMMARY:AULA GRÁTIS GENUINE PALHA ITALIANA GOURMET!
DESCRIPTION:AULA GRÁTIS! Você irá aprender uma Palha Italiana como nunca vista antes. \nDiferente\, deliciosa\, cremosa com diferentes texturas. Um faça e venda muito diferente e rentável. Teremos apostila e sorteios. \nCHEF JHESSIKA HENRIQUES
URL:https://cacaucenter.com.br/cursos/aula-gratis-genuine-palha-italiana-gourmet/
LOCATION:Cacau Center\, Avenida Pref. José Monteiro 783\, São Vicente\, SP\, Brazil
END:VEVENT
BEGIN:VEVENT
DTSTART;TZID=America/Sao_Paulo:20250730T140000
DTEND;TZID=America/Sao_Paulo:20250730T170000
DTSTAMP:20260424T020949
CREATED:20250712T172858Z
LAST-MODIFIED:20250712T172858Z
UID:6288-1753884000-1753894800@cacaucenter.com.br
SUMMARY:AULA PARTICULAR: R$40\,00 * PIPOCA GOURMET PROFISSIONAL!
DESCRIPTION:AULA PARTICULAR: R$40\,00 * PIPOCA GOURMET PROFISSIONAL! \nNessa aula você irá aprender a trabalhar com pipoca gourmet de forma profissional. \nCom receitas padronizadas\, ficha técnica\, e ingredientes selecionados. Um produto versátil e lucrativo. Teremos apostila\, noções de precificação e sorteios incríveis. \nCHEF JHESSIKA HENRIQUES
URL:https://cacaucenter.com.br/cursos/aula-particular-r4000-pipoca-gourmet-profissional/
LOCATION:Cacau Center\, Avenida Pref. José Monteiro 783\, São Vicente\, SP\, Brazil
END:VEVENT
END:VCALENDAR