BEGIN:VCALENDAR
VERSION:2.0
PRODID:-//CACAU CENTER - ECPv6.15.11//NONSGML v1.0//EN
CALSCALE:GREGORIAN
METHOD:PUBLISH
X-WR-CALNAME:CACAU CENTER
X-ORIGINAL-URL:https://cacaucenter.com.br
X-WR-CALDESC:Eventos para CACAU CENTER
REFRESH-INTERVAL;VALUE=DURATION:PT1H
X-Robots-Tag:noindex
X-PUBLISHED-TTL:PT1H
BEGIN:VTIMEZONE
TZID:America/Sao_Paulo
BEGIN:STANDARD
TZOFFSETFROM:-0300
TZOFFSETTO:-0300
TZNAME:-03
DTSTART:20240101T000000
END:STANDARD
END:VTIMEZONE
BEGIN:VEVENT
DTSTART;TZID=America/Sao_Paulo:20250731T100000
DTEND;TZID=America/Sao_Paulo:20250731T130000
DTSTAMP:20260424T020947
CREATED:20250712T173131Z
LAST-MODIFIED:20250712T173131Z
UID:6290-1753956000-1753966800@cacaucenter.com.br
SUMMARY:AULA GRÁTIS BARRY CALLEBAUT (SICAO) AULA INCRÍVEL!
DESCRIPTION:AULA GRÁTIS BARRY CALLEBAUT (SICAO) AULA INCRÍVEL! \nNesta aula você vai aprender Barra de Chocolate Decoradas para o Dia dos Pais e Bombons Rústicos Recheados. \nAula imperdível para o seu faça e venda\, lucro certo. Tudo com chocolate da Barry Callebaut (Sicao). \nAproveite e tire suas dúvidas com o chef Rodney Caco .\nVocê não vai perder né? \nCHEF RODNEY CACO
URL:https://cacaucenter.com.br/cursos/aula-gratis-barry-callebaut-sicao-aula-incrivel/
LOCATION:Cacau Center\, Avenida Pref. José Monteiro 783\, São Vicente\, SP\, Brazil
END:VEVENT
BEGIN:VEVENT
DTSTART;TZID=America/Sao_Paulo:20250731T140000
DTEND;TZID=America/Sao_Paulo:20250731T170000
DTSTAMP:20260424T020947
CREATED:20250712T173224Z
LAST-MODIFIED:20250712T173315Z
UID:6293-1753970400-1753981200@cacaucenter.com.br
SUMMARY:AULA GRÁTIS BWB LEMBRANÇA PARA O PAPAI!
DESCRIPTION:AULA GRÁTIS BWB LEMBRANÇA PARA O PAPAI! \naula maravilhosa com doces lembranças para o seu pai\, barra de chocolate com recheio maravilhoso de whisky. \nO seu pai vai amar.\nCHEF RENATA CARESIA
URL:https://cacaucenter.com.br/cursos/aula-gratis-bwb-lembranca-para-o-papai/
LOCATION:Cacau Center\, Avenida Pref. José Monteiro 783\, São Vicente\, SP\, Brazil
END:VEVENT
END:VCALENDAR