BEGIN:VCALENDAR
VERSION:2.0
PRODID:-//CACAU CENTER - ECPv6.15.11//NONSGML v1.0//EN
CALSCALE:GREGORIAN
METHOD:PUBLISH
X-ORIGINAL-URL:https://cacaucenter.com.br
X-WR-CALDESC:Eventos para CACAU CENTER
REFRESH-INTERVAL;VALUE=DURATION:PT1H
X-Robots-Tag:noindex
X-PUBLISHED-TTL:PT1H
BEGIN:VTIMEZONE
TZID:America/Sao_Paulo
BEGIN:STANDARD
TZOFFSETFROM:-0300
TZOFFSETTO:-0300
TZNAME:-03
DTSTART:20240101T000000
END:STANDARD
END:VTIMEZONE
BEGIN:VEVENT
DTSTART;TZID=America/Sao_Paulo:20250802T100000
DTEND;TZID=America/Sao_Paulo:20250802T130000
DTSTAMP:20260424T021007
CREATED:20250729T131954Z
LAST-MODIFIED:20250729T131954Z
UID:6317-1754128800-1754139600@cacaucenter.com.br
SUMMARY:AULA PARTICULAR R$50\,00: MORANGO E UVA DO AMOR
DESCRIPTION:AULA PARTICULAR R$50\,00: MORANGO E UVA DO AMOR \nO doce que tomou conta de todas as redes sociais\, exige técnica e receita perfeita. Nesse dia você irá aprender uma calda que deixa seu morango ou uva perfeitos\, brigadeiro de ninho no ponto correto e na apostila variação de mais 2 sabores (maracujá e pistache) Técnica para que sua calda dure mais tempo e possa ficar exposta. Durabilidade noções de precificação. Higienização e armazenamento correto dos morangos.\nCHEF JHESSIKA HENRIQUES
URL:https://cacaucenter.com.br/cursos/aula-particular-r5000-morango-e-uva-do-amor/
LOCATION:Cacau Center\, Avenida Pref. José Monteiro 783\, São Vicente\, SP\, Brazil
END:VEVENT
END:VCALENDAR