BEGIN:VCALENDAR
VERSION:2.0
PRODID:-//CACAU CENTER - ECPv6.15.11//NONSGML v1.0//EN
CALSCALE:GREGORIAN
METHOD:PUBLISH
X-WR-CALNAME:CACAU CENTER
X-ORIGINAL-URL:https://cacaucenter.com.br
X-WR-CALDESC:Eventos para CACAU CENTER
REFRESH-INTERVAL;VALUE=DURATION:PT1H
X-Robots-Tag:noindex
X-PUBLISHED-TTL:PT1H
BEGIN:VTIMEZONE
TZID:America/Sao_Paulo
BEGIN:STANDARD
TZOFFSETFROM:-0300
TZOFFSETTO:-0300
TZNAME:-03
DTSTART:20240101T000000
END:STANDARD
END:VTIMEZONE
BEGIN:VEVENT
DTSTART;TZID=America/Sao_Paulo:20250804T100000
DTEND;TZID=America/Sao_Paulo:20250804T130000
DTSTAMP:20260424T020951
CREATED:20250729T132202Z
LAST-MODIFIED:20250729T132202Z
UID:6319-1754301600-1754312400@cacaucenter.com.br
SUMMARY:AULA GRÁTIS MAGO SOBREMESAS PARA DIA DOS PAIS!
DESCRIPTION:AULA GRÁTIS MAGO SOBREMESAS PARA DIA DOS PAIS! \nTorta Caramelo Toffee com café e limão em camadas! Novas sobremesas para acrescentar em seu cardápio ouu surpreender sua família no Dia dos Pais. \nNão percam!\nCHEF FABÍOLA PORTO
URL:https://cacaucenter.com.br/cursos/aula-gratis-mago-sobremesas-para-dia-dos-pais/
LOCATION:Cacau Center\, Avenida Pref. José Monteiro 783\, São Vicente\, SP\, Brazil
END:VEVENT
BEGIN:VEVENT
DTSTART;TZID=America/Sao_Paulo:20250804T140000
DTEND;TZID=America/Sao_Paulo:20250804T170000
DTSTAMP:20260424T020951
CREATED:20250729T132314Z
LAST-MODIFIED:20250729T132314Z
UID:6321-1754316000-1754326800@cacaucenter.com.br
SUMMARY:AULA GRÁTIS NUTELLA BOLOS RECHEADOS COM NUTELLA.
DESCRIPTION:AULA GRÁTIS NUTELLA BOLOS RECHEADOS COM NUTELLA. \nAprenda uma receita de bolo incrível e lucrativa para você vender muito e se deliciar! Além do que será ensinado em aula você vai receber apostila com mais receitas. Não perca essa oportunidade.\nCHEF ANA CAROLINA COUTO
URL:https://cacaucenter.com.br/cursos/aula-gratis-nutella-bolos-recheados-com-nutella/
LOCATION:Cacau Center\, Avenida Pref. José Monteiro 783\, São Vicente\, SP\, Brazil
END:VEVENT
END:VCALENDAR