BEGIN:VCALENDAR
VERSION:2.0
PRODID:-//CACAU CENTER - ECPv6.15.11//NONSGML v1.0//EN
CALSCALE:GREGORIAN
METHOD:PUBLISH
X-ORIGINAL-URL:https://cacaucenter.com.br
X-WR-CALDESC:Eventos para CACAU CENTER
REFRESH-INTERVAL;VALUE=DURATION:PT1H
X-Robots-Tag:noindex
X-PUBLISHED-TTL:PT1H
BEGIN:VTIMEZONE
TZID:America/Sao_Paulo
BEGIN:STANDARD
TZOFFSETFROM:-0300
TZOFFSETTO:-0300
TZNAME:-03
DTSTART:20240101T000000
END:STANDARD
END:VTIMEZONE
BEGIN:VEVENT
DTSTART;TZID=America/Sao_Paulo:20250806T140000
DTEND;TZID=America/Sao_Paulo:20250806T170000
DTSTAMP:20260424T021007
CREATED:20250729T132859Z
LAST-MODIFIED:20250729T132859Z
UID:6325-1754488800-1754499600@cacaucenter.com.br
SUMMARY:AULA GRÁTIS DONA JURA (CACAUFOODS)
DESCRIPTION:AULA GRÁTIS DONA JURA (CACAUFOODS) \n“A Primavera Vai Invadir Sua Confeitaria!” Venha para a aula especial da Cacau Foods e Dona Jura na Cacau Center e aprenda a criar um bolo incrível de creme de limão com geleia de morango\, com decoração inspirada na primavera – leve\, colorida e encantadora. Nessa aula você vai aprender: como fazer um creme de limão equilibrado e aveludado; o segredo para uma geleia de morango brilhante e saborosa; técnicas de decoração com flores e cores vibrantes para a estação. Garanta sua vaga e traga frescor e delicadeza para os seus bolos nesta primavera! Como sempre uma aula cheia de dicas\nCHEF MARCELO BELLINI
URL:https://cacaucenter.com.br/cursos/aula-gratis-dona-jura-cacaufoods-2/
LOCATION:Cacau Center\, Avenida Pref. José Monteiro 783\, São Vicente\, SP\, Brazil
END:VEVENT
END:VCALENDAR