BEGIN:VCALENDAR
VERSION:2.0
PRODID:-//CACAU CENTER - ECPv6.15.11//NONSGML v1.0//EN
CALSCALE:GREGORIAN
METHOD:PUBLISH
X-ORIGINAL-URL:https://cacaucenter.com.br
X-WR-CALDESC:Eventos para CACAU CENTER
REFRESH-INTERVAL;VALUE=DURATION:PT1H
X-Robots-Tag:noindex
X-PUBLISHED-TTL:PT1H
BEGIN:VTIMEZONE
TZID:America/Sao_Paulo
BEGIN:STANDARD
TZOFFSETFROM:-0300
TZOFFSETTO:-0300
TZNAME:-03
DTSTART:20240101T000000
END:STANDARD
END:VTIMEZONE
BEGIN:VEVENT
DTSTART;TZID=America/Sao_Paulo:20251006T100000
DTEND;TZID=America/Sao_Paulo:20251006T140000
DTSTAMP:20260423T232538
CREATED:20250926T215828Z
LAST-MODIFIED:20250926T215828Z
UID:6539-1759744800-1759759200@cacaucenter.com.br
SUMMARY:CURSO PARTICULAR -  INVESTIMENTO R$160\,00. OFICINA MÓDULO 2 PANIFICAÇÃO
DESCRIPTION:UMA VERDADEIRA MARATONA\nDE SABORES! Prepare-se para elevar suas habilidades e encantar no mundo dos pães e massas:\nAula 1 – Festival de Pizzas: tradicional\, vulcão\, borda recheada e mini pizzas.\nAula 2 – Festival de Pães Semi-Italianos: recheados e rocambole de goiabada.\nAula 3 – Festival de Beirutes e Pães Funcionais: recheados e irresistíveis.\nAula 4 – Festival de Pães Integrais: recheados e pães sovados. Um módulo completo\, cheio de técnicas\, recheios e variedades que vão\ntransformar sua produção!\nPagamentos e inscrições antecipadas.\n\nCHEF ALEXANDRE CANADÁ
URL:https://cacaucenter.com.br/cursos/curso-particular-investimento-r16000-oficina-modulo-2-panificacao/
LOCATION:Cacau Center\, Avenida Pref. José Monteiro 783\, São Vicente\, SP\, Brazil
END:VEVENT
END:VCALENDAR