BEGIN:VCALENDAR
VERSION:2.0
PRODID:-//CACAU CENTER - ECPv6.15.11//NONSGML v1.0//EN
CALSCALE:GREGORIAN
METHOD:PUBLISH
X-ORIGINAL-URL:https://cacaucenter.com.br
X-WR-CALDESC:Eventos para CACAU CENTER
REFRESH-INTERVAL;VALUE=DURATION:PT1H
X-Robots-Tag:noindex
X-PUBLISHED-TTL:PT1H
BEGIN:VTIMEZONE
TZID:America/Sao_Paulo
BEGIN:STANDARD
TZOFFSETFROM:-0300
TZOFFSETTO:-0300
TZNAME:-03
DTSTART:20240101T000000
END:STANDARD
END:VTIMEZONE
BEGIN:VEVENT
DTSTART;TZID=America/Sao_Paulo:20251202T100000
DTEND;TZID=America/Sao_Paulo:20251202T140000
DTSTAMP:20260423T203741
CREATED:20251129T174621Z
LAST-MODIFIED:20251129T174621Z
UID:6709-1764669600-1764684000@cacaucenter.com.br
SUMMARY:AULA GRÁTIS MAVALÉRIO
DESCRIPTION:AULA ESPECIAL DE NATAL MAVALÉRIO \nBolo Natalino de Pistache — massa macia\, recheio de brigadeiro branco cremoso e flocos de pistache na cobertura\, numa explosão de sabor e sofisticação. Uma receita perfeita pra presentear\, vender e brilhar nas festas de fim de ano. \nELISANGELA ALDA
URL:https://cacaucenter.com.br/cursos/aula-gratis-mavalerio-3/
LOCATION:Cacau Center\, Avenida Pref. José Monteiro 783\, São Vicente\, SP\, Brazil
END:VEVENT
BEGIN:VEVENT
DTSTART;TZID=America/Sao_Paulo:20251202T140000
DTEND;TZID=America/Sao_Paulo:20251202T170000
DTSTAMP:20260423T203741
CREATED:20251129T174801Z
LAST-MODIFIED:20251129T174801Z
UID:6712-1764684000-1764694800@cacaucenter.com.br
SUMMARY:AULA GRÁTIS BLUESTAR
DESCRIPTION:PETIT FOUR – VENHAM APRENDER ESSA DELÍCIA \nAprenda a fazer um Petit Four incrível\, perfeito para faça e venda ou para surpreender nas suas festas e encomendas! No curso\, você vai aprender a preparar: Petit Four de Queijo Parmesão\, Petit Four de Creme de Cebola com Parmesão e Petit Four\nde Creme de Cebola. Receitas práticas\, saborosas e feitas com produtos BlueStar!\nCHEF JUNIOR
URL:https://cacaucenter.com.br/cursos/aula-gratis-bluestar-2/
LOCATION:Cacau Center\, Avenida Pref. José Monteiro 783\, São Vicente\, SP\, Brazil
END:VEVENT
END:VCALENDAR