BEGIN:VCALENDAR
VERSION:2.0
PRODID:-//CACAU CENTER - ECPv6.15.11//NONSGML v1.0//EN
CALSCALE:GREGORIAN
METHOD:PUBLISH
X-WR-CALNAME:CACAU CENTER
X-ORIGINAL-URL:https://cacaucenter.com.br
X-WR-CALDESC:Eventos para CACAU CENTER
REFRESH-INTERVAL;VALUE=DURATION:PT1H
X-Robots-Tag:noindex
X-PUBLISHED-TTL:PT1H
BEGIN:VTIMEZONE
TZID:America/Sao_Paulo
BEGIN:STANDARD
TZOFFSETFROM:-0300
TZOFFSETTO:-0300
TZNAME:-03
DTSTART:20240101T000000
END:STANDARD
END:VTIMEZONE
BEGIN:VEVENT
DTSTART;TZID=America/Sao_Paulo:20251204T100000
DTEND;TZID=America/Sao_Paulo:20251204T120000
DTSTAMP:20260423T203643
CREATED:20251129T175428Z
LAST-MODIFIED:20251129T175428Z
UID:6721-1764842400-1764849600@cacaucenter.com.br
SUMMARY: AULA GRÁTIS BARRY CALLEBAUT (SICAO)
DESCRIPTION:CURSO CHARLOTTE NATALINA COM SICAO – BARRY CALLEBAUT \nAprenda a criar uma Charlotte irresistível\, com chocolate de qualidade profissional Sicao\, e encante seus clientes neste Natal!!! Técnicas fáceis e resultado impecável. Acabamento elegante e totalmente natalino. Aula prática\, perfeita para quem quer vender ou presentear. Garanta sua vaga e venha viver\na magia do Natal com muito chocolate!\nCHEF CACO
URL:https://cacaucenter.com.br/cursos/aula-gratis-barry-callebaut-sicao-5/
LOCATION:Cacau Center\, Avenida Pref. José Monteiro 783\, São Vicente\, SP\, Brazil
END:VEVENT
BEGIN:VEVENT
DTSTART;TZID=America/Sao_Paulo:20251204T140000
DTEND;TZID=America/Sao_Paulo:20251204T170000
DTSTAMP:20260423T203643
CREATED:20251129T175613Z
LAST-MODIFIED:20251129T175613Z
UID:6724-1764856800-1764867600@cacaucenter.com.br
SUMMARY:AULA GRÁTIS FAB!
DESCRIPTION:CURSO FAB – BOLO EM FORMATO DE ÁRVORE DE NATAL \nAprenda a criar um bolo natalino encantador\, moderno e super vendável! Técnicas fáceis\, acabamento profissional e aquele toque especial para surpreender seus clientes neste fim de ano. Vagas limitadas garanta a sua e venha fazer um Natal ainda mais doce\nCHEF IURI SENA
URL:https://cacaucenter.com.br/cursos/aula-gratis-fab-3/
LOCATION:Cacau Center\, Avenida Pref. José Monteiro 783\, São Vicente\, SP\, Brazil
END:VEVENT
END:VCALENDAR