BEGIN:VCALENDAR
VERSION:2.0
PRODID:-//CACAU CENTER - ECPv6.15.11//NONSGML v1.0//EN
CALSCALE:GREGORIAN
METHOD:PUBLISH
X-ORIGINAL-URL:https://cacaucenter.com.br
X-WR-CALDESC:Eventos para CACAU CENTER
REFRESH-INTERVAL;VALUE=DURATION:PT1H
X-Robots-Tag:noindex
X-PUBLISHED-TTL:PT1H
BEGIN:VTIMEZONE
TZID:America/Sao_Paulo
BEGIN:STANDARD
TZOFFSETFROM:-0300
TZOFFSETTO:-0300
TZNAME:-03
DTSTART:20240101T000000
END:STANDARD
END:VTIMEZONE
BEGIN:VEVENT
DTSTART;TZID=America/Sao_Paulo:20251205T100000
DTEND;TZID=America/Sao_Paulo:20251205T120000
DTSTAMP:20260423T203253
CREATED:20251129T175802Z
LAST-MODIFIED:20251129T175802Z
UID:6727-1764928800-1764936000@cacaucenter.com.br
SUMMARY:AULA GRÁTIS DAUS
DESCRIPTION:AULA ESPECIAL DE CHANTILLY DAUS – BOLO NATALINO VINTAGE \nAprenda a criar um bolo clássico\, encantador e cheio de detalhes\nCHEF ANDREIA PINHO
URL:https://cacaucenter.com.br/cursos/aula-gratis-daus/
LOCATION:Cacau Center\, Avenida Pref. José Monteiro 783\, São Vicente\, SP\, Brazil
END:VEVENT
BEGIN:VEVENT
DTSTART;TZID=America/Sao_Paulo:20251205T140000
DTEND;TZID=America/Sao_Paulo:20251205T170000
DTSTAMP:20260423T203253
CREATED:20251129T175958Z
LAST-MODIFIED:20251129T175958Z
UID:6730-1764943200-1764954000@cacaucenter.com.br
SUMMARY:AULA PROMOCIONAL OFICINA ARCOLOR
DESCRIPTION:Venha aprender Pavê de Chocolate Misto \ncremoso\, irresistível e perfeito para vender ou encantar a família. E ainda: Decoração de Cupcakes 2D\, técnicas simples e lindas para deixar suas criações profissionais. Um único curso\, duas habilidades incríveis! Perfeito para iniciantes e para quem quer aumentar o cardápio de Natal. COMO PARTICIPAR: Na compra de\numa pasta americana branca Arcolor na Cacau Center e apresentando o cupom fiscal no Centro Culinário\, você garante sua vaga nesta incrível oficina modelagem 2D!\nCHEF DALVA BAIROS
URL:https://cacaucenter.com.br/cursos/aula-promocional-oficina-arcolor-2/
LOCATION:Cacau Center\, Avenida Pref. José Monteiro 783\, São Vicente\, SP\, Brazil
END:VEVENT
END:VCALENDAR