BEGIN:VCALENDAR
VERSION:2.0
PRODID:-//CACAU CENTER - ECPv6.15.11//NONSGML v1.0//EN
CALSCALE:GREGORIAN
METHOD:PUBLISH
X-WR-CALNAME:CACAU CENTER
X-ORIGINAL-URL:https://cacaucenter.com.br
X-WR-CALDESC:Eventos para CACAU CENTER
REFRESH-INTERVAL;VALUE=DURATION:PT1H
X-Robots-Tag:noindex
X-PUBLISHED-TTL:PT1H
BEGIN:VTIMEZONE
TZID:America/Sao_Paulo
BEGIN:STANDARD
TZOFFSETFROM:-0300
TZOFFSETTO:-0300
TZNAME:-03
DTSTART:20240101T000000
END:STANDARD
END:VTIMEZONE
BEGIN:VEVENT
DTSTART;TZID=America/Sao_Paulo:20251208T100000
DTEND;TZID=America/Sao_Paulo:20251208T120000
DTSTAMP:20260423T203720
CREATED:20251129T180233Z
LAST-MODIFIED:20251129T180233Z
UID:6733-1765188000-1765195200@cacaucenter.com.br
SUMMARY:AULA GRÁTIS OFICINA ADIMIX
DESCRIPTION:AULA OFICINA DE PÃO DE QUEIJO TRADICIONAL E RECHEADOS \nAprenda o verdadeiro pão de queijo com praticidade e muito sabor!\nNessa aula você vai aprender técnicas\, dicas de preparo e finalizações usando a linha Adimix\, perfeita para quem quer produzir com qualidade e rendimento. Massa perfeita com Adimix \, pontos corretos da massa\, formatos e finalizações. \nCHEF ALEXANDRE CANADÁ
URL:https://cacaucenter.com.br/cursos/aula-gratis-oficina-adimix-4/
LOCATION:Cacau Center\, Avenida Pref. José Monteiro 783\, São Vicente\, SP\, Brazil
END:VEVENT
BEGIN:VEVENT
DTSTART;TZID=America/Sao_Paulo:20251208T140000
DTEND;TZID=America/Sao_Paulo:20251208T170000
DTSTAMP:20260423T203720
CREATED:20251129T180417Z
LAST-MODIFIED:20251129T180417Z
UID:6736-1765202400-1765213200@cacaucenter.com.br
SUMMARY:AULA GRÁTIS OFICINA ADIMIX
DESCRIPTION:OFICINA DE SONHOS – Aprenda receitas fáceis\, lucrativas e com acabamento perfeito usando as linhas especiais Adimix. Ideal para quem quer empreender ou aprimorar suas habilidades. \nCHEF ALEXANDRE CANADÁ
URL:https://cacaucenter.com.br/cursos/aula-gratis-oficina-adimix-5/
LOCATION:Cacau Center\, Avenida Pref. José Monteiro 783\, São Vicente\, SP\, Brazil
END:VEVENT
END:VCALENDAR