BEGIN:VCALENDAR
VERSION:2.0
PRODID:-//CACAU CENTER - ECPv6.15.11//NONSGML v1.0//EN
CALSCALE:GREGORIAN
METHOD:PUBLISH
X-ORIGINAL-URL:https://cacaucenter.com.br
X-WR-CALDESC:Eventos para CACAU CENTER
REFRESH-INTERVAL;VALUE=DURATION:PT1H
X-Robots-Tag:noindex
X-PUBLISHED-TTL:PT1H
BEGIN:VTIMEZONE
TZID:America/Sao_Paulo
BEGIN:STANDARD
TZOFFSETFROM:-0300
TZOFFSETTO:-0300
TZNAME:-03
DTSTART:20240101T000000
END:STANDARD
END:VTIMEZONE
BEGIN:VEVENT
DTSTART;TZID=America/Sao_Paulo:20251216T100000
DTEND;TZID=America/Sao_Paulo:20251216T140000
DTSTAMP:20260423T203310
CREATED:20251129T181947Z
LAST-MODIFIED:20251129T181947Z
UID:6765-1765879200-1765893600@cacaucenter.com.br
SUMMARY:AULA GRÁTIS OVOMALTINE
DESCRIPTION:BROWNIE NA TAÇA COM OVOMALTINE\n\nUma explosão de sabor. Camadas de brownie molhadinho\, creme especial e aquela crocância irresistível de Ovomaltine. Perfeito para adoçar seu dia.\n\nCHEF DOUGLAS SANTOS
URL:https://cacaucenter.com.br/cursos/aula-gratis-ovomaltine-2/
LOCATION:Cacau Center\, Avenida Pref. José Monteiro 783\, São Vicente\, SP\, Brazil
END:VEVENT
BEGIN:VEVENT
DTSTART;TZID=America/Sao_Paulo:20251216T140000
DTEND;TZID=America/Sao_Paulo:20251216T170000
DTSTAMP:20260423T203310
CREATED:20251129T182115Z
LAST-MODIFIED:20251129T182115Z
UID:6768-1765893600-1765904400@cacaucenter.com.br
SUMMARY:AULA GRÁTIS NELISUL
DESCRIPTION:Vamos aprender um delicioso Paris Brest e Torta Cuka de Farofa \nEstão venha comigo e com a NELISUL. \nCHEF RICARDO GALHARDO
URL:https://cacaucenter.com.br/cursos/aula-gratis-nelisul-4/
LOCATION:Cacau Center\, Avenida Pref. José Monteiro 783\, São Vicente\, SP\, Brazil
END:VEVENT
END:VCALENDAR