BEGIN:VCALENDAR
VERSION:2.0
PRODID:-//CACAU CENTER - ECPv6.15.11//NONSGML v1.0//EN
CALSCALE:GREGORIAN
METHOD:PUBLISH
X-WR-CALNAME:CACAU CENTER
X-ORIGINAL-URL:https://cacaucenter.com.br
X-WR-CALDESC:Eventos para CACAU CENTER
REFRESH-INTERVAL;VALUE=DURATION:PT1H
X-Robots-Tag:noindex
X-PUBLISHED-TTL:PT1H
BEGIN:VTIMEZONE
TZID:America/Sao_Paulo
BEGIN:STANDARD
TZOFFSETFROM:-0300
TZOFFSETTO:-0300
TZNAME:-03
DTSTART:20250101T000000
END:STANDARD
END:VTIMEZONE
BEGIN:VEVENT
DTSTART;TZID=America/Sao_Paulo:20260224T100000
DTEND;TZID=America/Sao_Paulo:20260224T170000
DTSTAMP:20260423T160402
CREATED:20260122T130706Z
LAST-MODIFIED:20260122T130706Z
UID:6825-1771927200-1771952400@cacaucenter.com.br
SUMMARY:AULA GRÁTIS OFICINA ADIMIX
DESCRIPTION:CURSO OFICINA DE BRIOCHE DOCE ADIMIX: Aprenda a preparar brioche tradicional\, brioche com gotas de chocolate e brioche açucarado\, utilizando os produtos Adimix\, com técnica correta\, maciez perfeita e sabor irresistível. Dicas de produção e comercialização Uma aula prática\, ideal para quem deseja encantar clientes\, ampliar o cardápio e aumentar as vendas. Curso indicado para iniciantes e profissionais. \nCHEF ALEXANDRE CANADÁ
URL:https://cacaucenter.com.br/cursos/aula-gratis-oficina-adimix-6/
LOCATION:Cacau Center\, Avenida Pref. José Monteiro 783\, São Vicente\, SP\, Brazil
END:VEVENT
BEGIN:VEVENT
DTSTART;TZID=America/Sao_Paulo:20260224T140000
DTEND;TZID=America/Sao_Paulo:20260224T170000
DTSTAMP:20260423T160402
CREATED:20260122T130901Z
LAST-MODIFIED:20260122T130901Z
UID:6827-1771941600-1771952400@cacaucenter.com.br
SUMMARY:AULA GRÁTIS OFICINA ADIMIX
DESCRIPTION:CURSO OFICINA DE BRIOCHE SALGADO ADIMIX: Brioche Salgado Recheado e Trufado de Catupiry Massa macia\, amanteigada e um recheio cremoso irresistível! Ideal para vendas\, lanches gourmet e eventos.\nCHEF ALEXANDRE CANADÁ
URL:https://cacaucenter.com.br/cursos/aula-gratis-oficina-adimix-7/
LOCATION:Cacau Center\, Avenida Pref. José Monteiro 783\, São Vicente\, SP\, Brazil
END:VEVENT
END:VCALENDAR