BEGIN:VCALENDAR
VERSION:2.0
PRODID:-//CACAU CENTER - ECPv6.15.11//NONSGML v1.0//EN
CALSCALE:GREGORIAN
METHOD:PUBLISH
X-WR-CALNAME:CACAU CENTER
X-ORIGINAL-URL:https://cacaucenter.com.br
X-WR-CALDESC:Eventos para CACAU CENTER
REFRESH-INTERVAL;VALUE=DURATION:PT1H
X-Robots-Tag:noindex
X-PUBLISHED-TTL:PT1H
BEGIN:VTIMEZONE
TZID:America/Sao_Paulo
BEGIN:STANDARD
TZOFFSETFROM:-0300
TZOFFSETTO:-0300
TZNAME:-03
DTSTART:20250101T000000
END:STANDARD
END:VTIMEZONE
BEGIN:VEVENT
DTSTART;TZID=America/Sao_Paulo:20260319T100000
DTEND;TZID=America/Sao_Paulo:20260319T140000
DTSTAMP:20260423T160423
CREATED:20260225T130337Z
LAST-MODIFIED:20260225T130337Z
UID:6875-1773914400-1773928800@cacaucenter.com.br
SUMMARY:AULA GRÁTIS WILTON
DESCRIPTION:AULA 100% PRÁTICA DE BICOS GUIADO – Esta aula será um divisor de águas na sua carreira na confeitaria\, faremos mais de 12 pontos com uma apostila guiada que irá facilitar o treino\, uma aula com muitas técnicas\, posição correta de mão para um trabalho perfeito\, as vagas são limitadissimas somente 10 alunas então corra e garanta sua vaga. Material obrigatório 2 mangas de confeitar \,1 bico Wilton folha 70\, 1 bico Wilton pitanga 20 ou 21\, 500gr. Glacê Real e uma embalagem para colocar o creme depois de batido e o mesmo será batido em aula.
URL:https://cacaucenter.com.br/cursos/aula-gratis-wilton-3/
LOCATION:Cacau Center\, Avenida Pref. José Monteiro 783\, São Vicente\, SP\, Brazil
END:VEVENT
BEGIN:VEVENT
DTSTART;TZID=America/Sao_Paulo:20260319T140000
DTEND;TZID=America/Sao_Paulo:20260319T170000
DTSTAMP:20260423T160423
CREATED:20260225T130454Z
LAST-MODIFIED:20260225T130454Z
UID:6877-1773928800-1773939600@cacaucenter.com.br
SUMMARY:AULA GRÁTIS WILTON
DESCRIPTION:AULA PRÁTICA DE FLORES COMESTÍVEL FEITA COM BICOS – Nesta aula mais esperada do momento vamos aprender a tão sonhada Rosa Wilton e a primula que encantara seus bolos com tanta delicadeza\, a aula será 100% Prática e as vagas são limitadíssimas. Somente 10 Alunas. Material Obrigatório Aula de Flores – 1 bico Wilton pétala 104\, 1 bico Wilton pitanga 18\, 1 base para flor ( prego)\, 1 pacotinho de tapetinho para docinhos\, 500gr Glacê Real e uma embalagem para colocar o creme depois de batido e o mesmo será batido em aula. \nCHEF ANA LUCIA TEIXEIRA
URL:https://cacaucenter.com.br/cursos/aula-gratis-wilton-4/
LOCATION:Cacau Center\, Avenida Pref. José Monteiro 783\, São Vicente\, SP\, Brazil
END:VEVENT
END:VCALENDAR