BEGIN:VCALENDAR
VERSION:2.0
PRODID:-//CACAU CENTER - ECPv6.15.11//NONSGML v1.0//EN
CALSCALE:GREGORIAN
METHOD:PUBLISH
X-WR-CALNAME:CACAU CENTER
X-ORIGINAL-URL:https://cacaucenter.com.br
X-WR-CALDESC:Eventos para CACAU CENTER
REFRESH-INTERVAL;VALUE=DURATION:PT1H
X-Robots-Tag:noindex
X-PUBLISHED-TTL:PT1H
BEGIN:VTIMEZONE
TZID:America/Sao_Paulo
BEGIN:STANDARD
TZOFFSETFROM:-0300
TZOFFSETTO:-0300
TZNAME:-03
DTSTART:20250101T000000
END:STANDARD
END:VTIMEZONE
BEGIN:VEVENT
DTSTART;TZID=America/Sao_Paulo:20260409T100000
DTEND;TZID=America/Sao_Paulo:20260409T120000
DTSTAMP:20260423T143103
CREATED:20260329T120417Z
LAST-MODIFIED:20260329T120417Z
UID:6928-1775728800-1775736000@cacaucenter.com.br
SUMMARY:AULA GRÁTIS MAVALÉRIO
DESCRIPTION:AULA ESPECIAL MAVALÉRIO – LEMBRANCINHAS PARA O DIA DAS MÃES. Você quer aprender a produzir lembrancinhas delicadas\, lucrativas e com acabamento profissional para vender muito no Dia das Mães? Preparei uma aula prática e exclusiva utilizando produtos da Mavalério\, onde você vai aprender técnicas que realmente valorizam seu produto e aumentam sua margem de lucro.\nCHEF ELIZANGELA ALDÁ
URL:https://cacaucenter.com.br/cursos/aula-gratis-mavalerio-8/
LOCATION:Cacau Center\, Avenida Pref. José Monteiro 783\, São Vicente\, SP\, Brazil
END:VEVENT
BEGIN:VEVENT
DTSTART;TZID=America/Sao_Paulo:20260409T140000
DTEND;TZID=America/Sao_Paulo:20260409T170000
DTSTAMP:20260423T143103
CREATED:20260329T120548Z
LAST-MODIFIED:20260329T120548Z
UID:6930-1775743200-1775754000@cacaucenter.com.br
SUMMARY:AULA GRÁTIS NELISUL
DESCRIPTION:VOCÊ QUER FAZER UM DOCE E AINDA NÃO FICAR COM O PESO NA CONSCIÊNCIA? Então venha comigo e com a NELISUL aprender CHEESECAKE CAKE FIT\, pois nossos preparos têm 70% de frutas e só 30% de açúcar que vai deixar todos os seus clientes e amigos querendo mais. E o melhor vão comer e não vão ficar com peso na consciência. Não fique de fora! Estamos te esperando!\nCHEF RICARDO GALHARDO
URL:https://cacaucenter.com.br/cursos/aula-gratis-nelisul-7/
LOCATION:Cacau Center\, Avenida Pref. José Monteiro 783\, São Vicente\, SP\, Brazil
END:VEVENT
END:VCALENDAR