BEGIN:VCALENDAR
VERSION:2.0
PRODID:-//CACAU CENTER - ECPv6.15.11//NONSGML v1.0//EN
CALSCALE:GREGORIAN
METHOD:PUBLISH
X-ORIGINAL-URL:https://cacaucenter.com.br
X-WR-CALDESC:Eventos para CACAU CENTER
REFRESH-INTERVAL;VALUE=DURATION:PT1H
X-Robots-Tag:noindex
X-PUBLISHED-TTL:PT1H
BEGIN:VTIMEZONE
TZID:America/Sao_Paulo
BEGIN:STANDARD
TZOFFSETFROM:-0300
TZOFFSETTO:-0300
TZNAME:-03
DTSTART:20250101T000000
END:STANDARD
END:VTIMEZONE
BEGIN:VEVENT
DTSTART;TZID=America/Sao_Paulo:20260427T140000
DTEND;TZID=America/Sao_Paulo:20260427T170000
DTSTAMP:20260423T143114
CREATED:20260329T122634Z
LAST-MODIFIED:20260329T122634Z
UID:6959-1777298400-1777309200@cacaucenter.com.br
SUMMARY:AULA GRÁTIS ARCOLOR
DESCRIPTION:AULA ESPECIAL DIA DAS MÃES!!! Que tal aprender a fazer um bolo decorado incrível para encantar e lucrar neste Dia das Mães? Nessa aula\, você vai aprender tudo do zero: Massa perfeita\, Recheios deliciosos\, Técnicas de decoração que fazem toda a diferença. Um bolo lindo\, sofisticado e ideal para vendas ou para surpreender nessa data tão especial! Perfeito para quem quer: Aprender na prática\, criar bolos valorizados\, aumentar a renda no Dia das Mães. Vagas limitadas! Garanta já a sua e venha arrasar nas suas produções. CHEF DALVA BAIROS
URL:https://cacaucenter.com.br/cursos/aula-gratis-arcolor-7/
LOCATION:Cacau Center\, Avenida Pref. José Monteiro 783\, São Vicente\, SP\, Brazil
END:VEVENT
END:VCALENDAR