BEGIN:VCALENDAR
VERSION:2.0
PRODID:-//CACAU CENTER - ECPv6.15.11//NONSGML v1.0//EN
CALSCALE:GREGORIAN
METHOD:PUBLISH
X-WR-CALNAME:CACAU CENTER
X-ORIGINAL-URL:https://cacaucenter.com.br
X-WR-CALDESC:Eventos para CACAU CENTER
REFRESH-INTERVAL;VALUE=DURATION:PT1H
X-Robots-Tag:noindex
X-PUBLISHED-TTL:PT1H
BEGIN:VTIMEZONE
TZID:America/Sao_Paulo
BEGIN:STANDARD
TZOFFSETFROM:-0300
TZOFFSETTO:-0300
TZNAME:-03
DTSTART:20240101T000000
END:STANDARD
END:VTIMEZONE
BEGIN:VEVENT
DTSTART;TZID=America/Sao_Paulo:20250815T140000
DTEND;TZID=America/Sao_Paulo:20250815T170000
DTSTAMP:20260424T033926
CREATED:20250729T134224Z
LAST-MODIFIED:20250729T134224Z
UID:6341-1755266400-1755277200@cacaucenter.com.br
SUMMARY:AULA PARTICULAR R$60\,00 Bolos Caseiros Diet: Sabor e Carinho Sem Açúcar!
DESCRIPTION:AULA PARTICULAR R$60\,00 Bolos Caseiros Diet: Sabor e Carinho Sem Açúcar! \nDescubra como preparar bolos caseiros deliciosos e saudáveis\, sem abrir mão do sabor! No cardápio da aula:\nCenoura com cobertura de chocolate diet\nBrigadeiro cremoso sem açúcar\nPaçoca fofinha com toque caseiro\nLaranja leve e aromática\nE um especial: Bolo de baunilha recheado com frutas vermelhas!\nPerfeitos para vender\, presentear ou se deliciar sem culpa!\nVem aprender receitas que abraçam no sabor e cuidam da saúde!\nCHEF GIOSUE RIBEIRO
URL:https://cacaucenter.com.br/cursos/aula-particular-r6000-bolos-caseiros-diet-sabor-e-carinho-sem-acucar/
LOCATION:Cacau Center\, Avenida Pref. José Monteiro 783\, São Vicente\, SP\, Brazil
END:VEVENT
BEGIN:VEVENT
DTSTART;TZID=America/Sao_Paulo:20250816T100000
DTEND;TZID=America/Sao_Paulo:20250816T130000
DTSTAMP:20260424T033926
CREATED:20250729T134439Z
LAST-MODIFIED:20250729T134439Z
UID:6343-1755338400-1755349200@cacaucenter.com.br
SUMMARY:AULA PARTICULAR OFICINA PROMOCIONAL R$50\,00 MINI COFFEE BREAK – LUCRATIVO
DESCRIPTION:AULA PARTICULAR OFICINA PROMOCIONAL R$50\,00 MINI COFFEE BREAK – LUCRATIVO \nMINI COFFEE BREAK – LUCRATIVO. Desperte o empreendedorismo Culinário com nossas aulas oficina de ‘Coffee Breaks Lucrativos: De Sabores a Oportunidades!!! Nesta jornada gastronômica\, você não apenas aprimorará suas habilidades na criação de coffee breaks irresistíveis\, mas também desvendará estratégias para transformar cada evento em uma fonte doce de renda extra. De reuniões corporativas a celebrações especiais como: chá de revelação e chá de cozinha. Aprenda a encantar os seus clientes\, oferecer experiências únicas e construir um negócio de sucesso em cada serviço prestado. Trazer pote para transporte.\nCHEF ALEXANDRE CANADÁ
URL:https://cacaucenter.com.br/cursos/aula-particular-oficina-promocional-r5000-mini-coffee-break-lucrativo/
LOCATION:Cacau Center\, Avenida Pref. José Monteiro 783\, São Vicente\, SP\, Brazil
END:VEVENT
BEGIN:VEVENT
DTSTART;TZID=America/Sao_Paulo:20250816T160000
DTEND;TZID=America/Sao_Paulo:20250816T190000
DTSTAMP:20260424T033926
CREATED:20250729T134517Z
LAST-MODIFIED:20250729T134517Z
UID:6345-1755360000-1755370800@cacaucenter.com.br
SUMMARY:AULA PARTICULAR OFICINA PROMOCIONAL R$50\,00 MINI COFFEE BREAK – LUCRATIVO
DESCRIPTION:AULA PARTICULAR OFICINA PROMOCIONAL R$50\,00 MINI COFFEE BREAK – LUCRATIVO \nMINI COFFEE BREAK – LUCRATIVO. Desperte o empreendedorismo Culinário com nossas aulas oficina de ‘Coffee Breaks Lucrativos: De Sabores a Oportunidades!!! Nesta jornada gastronômica\, você não apenas aprimorará suas habilidades na criação de coffee breaks irresistíveis\, mas também desvendará estratégias para transformar cada evento em uma fonte doce de renda extra. De reuniões corporativas a celebrações especiais como: chá de revelação e chá de cozinha. Aprenda a encantar os seus clientes\, oferecer experiências únicas e construir um negócio de sucesso em cada serviço prestado. Trazer pote para transporte.\nCHEF ALEXANDRE CANADÁ
URL:https://cacaucenter.com.br/cursos/aula-particular-oficina-promocional-r5000-mini-coffee-break-lucrativo-2/
LOCATION:Cacau Center\, Avenida Pref. José Monteiro 783\, São Vicente\, SP\, Brazil
END:VEVENT
BEGIN:VEVENT
DTSTART;TZID=America/Sao_Paulo:20250818T140000
DTEND;TZID=America/Sao_Paulo:20250818T170000
DTSTAMP:20260424T033926
CREATED:20250729T134737Z
LAST-MODIFIED:20250729T134737Z
UID:6347-1755525600-1755536400@cacaucenter.com.br
SUMMARY:AULA GRÁTIS ICEBERG FAÇA & VENDA PÃO DE MEL DECORADOS
DESCRIPTION:AULA GRÁTIS ICEBERG FAÇA & VENDA PÃO DE MEL DECORADOS \nVenha Aprender massa\, recheio e como decorar e finalizar seu pão de mel lindamente. Seu clientes vão amar utilizando os produtos Iceberg! \nIMPERDÍVEL.\nCHEF CHRYSTHIE AUDI
URL:https://cacaucenter.com.br/cursos/aula-gratis-iceberg-faca-venda-pao-de-mel-decorados/
LOCATION:Cacau Center\, Avenida Pref. José Monteiro 783\, São Vicente\, SP\, Brazil
END:VEVENT
BEGIN:VEVENT
DTSTART;TZID=America/Sao_Paulo:20250819T140000
DTEND;TZID=America/Sao_Paulo:20250819T170000
DTSTAMP:20260424T033926
CREATED:20250729T134838Z
LAST-MODIFIED:20250729T134838Z
UID:6349-1755612000-1755622800@cacaucenter.com.br
SUMMARY:AULA GRÁTIS GRAN FINALE (FLEISCHMANN) BOLO FONDUE (CASEIRINHO)
DESCRIPTION:AULA GRÁTIS GRAN FINALE (FLEISCHMANN)\nBOLO FONDUE (CASEIRINHO) \nNessa aula iremos fazer um delicioso bolo para vocês venderem o ano todo. Muitas dicas tudo feito com os produtos GRAN FINALE. Venha participe você vai amar.\nCHEF DOUGLAS SANTOS
URL:https://cacaucenter.com.br/cursos/aula-gratis-gran-finale-fleischmann-bolo-fondue-caseirinho/
LOCATION:SP
END:VEVENT
BEGIN:VEVENT
DTSTART;TZID=America/Sao_Paulo:20250826T100000
DTEND;TZID=America/Sao_Paulo:20250826T130000
DTSTAMP:20260424T033926
CREATED:20250729T140541Z
LAST-MODIFIED:20250729T140541Z
UID:6365-1756202400-1756213200@cacaucenter.com.br
SUMMARY:AULA GRÁTIS ADIMIX SONHOS
DESCRIPTION:AULA GRÁTIS ADIMIX SONHOS \nJá conhece os produtos de panificação e confeitaria da Adimix?\nSão ótimos fáceis de manipular e tornam sua vida na cozinha muito mais prática. E para te provar isso quero te convidar a participar da nossa aula oficina de Sonhos com o produto Adimix.\nCHEF ALEXANDRE CANADÁ
URL:https://cacaucenter.com.br/cursos/aula-gratis-adimix-sonhos/
LOCATION:Cacau Center\, Avenida Pref. José Monteiro 783\, São Vicente\, SP\, Brazil
END:VEVENT
BEGIN:VEVENT
DTSTART;TZID=America/Sao_Paulo:20250826T140000
DTEND;TZID=America/Sao_Paulo:20250826T170000
DTSTAMP:20260424T033926
CREATED:20250729T140712Z
LAST-MODIFIED:20250729T140712Z
UID:6367-1756216800-1756227600@cacaucenter.com.br
SUMMARY:AULA PARTICULAR OFICINA PROMOCIONAL R$30\,00  FESTIVAL DE PÃES DE BATATA
DESCRIPTION:AULA PARTICULAR OFICINA PROMOCIONAL R$30\,00 \nFESTIVAL DE PÃES DE BATATA \nFaremos Pães de Batata Recheados e Tradicional. \nTudo para o seu faça e venda\, passo a passo com quem entende do assunto. \nVenha e participe! Trazer pote para transporte.\nCHEF ALEXANDRE CANADÁ
URL:https://cacaucenter.com.br/cursos/aula-particular-oficina-promocional-r3000-festival-de-paes-de-batata/
LOCATION:Cacau Center\, Avenida Pref. José Monteiro 783\, São Vicente\, SP\, Brazil
END:VEVENT
BEGIN:VEVENT
DTSTART;TZID=America/Sao_Paulo:20250827T100000
DTEND;TZID=America/Sao_Paulo:20250827T130000
DTSTAMP:20260424T033926
CREATED:20250729T141025Z
LAST-MODIFIED:20250729T141025Z
UID:6369-1756288800-1756299600@cacaucenter.com.br
SUMMARY:AULA GRÁTIS DABELLA AULA INCRÍVEL!
DESCRIPTION:AULA GRÁTIS DABELLA AULA INCRÍVEL! \nNesta aula você vai aprender Choux Craquelim recheados\ncom Musse de Fratello. \nAula imperdível para o seu faça e venda\, lucro certo.\nTudo com Pasta e Recheios daBella. Aproveite tire suas dúvidas. \nVocê não vai perder né?\nCHEF WILL MENDES
URL:https://cacaucenter.com.br/cursos/aula-gratis-dabella-aula-incrivel/
LOCATION:Cacau Center\, Avenida Pref. José Monteiro 783\, São Vicente\, SP\, Brazil
END:VEVENT
BEGIN:VEVENT
DTSTART;TZID=America/Sao_Paulo:20250827T140000
DTEND;TZID=America/Sao_Paulo:20250827T170000
DTSTAMP:20260424T033926
CREATED:20250729T141152Z
LAST-MODIFIED:20250729T141152Z
UID:6371-1756303200-1756314000@cacaucenter.com.br
SUMMARY:AULA GRÁTIS SILVER CHEF
DESCRIPTION:AULA GRÁTIS SILVER CHEF\nVOCÊ NÃO PODE PERDER ESSA MEGA AULA COM OS PRODUTOS SILVER. \nVamos fazer um Bolo Espatulado em Buttercream e Escultura de\nIsomalte e Esculturas de Rice Paper. I \nMPERDÍVEL!\nCHEF WILL MENDES
URL:https://cacaucenter.com.br/cursos/aula-gratis-silver-chef/
LOCATION:Cacau Center\, Avenida Pref. José Monteiro 783\, São Vicente\, SP\, Brazil
END:VEVENT
BEGIN:VEVENT
DTSTART;TZID=America/Sao_Paulo:20250828T100000
DTEND;TZID=America/Sao_Paulo:20250828T170000
DTSTAMP:20260424T033926
CREATED:20250729T141243Z
LAST-MODIFIED:20250729T141243Z
UID:6373-1756375200-1756400400@cacaucenter.com.br
SUMMARY:AULA GRÁTIS NESTLÉ
DESCRIPTION:AULA GRÁTIS NESTLÉ\nAULA COM OS PRODUTOS NESTLÉ: \nNesta aula vamos fazer delicioso Bolo Red Velvet com Recheio Nestlé. Com ótimo custo benefício. \nEntão não fique de fora dessa deliciosa aula faça sua inscrição.\nCHEF DORA
URL:https://cacaucenter.com.br/cursos/aula-gratis-nestle/
LOCATION:Cacau Center\, Avenida Pref. José Monteiro 783\, São Vicente\, SP\, Brazil
END:VEVENT
BEGIN:VEVENT
DTSTART;TZID=America/Sao_Paulo:20250828T140000
DTEND;TZID=America/Sao_Paulo:20250828T170000
DTSTAMP:20260424T033926
CREATED:20250729T141340Z
LAST-MODIFIED:20250729T141340Z
UID:6375-1756389600-1756400400@cacaucenter.com.br
SUMMARY:AULA GRÁTIS DONA LELLA
DESCRIPTION:AULA GRÁTIS DONA LELLA\nBOLO ESPATULADO GLOW CAKE: \nVenham aprender a fazer uma massa de cacau incrível\, fácil e prática. Um Brigadeiro gourmet sensacional. E faremos uma linda decoração Glow Cake\, com gliter Dona lela e pérolas. \nCHEF JUNIOR
URL:https://cacaucenter.com.br/cursos/aula-gratis-dona-lella/
LOCATION:Cacau Center\, Avenida Pref. José Monteiro 783\, São Vicente\, SP\, Brazil
END:VEVENT
BEGIN:VEVENT
DTSTART;TZID=America/Sao_Paulo:20250829T100000
DTEND;TZID=America/Sao_Paulo:20250829T170000
DTSTAMP:20260424T033926
CREATED:20250729T141516Z
LAST-MODIFIED:20250729T141516Z
UID:6377-1756461600-1756486800@cacaucenter.com.br
SUMMARY:AULA GRÁTIS BLUESTAR BISCOITOS AMANTEIGADO CRIATIVOS
DESCRIPTION:AULA GRÁTIS BLUESTAR BISCOITOS AMANTEIGADO CRIATIVOS \nVenham aprender a fazer uma massa de Biscoito amanteigado incrível. \nE para você se destacar na confeitaria\, usaremos aplicações com carimbos\, ejetores e stencil. \nEssa aula será imperdível.\nCHEF JUNIOR
URL:https://cacaucenter.com.br/cursos/aula-gratis-bluestar-biscoitos-amanteigado-criativos/
LOCATION:Cacau Center\, Avenida Pref. José Monteiro 783\, São Vicente\, SP\, Brazil
END:VEVENT
BEGIN:VEVENT
DTSTART;TZID=America/Sao_Paulo:20250829T140000
DTEND;TZID=America/Sao_Paulo:20250829T170000
DTSTAMP:20260424T033926
CREATED:20250729T141723Z
LAST-MODIFIED:20250729T141723Z
UID:6379-1756476000-1756486800@cacaucenter.com.br
SUMMARY:AULA GRÁTIS RICH’S CESIBON PÃO DE BATATA 2 FRANGO CREMOSO
DESCRIPTION:AULA GRÁTIS RICH’S CESIBON PÃO DE BATATA 2 FRANGO CREMOSO \nVenham aprender a fazer uma massa de pão de batata maravilhosa\, nessa massa usamos o creme culinário CeSiBon\, que faz toda a diferença. \nUma massa leve e macia. E um recheio de frango cremoso\, com creme culinário.\nCHEF JUNIOR
URL:https://cacaucenter.com.br/cursos/aula-gratis-richs-cesibon-pao-de-batata-2-frango-cremoso/
LOCATION:Cacau Center\, Avenida Pref. José Monteiro 783\, São Vicente\, SP\, Brazil
END:VEVENT
BEGIN:VEVENT
DTSTART;TZID=America/Sao_Paulo:20250830T100000
DTEND;TZID=America/Sao_Paulo:20250830T130000
DTSTAMP:20260424T033926
CREATED:20250729T142043Z
LAST-MODIFIED:20250729T142043Z
UID:6381-1756548000-1756558800@cacaucenter.com.br
SUMMARY:AULA GRÁTIS RICH’S CESIBON ESFIHAS FECHADAS
DESCRIPTION:AULA GRÁTIS RICH’S CESIBON\nESFIHAS FECHADAS 2 \nVenham aprender mais uma receita sensacional\, onde faremos uma massa onde usaremos nosso creme culinário CeSiBon. E um recheio de calabresa cremoso perfeito.\nCHEF JUNIOR
URL:https://cacaucenter.com.br/cursos/aula-gratis-richs-cesibon-esfihas-fechadas/
LOCATION:Cacau Center\, Avenida Pref. José Monteiro 783\, São Vicente\, SP\, Brazil
END:VEVENT
BEGIN:VEVENT
DTSTART;TZID=America/Sao_Paulo:20250901T140000
DTEND;TZID=America/Sao_Paulo:20250901T170000
DTSTAMP:20260424T033926
CREATED:20250830T133512Z
LAST-MODIFIED:20250830T134148Z
UID:6443-1756735200-1756746000@cacaucenter.com.br
SUMMARY:AULA GRÁTIS BARRRY CALLEBAUT (SICAO)
DESCRIPTION:AULA GRÁTIS BARRRY CALLEBAUT (SICAO) \nCOOKIE NY STYLE S’MORES COM CHOCOLATE MEIO AMARGO E MARSHMALLOW. Se cookie já é bom\, recheado com marshmallow e com\numa decoração incrível\, fica melhor ainda. Uma massa\, rica em sabor e com muito chocolate! Venha para essa aula e surpreenda seus clientes. Dicas de embalagem\, validade e muito mais!!! CHEF CARLA ALMEIDA
URL:https://cacaucenter.com.br/cursos/aula-gratis-barrry-callebaut-sicao/
LOCATION:Cacau Center\, Avenida Pref. José Monteiro 783\, São Vicente\, SP\, Brazil
END:VEVENT
BEGIN:VEVENT
DTSTART;TZID=America/Sao_Paulo:20250902T100000
DTEND;TZID=America/Sao_Paulo:20250902T130000
DTSTAMP:20260424T033926
CREATED:20250830T133839Z
LAST-MODIFIED:20250830T134417Z
UID:6445-1756807200-1756818000@cacaucenter.com.br
SUMMARY:AULA GRÁTIS MAVALÉRIO TORTA MERENGUE DE LIMÃO
DESCRIPTION:AULA GRÁTIS MAVALÉRIO TORTA MERENGUE DE LIMÃO \nQuer aprender uma sobremesa clássica\,\nsofisticada e deliciosa? Nesta aula vou ensinar o passo a passo da Torta Merengue de Limão\, feita com produtos Mavalério que garantem sabor\,\npraticidade e acabamento profissional.\nCHEF ELIZANGELA ALDA
URL:https://cacaucenter.com.br/cursos/aula-gratis-mavalerio-torta-merengue-de-limao/
LOCATION:Cacau Center\, Avenida Pref. José Monteiro 783\, São Vicente\, SP\, Brazil
END:VEVENT
BEGIN:VEVENT
DTSTART;TZID=America/Sao_Paulo:20250903T140000
DTEND;TZID=America/Sao_Paulo:20250903T170000
DTSTAMP:20260424T033926
CREATED:20250830T134054Z
LAST-MODIFIED:20250830T134054Z
UID:6447-1756908000-1756918800@cacaucenter.com.br
SUMMARY:AULA GRÁTIS DONA JURA (CACAUFOODS)
DESCRIPTION:AULA GRÁTIS DONA JURA (CACAUFOODS) \nAULA ESPECIAL – BOLO DE CHANTILLY COM TOQUE DOURADO: Aprenda a criar um bolo elegante e sofisticado\, ideal para casamentos\,\nnoivados e aniversários\, com acabamento em chantilly e corante dourado que traz um charme único às suas criações. Nesta aula\, Marcelo Bellini vai compartilhar técnicas de preparo\, cobertura e decoração\, utilizando a qualidade dos produtos Dona Jura e CacauFoods. Dicas exclusivas para acabamento impecável\, truques para textura perfeita do chantilly. Sugestões para deixar seu\nbolo digno de celebrações especiais. Não perca essa oportunidade de transformar suas habilidades e encantar ainda mais seus clientes e convidados!\nCHEF MARCELO BELLINI
URL:https://cacaucenter.com.br/cursos/aula-gratis-dona-jura-cacaufoods-4/
LOCATION:Cacau Center\, Avenida Pref. José Monteiro 783\, São Vicente\, SP\, Brazil
END:VEVENT
BEGIN:VEVENT
DTSTART;TZID=America/Sao_Paulo:20250904T100000
DTEND;TZID=America/Sao_Paulo:20250904T130000
DTSTAMP:20260424T033926
CREATED:20250830T134552Z
LAST-MODIFIED:20250830T134608Z
UID:6449-1756980000-1756990800@cacaucenter.com.br
SUMMARY:AULA GRÁTIS ICEBERG
DESCRIPTION:AULA GRÁTIS ICEBERG \nAULA DE BISCOITOS DECORADOS DO ZERO\nJá pensou em fazer biscoitos lindos\, saborosos e dignos de vitrine? Nessa aula você vai aprender:\nComo preparar a massa perfeita. O ponto certo para assar sem perder o formato\, Técnicas de decoração passo a passo\, Dicas de embalagem para encantar (e até vender!) Não precisa experiência: é do zero mesmo! Perfeito para quem quer surpreender a família\, ganhar uma renda extra ou começar um novo hobby.\nCHEF CHRYSTHIE AUDI (@tudodepastaamericana)
URL:https://cacaucenter.com.br/cursos/6449/
LOCATION:Cacau Center\, Avenida Pref. José Monteiro 783\, São Vicente\, SP\, Brazil
END:VEVENT
BEGIN:VEVENT
DTSTART;TZID=America/Sao_Paulo:20250904T140000
DTEND;TZID=America/Sao_Paulo:20250904T170000
DTSTAMP:20260424T033926
CREATED:20250830T134859Z
LAST-MODIFIED:20250830T134859Z
UID:6452-1756994400-1757005200@cacaucenter.com.br
SUMMARY:AULA GRÁTIS FAB CONFEITARIA AROMÁTICA
DESCRIPTION:AULA GRÁTIS FAB CONFEITARIA AROMÁTICA \n\nVocê sabia que é possível transformar receitas clássicas em verdadeiras experiências de sabor? Nesta aula vamos explorar o mundo da confeitaria aromática\, criando: Cookies artesanais irresistíveis\, Panetones aromáticos e recheados\nBombas gourmet sofisticadas. Uma oportunidade para aprender técnicas\, segredos e combinações que despertam os sentidos e encantam qualquer mesa. CHEF IURI SENA – @chef.iurisena
URL:https://cacaucenter.com.br/cursos/aula-gratis-fab-confeitaria-aromatica/
LOCATION:Cacau Center\, Avenida Pref. José Monteiro 783\, São Vicente\, SP\, Brazil
END:VEVENT
BEGIN:VEVENT
DTSTART;TZID=America/Sao_Paulo:20250905T140000
DTEND;TZID=America/Sao_Paulo:20250905T170000
DTSTAMP:20260424T033926
CREATED:20250830T135118Z
LAST-MODIFIED:20250830T135118Z
UID:6454-1757080800-1757091600@cacaucenter.com.br
SUMMARY:AULA GRÁTIS NELISUL
DESCRIPTION:AULA GRÁTIS NELISUL\nVENHA APRENDER COMIGO E COM A NELISUL\no bolo CAKE DE VOYAGE e suas variações\, além de aprender este bolo que é uma delícia você\nvai lucrar muito vendendo\, pois o bolo tem uma excelente durabilidade. E para acompanhar um bolinho nada melhor que um GELADO (sorvete caseiro) que fica uma delícia tudo com nosso Preparo de Frutas NELISUL. CHEF RICARDO GALHARDO
URL:https://cacaucenter.com.br/cursos/aula-gratis-nelisul/
LOCATION:Cacau Center\, Avenida Pref. José Monteiro 783\, São Vicente\, SP\, Brazil
END:VEVENT
BEGIN:VEVENT
DTSTART;TZID=America/Sao_Paulo:20250906T100000
DTEND;TZID=America/Sao_Paulo:20250906T130000
DTSTAMP:20260424T033926
CREATED:20250830T135232Z
LAST-MODIFIED:20250830T135232Z
UID:6456-1757152800-1757163600@cacaucenter.com.br
SUMMARY:AULA GRÁTIS OFICINA ADIMIX
DESCRIPTION:AULA GRÁTIS OFICINA ADIMIX \nPão de Leite Condensado & Pão de Açúcar\nVamos conhecer as técnicas\, texturas e segredos do preparo desses pães utilizando o produto ADIMIX\, garantindo maciez\, sabor e praticidade na\nprodução. Prepare-se para colocar a mão na massa e descobrir como transformar ingredientes simples em resultados incríveis!\nCHEF ALEXANDRE CANADÁ
URL:https://cacaucenter.com.br/cursos/aula-gratis-oficina-adimix/
LOCATION:Cacau Center\, Avenida Pref. José Monteiro 783\, São Vicente\, SP\, Brazil
END:VEVENT
BEGIN:VEVENT
DTSTART;TZID=America/Sao_Paulo:20250909T100000
DTEND;TZID=America/Sao_Paulo:20250909T130000
DTSTAMP:20260424T033926
CREATED:20250830T135411Z
LAST-MODIFIED:20250830T135411Z
UID:6458-1757412000-1757422800@cacaucenter.com.br
SUMMARY:AULA GRÁTIS PISTACHINO
DESCRIPTION:AULA GRÁTIS PISTACHINO\nBRIGADEIRO GOURMET RECHEADO com o irresistível creme crocante delicioso da Pistachino. \nNesta aula você vai aprender: Técnicas para o ponto\nperfeito do brigadeiro gourmet. Como rechear e valorizar o doce com textura e sabor diferenciados. Dicas de apresentação e conservação para encantar\nclientes e convidados. CHEF RENATA CARESIA
URL:https://cacaucenter.com.br/cursos/aula-gratis-pistachino/
LOCATION:Cacau Center\, Avenida Pref. José Monteiro 783\, São Vicente\, SP\, Brazil
END:VEVENT
BEGIN:VEVENT
DTSTART;TZID=America/Sao_Paulo:20250909T140000
DTEND;TZID=America/Sao_Paulo:20250909T170000
DTSTAMP:20260424T033926
CREATED:20250830T135531Z
LAST-MODIFIED:20250830T135531Z
UID:6460-1757426400-1757437200@cacaucenter.com.br
SUMMARY:AULA GRÁTIS BWB
DESCRIPTION:AULA GRÁTIS BWB\nAULA ESPECIAL: BOLO BOMBOM PARA LEMBRANCINHA DE FESTA EM GERAL \nVenha aprender a preparar essa delícia que encanta em qualquer ocasião:\nMassa de chocolate super úmida\, Recheio irresistível\, Montagem prática usando formas BWB e embalagens lindas. Perfeito para aniversários\, casamentos\, batizados ou qualquer celebração!\nGaranta já a sua vaga e surpreenda com esse mimo delicioso! CHEF RENATA CARESIA
URL:https://cacaucenter.com.br/cursos/aula-gratis-bwb/
LOCATION:Cacau Center\, Avenida Pref. José Monteiro 783\, São Vicente\, SP\, Brazil
END:VEVENT
BEGIN:VEVENT
DTSTART;TZID=America/Sao_Paulo:20250910T140000
DTEND;TZID=America/Sao_Paulo:20250910T170000
DTSTAMP:20260424T033926
CREATED:20250830T135924Z
LAST-MODIFIED:20250830T135924Z
UID:6462-1757512800-1757523600@cacaucenter.com.br
SUMMARY: AULA GRÁTIS ICEBERG
DESCRIPTION:AULA GRÁTIS ICEBERG\nAULA DE BOLO CENOGRÁFICO – A NOVA TENDÊNCIA LUCRATIVA! \nQuer aprender uma das maiores tendências da confeitaria e ainda transformar isso em lucro? Nesta aula\, você vai descobrir:  Duas formas incríveis de decorar bolos cenográficos. Técnicas práticas para criar peças lindas e encantadoras. Como transformar sua arte em uma fonte de renda extra ou até no seu negócio principal. Não precisa experiência: é passo a passo! Ideal para quem ama confeitaria\, quer aumentar o portfólio ou começar algo novo. CHEF CHRYSTHIE AUDI (@tudodepastaamericana)
URL:https://cacaucenter.com.br/cursos/aula-gratis-iceberg/
LOCATION:Cacau Center\, Avenida Pref. José Monteiro 783\, São Vicente\, SP\, Brazil
END:VEVENT
BEGIN:VEVENT
DTSTART;TZID=America/Sao_Paulo:20250912T100000
DTEND;TZID=America/Sao_Paulo:20250912T130000
DTSTAMP:20260424T033926
CREATED:20250830T140031Z
LAST-MODIFIED:20250830T140031Z
UID:6464-1757671200-1757682000@cacaucenter.com.br
SUMMARY:AULA GRÁTIS ADIMIX
DESCRIPTION:AULA GRÁTIS ADIMIX\nAULA ESPECIAL DE ROCAMBOLE \nAprenda todos os segredos para preparar rocamboles fofinhos\, perfeitos e irresistíveis\, utilizando os recheios Adimix que garantem sabor\, praticidade e qualidade profissional. Massa macia\ne estruturada\, que não quebra ao enrolar. Você vai amar. Faça já sua inscrição. CHEFJORDAN
URL:https://cacaucenter.com.br/cursos/aula-gratis-adimix/
LOCATION:Cacau Center\, Avenida Pref. José Monteiro 783\, São Vicente\, SP\, Brazil
END:VEVENT
BEGIN:VEVENT
DTSTART;TZID=America/Sao_Paulo:20250912T140000
DTEND;TZID=America/Sao_Paulo:20250912T170000
DTSTAMP:20260424T033926
CREATED:20250830T140136Z
LAST-MODIFIED:20250830T140136Z
UID:6466-1757685600-1757696400@cacaucenter.com.br
SUMMARY:AULA GRÁTIS ADIMIX
DESCRIPTION:AULA GRÁTIS ADIMIX\nAULA ESPECIAL DE MINI PORÇÕES GOURMET \nSurpreenda seus clientes e encante em qualquer ocasião! Aprenda a preparar mini delícias irresistíveis\, perfeitas para festas\, eventos ou para aumentar o cardápio do seu negócio. CHEFJORDAN
URL:https://cacaucenter.com.br/cursos/aula-gratis-adimix-2/
LOCATION:Cacau Center\, Avenida Pref. José Monteiro 783\, São Vicente\, SP\, Brazil
END:VEVENT
BEGIN:VEVENT
DTSTART;TZID=America/Sao_Paulo:20250913T140000
DTEND;TZID=America/Sao_Paulo:20250913T170000
DTSTAMP:20260424T033926
CREATED:20250830T140439Z
LAST-MODIFIED:20250830T140704Z
UID:6468-1757772000-1757782800@cacaucenter.com.br
SUMMARY:AULA PARTICULAR -R$70\,00 HAMBÚRGUER ARTESANAL
DESCRIPTION:AULA PARTICULAR -R$70\,00\nHAMBÚRGUER ARTESANAL \nQuer aprender como se faz um verdadeiro Hambúrguer Artesanal? Nesta aula vamos ensinar tudo que você precisa saber para montar um delicioso lanche com suas combinações e\ntemperos diferentes e variados.Saia da aula apto a vender aprenda tudo sobre validade\, manipulação\, aprenda também a fazer um blend de carnes\ndiferenciado que vai agradar até o mais crítico paladar. Não fique de fora. Venha provar e aprender tudo o que precisa sobre Lanches Artesanais.\nCHEF DYEGO PIGINI
URL:https://cacaucenter.com.br/cursos/aula-particular-r7000-hamburguer-artesanal/
LOCATION:Cacau Center\, Avenida Pref. José Monteiro 783\, São Vicente\, SP\, Brazil
END:VEVENT
BEGIN:VEVENT
DTSTART;TZID=America/Sao_Paulo:20250916T100000
DTEND;TZID=America/Sao_Paulo:20250916T130000
DTSTAMP:20260424T033926
CREATED:20250830T140928Z
LAST-MODIFIED:20250830T141129Z
UID:6472-1758016800-1758027600@cacaucenter.com.br
SUMMARY:AULA GRÁTIS GUSTOSIA
DESCRIPTION:AULA GRÁTIS GUSTOSIA\nCURSO EXCLUSIVO GUSTOSIA – MORANGO DO AMOR RECHEADO \nAprenda a preparar o irresistível Morango do Amor com o recheio delicioso dos produtos Gustosia. Uma receita apaixonante\, prática e perfeita para encantar\nclientes e aumentar suas vendas! Vagas limitadas garanta já a sua. CHEF MICHAEL LEVINE
URL:https://cacaucenter.com.br/cursos/aula-gratis-gustosia/
LOCATION:Cacau Center\, Avenida Pref. José Monteiro 783\, São Vicente\, SP\, Brazil
END:VEVENT
BEGIN:VEVENT
DTSTART;TZID=America/Sao_Paulo:20250916T140000
DTEND;TZID=America/Sao_Paulo:20250916T170000
DTSTAMP:20260424T033926
CREATED:20250830T141354Z
LAST-MODIFIED:20250830T141354Z
UID:6474-1758031200-1758042000@cacaucenter.com.br
SUMMARY:AULA GRÁTIS GUSTOSIA
DESCRIPTION:AULA GRÁTIS GUSTOSIA\nCURSO DE BOLOS CASEIRINHOS COM OS PRODUTOS GUSTOSIA \nQuer aprender a preparar bolos fofinhos\, saborosos e com aquele gostinho de feito em casa? No nosso curso\, você vai descobrir receitas práticas\, técnicas\nfáceis e o segredo para transformar os produtos Gustosia em bolos irresistíveis para vender ou encantar a família. Aprenda: Massas fofinhas e saborosas\, Recheios e coberturas simples e deliciosos. Dicas para conservar e vender\nseus bolos. Perfeito para quem quer empreender na confeitaria ou simplesmente adoçar os momentos em família! Vagas limitadas – garanta já a\nsua! CHEF MICHAEL LEVINE
URL:https://cacaucenter.com.br/cursos/aula-gratis-gustosia-2/
LOCATION:Cacau Center\, Avenida Pref. José Monteiro 783\, São Vicente\, SP\, Brazil
END:VEVENT
BEGIN:VEVENT
DTSTART;TZID=America/Sao_Paulo:20250917T100000
DTEND;TZID=America/Sao_Paulo:20250917T130000
DTSTAMP:20260424T033926
CREATED:20250830T142822Z
LAST-MODIFIED:20250830T142822Z
UID:6476-1758103200-1758114000@cacaucenter.com.br
SUMMARY:AULA GRÁTIS WILTON
DESCRIPTION:AULA GRÁTIS WILTON\nSUPER AULA DE BOLO RETRO! \nNesta aula vamos fazer uma massa deliciosa de baunilha e super fácil de fazer\, um recheio de chocolate tostado com caramelo crocante e uma bela decoração com vários pontos de bicos que\nestá tendo uma grande procura\, então venha aprender a agregar muito mais valor no seu produto.\nCHEF ANA LÚCIA TEIXEIRA (INSTRUTORA WILTON)
URL:https://cacaucenter.com.br/cursos/aula-gratis-wilton/
LOCATION:Cacau Center\, Avenida Pref. José Monteiro 783\, São Vicente\, SP\, Brazil
END:VEVENT
END:VCALENDAR