BEGIN:VCALENDAR
VERSION:2.0
PRODID:-//CACAU CENTER - ECPv6.15.11//NONSGML v1.0//EN
CALSCALE:GREGORIAN
METHOD:PUBLISH
X-WR-CALNAME:CACAU CENTER
X-ORIGINAL-URL:https://cacaucenter.com.br
X-WR-CALDESC:Eventos para CACAU CENTER
REFRESH-INTERVAL;VALUE=DURATION:PT1H
X-Robots-Tag:noindex
X-PUBLISHED-TTL:PT1H
BEGIN:VTIMEZONE
TZID:America/Sao_Paulo
BEGIN:STANDARD
TZOFFSETFROM:-0300
TZOFFSETTO:-0300
TZNAME:-03
DTSTART:20240101T000000
END:STANDARD
END:VTIMEZONE
BEGIN:VEVENT
DTSTART;TZID=America/Sao_Paulo:20251011T100000
DTEND;TZID=America/Sao_Paulo:20251011T140000
DTSTAMP:20260424T004908
CREATED:20250926T221130Z
LAST-MODIFIED:20250926T221130Z
UID:6556-1760176800-1760191200@cacaucenter.com.br
SUMMARY:AULA PARTICULAR -R$70\,00
DESCRIPTION:CURSO DE MASSAS\nFaremos em aula: canelone\, capeleti\, lasanha\, nhoque recheado\, nhoque de batata… molho 4 queijos\, tradicional tomate e bolonhesa tudo fresco feito na hora.\n\nCHEF DYEGO PIGINI
URL:https://cacaucenter.com.br/cursos/aula-particular-r7000/
LOCATION:Cacau Center\, Avenida Pref. José Monteiro 783\, São Vicente\, SP\, Brazil
END:VEVENT
BEGIN:VEVENT
DTSTART;TZID=America/Sao_Paulo:20251014T100000
DTEND;TZID=America/Sao_Paulo:20251014T120000
DTSTAMP:20260424T004908
CREATED:20250926T221329Z
LAST-MODIFIED:20250926T221329Z
UID:6559-1760436000-1760443200@cacaucenter.com.br
SUMMARY:AULA GRÁTIS ARCOLOR
DESCRIPTION:CURSO ESPECIAL DE DECORAÇÃO DE\nBOLO NO TEMA HALLOWEEN EM PASTA AMERICANA. \nCHEF DALVA BAIROS
URL:https://cacaucenter.com.br/cursos/aula-gratis-arcolor-3/
LOCATION:Cacau Center\, Avenida Pref. José Monteiro 783\, São Vicente\, SP\, Brazil
END:VEVENT
BEGIN:VEVENT
DTSTART;TZID=America/Sao_Paulo:20251014T140000
DTEND;TZID=America/Sao_Paulo:20251014T170000
DTSTAMP:20260424T004908
CREATED:20250926T221452Z
LAST-MODIFIED:20250926T221452Z
UID:6562-1760450400-1760461200@cacaucenter.com.br
SUMMARY:AULA GRÁTIS MAGO
DESCRIPTION:BARRINHAS DE TORTA DE LIMÃO E UMA\nIRRESISTÍVEL PALHA ITALIANA COM TRUFA DE MARACUJÁ \nCHEF FABIOLA PORTO
URL:https://cacaucenter.com.br/cursos/aula-gratis-mago-2/
LOCATION:Cacau Center\, Avenida Pref. José Monteiro 783\, São Vicente\, SP\, Brazil
END:VEVENT
BEGIN:VEVENT
DTSTART;TZID=America/Sao_Paulo:20251015T140000
DTEND;TZID=America/Sao_Paulo:20251015T170000
DTSTAMP:20260424T004908
CREATED:20250926T221659Z
LAST-MODIFIED:20250926T221659Z
UID:6564-1760536800-1760547600@cacaucenter.com.br
SUMMARY:AULA GRÁTIS HARALD
DESCRIPTION:CURSO TORTAS RENTÁVEIS  Aprenda a criar tortas irresistíveis\, com alto valor de venda e custo acessível\, utilizando produtos\nHarald. Técnicas práticas\, recheios que encantam e acabamento profissional para lucrar muito mais! \nCHEF CARLA COSTA
URL:https://cacaucenter.com.br/cursos/aula-gratis-harald-2/
LOCATION:Cacau Center\, Avenida Pref. José Monteiro 783\, São Vicente\, SP\, Brazil
END:VEVENT
BEGIN:VEVENT
DTSTART;TZID=America/Sao_Paulo:20251016T140000
DTEND;TZID=America/Sao_Paulo:20251016T170000
DTSTAMP:20260424T004908
CREATED:20250926T221912Z
LAST-MODIFIED:20250926T221912Z
UID:6567-1760623200-1760634000@cacaucenter.com.br
SUMMARY:AULA PARTICULAR - R$60\,00
DESCRIPTION:AULA ESPECIAL DE PÃES ZERO \nNesta aula\, você vai descobrir que é possível unir praticidade e bem-estar\, aprendendo receitas que vão transformar sua rotina. O que você vai aprender:\nPão low carb de frango com apenas 5 ingredientes – simples e nutritivo.\nPão de coco – macio e levemente adocicado.\nPão de batata – fofinho e irresistível.\nUm Panetone Especial\, saudável e cheio de sabor.\nObs: pagamento e inscrições antecipados \nCHEF GIOSUE RIBEIRO
URL:https://cacaucenter.com.br/cursos/aula-particular-r6000/
LOCATION:Cacau Center\, Avenida Pref. José Monteiro 783\, São Vicente\, SP\, Brazil
END:VEVENT
BEGIN:VEVENT
DTSTART;TZID=America/Sao_Paulo:20251017T140000
DTEND;TZID=America/Sao_Paulo:20251017T170000
DTSTAMP:20260424T004908
CREATED:20250926T222046Z
LAST-MODIFIED:20250926T222046Z
UID:6570-1760709600-1760720400@cacaucenter.com.br
SUMMARY:AULA GRÁTIS MASTER MARTINI
DESCRIPTION:CURSO FESTIVAL DE BOLOS CASEIRINHOS\n\nReceitas práticas\, fofinhas e irresistíveis\, feitas com toda qualidade Master Martini.\n\nCHEF EDILENE
URL:https://cacaucenter.com.br/cursos/aula-gratis-master-martini/
LOCATION:Cacau Center\, Avenida Pref. José Monteiro 783\, São Vicente\, SP\, Brazil
END:VEVENT
BEGIN:VEVENT
DTSTART;TZID=America/Sao_Paulo:20251018T100000
DTEND;TZID=America/Sao_Paulo:20251018T140000
DTSTAMP:20260424T004908
CREATED:20250926T222301Z
LAST-MODIFIED:20250926T222301Z
UID:6573-1760781600-1760796000@cacaucenter.com.br
SUMMARY:AULA PARTICULAR - R$60\,00
DESCRIPTION:AULA IMPERDÍVEL DE CONFEITARIA\n\nQuer aprender a fazer bolos que ENCANTAM no sabor e ARRASAM na decoração?\nMassa — estruturada e saborosa\, recheio de mascarpone de pistache com uma redução de morango.\nCobertura de chantininho — decoração moderna Ideal pra quem quer vender\, presentear ou brilhar nas comemorações! PAGAMENTO INSCRIÇÕES ANTECIPADAS.\n\nCHEF BRUNA REIS
URL:https://cacaucenter.com.br/cursos/aula-particular-r6000-2/
LOCATION:Cacau Center\, Avenida Pref. José Monteiro 783\, São Vicente\, SP\, Brazil
END:VEVENT
BEGIN:VEVENT
DTSTART;TZID=America/Sao_Paulo:20251021T100000
DTEND;TZID=America/Sao_Paulo:20251021T120000
DTSTAMP:20260424T004908
CREATED:20250926T222451Z
LAST-MODIFIED:20250926T222451Z
UID:6575-1761040800-1761048000@cacaucenter.com.br
SUMMARY:AULA GRÁTIS MAVALÉRIO
DESCRIPTION:AULA ESPECIAL fatias de morango irresistíveis.\n\nUma sobremesa prática\, deliciosa e perfeita para encantar em qualquer ocasião e um ÓTIMO FAÇA E VENDA!\n\nCHEF ELIZANGELA ALDÁ
URL:https://cacaucenter.com.br/cursos/aula-gratis-mavalerio/
LOCATION:Cacau Center\, Avenida Pref. José Monteiro 783\, São Vicente\, SP\, Brazil
END:VEVENT
BEGIN:VEVENT
DTSTART;TZID=America/Sao_Paulo:20251021T140000
DTEND;TZID=America/Sao_Paulo:20251021T170000
DTSTAMP:20260424T004908
CREATED:20250926T222625Z
LAST-MODIFIED:20250926T222625Z
UID:6578-1761055200-1761066000@cacaucenter.com.br
SUMMARY:AULA GRÁTIS NELISUL
DESCRIPTION:MANJAR DOS DEUSES COM NOSSOS PREPARO DE FRUTAS \nalém de aprender está sobremesa para o Natal e Ano Novo\, vou ensinar também COCADA e suas variações. \nCHEF RICARDO GALHARDO
URL:https://cacaucenter.com.br/cursos/aula-gratis-nelisul-2/
LOCATION:Cacau Center\, Avenida Pref. José Monteiro 783\, São Vicente\, SP\, Brazil
END:VEVENT
BEGIN:VEVENT
DTSTART;TZID=America/Sao_Paulo:20251022T100000
DTEND;TZID=America/Sao_Paulo:20251022T120000
DTSTAMP:20260424T004908
CREATED:20250926T222823Z
LAST-MODIFIED:20250926T223012Z
UID:6581-1761127200-1761134400@cacaucenter.com.br
SUMMARY:AULA PROMOCIONAL GENUINE
DESCRIPTION:CURSO PRÁTICO DE TÉCNICA DE TEMPERAGEM \nNesse curso você irá aprender na prática a trabalhar de forma correta com chocolate nobre Genuíne. \nCada aluno irá trabalhar e saborizar seu chocolate. Toda a produção feita em aula será levada para casa. Limite de 15 alunos. \nInvestimento de R$ 5\,00 antecipado diretamente no CENTRO CULINÁRIO até dia 20 de outubro. \nCHEFJHESSIKA HENRIQUES
URL:https://cacaucenter.com.br/cursos/aula-promocional-genuine/
LOCATION:Cacau Center\, Avenida Pref. José Monteiro 783\, São Vicente\, SP\, Brazil
END:VEVENT
BEGIN:VEVENT
DTSTART;TZID=America/Sao_Paulo:20251022T140000
DTEND;TZID=America/Sao_Paulo:20251022T170000
DTSTAMP:20260424T004908
CREATED:20250926T223304Z
LAST-MODIFIED:20250926T223304Z
UID:6584-1761141600-1761152400@cacaucenter.com.br
SUMMARY:AULA PARTICULAR -> R$ 40\,00 PIPOCA GOURMET 
DESCRIPTION:Pipocas gourmet é um produto de alta validade\,\nlucrativo e versátil. Nesse curso você irá aprender a trabalhar com 2 tipos de caramelos\, 3 sabores de pipocas e um bônus: pipoca no pote! A pipoca de colher que está super em alta atualmente.\n\nCHEFJHESSIKA HENRIQUES
URL:https://cacaucenter.com.br/cursos/aula-particular-r-4000-pipoca-gourmet/
LOCATION:Cacau Center\, Avenida Pref. José Monteiro 783\, São Vicente\, SP\, Brazil
END:VEVENT
BEGIN:VEVENT
DTSTART;TZID=America/Sao_Paulo:20251023T140000
DTEND;TZID=America/Sao_Paulo:20251023T170000
DTSTAMP:20260424T004908
CREATED:20250926T223421Z
LAST-MODIFIED:20250926T223421Z
UID:6587-1761228000-1761238800@cacaucenter.com.br
SUMMARY:AULA GRÁTIS DONA JURA (CACAUFOODS)
DESCRIPTION:DUAS SOBREMESAS \nTorta de morango e torta mix de frutas\, utilizando o novo creme de confeiteiro a frio. \nCHEF MARCELO BELLINI
URL:https://cacaucenter.com.br/cursos/aula-gratis-dona-jura-cacaufoods-7/
LOCATION:Cacau Center\, Avenida Pref. José Monteiro 783\, São Vicente\, SP\, Brazil
END:VEVENT
BEGIN:VEVENT
DTSTART;TZID=America/Sao_Paulo:20251024T100000
DTEND;TZID=America/Sao_Paulo:20251024T120000
DTSTAMP:20260424T004908
CREATED:20250926T223542Z
LAST-MODIFIED:20250926T223542Z
UID:6589-1761300000-1761307200@cacaucenter.com.br
SUMMARY:AULA GRÁTIS ADIMIX
DESCRIPTION:ÉCLAIRS PERFEITOS \nVocê vai aprender: Preparo da massa ideal. Recheios deliciosos usando os recheios\, coberturas e bases da Adimix. \nCHEF JORDAN
URL:https://cacaucenter.com.br/cursos/aula-gratis-adimix-4/
LOCATION:Cacau Center\, Avenida Pref. José Monteiro 783\, São Vicente\, SP\, Brazil
END:VEVENT
BEGIN:VEVENT
DTSTART;TZID=America/Sao_Paulo:20251024T140000
DTEND;TZID=America/Sao_Paulo:20251024T170000
DTSTAMP:20260424T004908
CREATED:20250926T223654Z
LAST-MODIFIED:20250926T223654Z
UID:6592-1761314400-1761325200@cacaucenter.com.br
SUMMARY:AULA GRÁTIS ADIMIX
DESCRIPTION:MACARONS \nDescubra como transformar delicadeza e sabor em negócios lucrativos com a linha completa de produtos Adimix. \nCHEF JORDAN
URL:https://cacaucenter.com.br/cursos/aula-gratis-adimix-5/
LOCATION:Cacau Center\, Avenida Pref. José Monteiro 783\, São Vicente\, SP\, Brazil
END:VEVENT
BEGIN:VEVENT
DTSTART;TZID=America/Sao_Paulo:20251028T140000
DTEND;TZID=America/Sao_Paulo:20251028T170000
DTSTAMP:20260424T004908
CREATED:20250926T223830Z
LAST-MODIFIED:20250926T223830Z
UID:6595-1761660000-1761670800@cacaucenter.com.br
SUMMARY:AULA GRÁTIS DONA LELLA
DESCRIPTION:TÉCNICAS DO BOLO ESPATULADO \nVenham aprender uma massa perfeita\, um recheio incrível de Sonho de valsa artesanal\, e as Técnicas necessárias para ter\, um bolo lindo e perfeito. Temperatura ideal do chantilly\, velocidade e ponto correto. \nCHEF JUNIOR
URL:https://cacaucenter.com.br/cursos/aula-gratis-dona-lella-2/
LOCATION:Cacau Center\, Avenida Pref. José Monteiro 783\, São Vicente\, SP\, Brazil
END:VEVENT
BEGIN:VEVENT
DTSTART;TZID=America/Sao_Paulo:20251029T100000
DTEND;TZID=America/Sao_Paulo:20251029T120000
DTSTAMP:20260424T004908
CREATED:20250926T223954Z
LAST-MODIFIED:20250926T223954Z
UID:6598-1761732000-1761739200@cacaucenter.com.br
SUMMARY:AULA GRÁTIS BLUESTAR
DESCRIPTION:SOBREMESA SUPRESA DE UVAS\, NA CAKE BOX E TAÇAS \nVenham aprender a fazer uma massa perfeita\, um Brigadeiro gourmet saboroso. E processo para uma montagem perfeita na cake box e na taça. Para que vocês se destaquem e saiam na frente na confeitaria. \nCHEF JUNIOR
URL:https://cacaucenter.com.br/cursos/aula-gratis-bluestar/
LOCATION:Cacau Center\, Avenida Pref. José Monteiro 783\, São Vicente\, SP\, Brazil
END:VEVENT
BEGIN:VEVENT
DTSTART;TZID=America/Sao_Paulo:20251029T140000
DTEND;TZID=America/Sao_Paulo:20251029T170000
DTSTAMP:20260424T004908
CREATED:20250926T224136Z
LAST-MODIFIED:20250926T224136Z
UID:6601-1761746400-1761757200@cacaucenter.com.br
SUMMARY:AULA GRÁTIS RICH’ CESIBON
DESCRIPTION:GINGERBREAD \nVenham aprender fazer esse biscoito maravilhoso e incrível\, e típico para o final de ano. E o diferencial dessa massa que iremos usar nosso creme culinário CeSiBon doces e salgados\, e você terá o melhor Gingerbread da vida. \nCHEF JUNIOR
URL:https://cacaucenter.com.br/cursos/aula-gratis-rich-cesibon/
LOCATION:Cacau Center\, Avenida Pref. José Monteiro 783\, São Vicente\, SP\, Brazil
END:VEVENT
BEGIN:VEVENT
DTSTART;TZID=America/Sao_Paulo:20251030T140000
DTEND;TZID=America/Sao_Paulo:20251030T170000
DTSTAMP:20260424T004908
CREATED:20250926T224313Z
LAST-MODIFIED:20250926T224313Z
UID:6604-1761832800-1761843600@cacaucenter.com.br
SUMMARY:AULA GRÁTIS RICH’S (CESIBON) 
DESCRIPTION:MORANGOFFE \nReceita diferenciada e saborosa\, nessa minha versão de Morangoffe vocês vão aprender a montagem da base\, iremos fazer um creme branco\, e uma finalização perfeita com Nata\, morangos e suspiros. \nCHEF JUNIOR
URL:https://cacaucenter.com.br/cursos/aula-gratis-richs-cesibon-2/
LOCATION:Cacau Center\, Avenida Pref. José Monteiro 783\, São Vicente\, SP\, Brazil
END:VEVENT
BEGIN:VEVENT
DTSTART;TZID=America/Sao_Paulo:20251031T140000
DTEND;TZID=America/Sao_Paulo:20251031T170000
DTSTAMP:20260424T004908
CREATED:20250926T224419Z
LAST-MODIFIED:20250926T224419Z
UID:6606-1761919200-1761930000@cacaucenter.com.br
SUMMARY:AULA GRÁTIS NESTLÉ
DESCRIPTION:CURSO DE RECHEIOS PARA PANETONES\n\nSem precisar fazer a massa\, você vai descobrir técnicas práticas e\nrecheios deliciosos para encantar seus clientes neste Natal.\n\nChef Dora
URL:https://cacaucenter.com.br/cursos/aula-gratis-nestle-3/
LOCATION:Cacau Center\, Avenida Pref. José Monteiro 783\, São Vicente\, SP\, Brazil
END:VEVENT
BEGIN:VEVENT
DTSTART;TZID=America/Sao_Paulo:20251103T100000
DTEND;TZID=America/Sao_Paulo:20251103T120000
DTSTAMP:20260424T004908
CREATED:20251028T185509Z
LAST-MODIFIED:20251028T185509Z
UID:6615-1762164000-1762171200@cacaucenter.com.br
SUMMARY:AULA GRÁTIS BARRY CALLEBAUT (SICAO)
DESCRIPTION:TUFAS NATALINAS COM SICAO BARRY CALLEBAUT. \nAprenda técnicas profissionais\, decorações temáticas e combinações irresistíveis para encantar seus clientes e familiares neste fim de ano. \nCHEF CACO
URL:https://cacaucenter.com.br/cursos/aula-gratis-barry-callebaut-sicao-3/
LOCATION:Cacau Center\, Avenida Pref. José Monteiro 783\, São Vicente\, SP\, Brazil
END:VEVENT
BEGIN:VEVENT
DTSTART;TZID=America/Sao_Paulo:20251103T140000
DTEND;TZID=America/Sao_Paulo:20251103T170000
DTSTAMP:20260424T004908
CREATED:20251028T185756Z
LAST-MODIFIED:20251028T185756Z
UID:6617-1762178400-1762189200@cacaucenter.com.br
SUMMARY:AULA GRÁTIS MAGO
DESCRIPTION:AULA ESPECIAL DE NATAL – TEMA: PANETONES ESPECIAIS DE NATAL. Vamos aprender juntos a preparar: Panetone tradicional \, Chocotone\, Panetone de Pistache e Panetone Salgado. Não percam essa aula deliciosa e cheia de dicas incríveis! Vagas limitadas – garanta já a sua. \nCHEF FABIOLA PORTO
URL:https://cacaucenter.com.br/cursos/aula-gratis-mago-3/
LOCATION:Cacau Center\, Avenida Pref. José Monteiro 783\, São Vicente\, SP\, Brazil
END:VEVENT
BEGIN:VEVENT
DTSTART;TZID=America/Sao_Paulo:20251104T100000
DTEND;TZID=America/Sao_Paulo:20251104T120000
DTSTAMP:20260424T004908
CREATED:20251028T185941Z
LAST-MODIFIED:20251028T190005Z
UID:6620-1762250400-1762257600@cacaucenter.com.br
SUMMARY:AULA GRÁTIS PISTACHINO
DESCRIPTION:CHOCOTONE NATALINO (decoração e recheio ). Nessa aula vamos fazer um recheio delicioso com o melhor creme de pistache com creme suave e aveludado para você arrasar nas festas de final de ano CHEF RENATA CARESIA
URL:https://cacaucenter.com.br/cursos/aula-gratis-pistachino-3/
LOCATION:Cacau Center\, Avenida Pref. José Monteiro 783\, São Vicente\, SP\, Brazil
END:VEVENT
BEGIN:VEVENT
DTSTART;TZID=America/Sao_Paulo:20251104T140000
DTEND;TZID=America/Sao_Paulo:20251104T170000
DTSTAMP:20260424T004908
CREATED:20251028T190148Z
LAST-MODIFIED:20251028T190148Z
UID:6623-1762264800-1762275600@cacaucenter.com.br
SUMMARY:AULA GRÁTIS BWB
DESCRIPTION:Nessa aula vamos fazer um BOLO NATALINO espetacular\, usaremos a placa de acetato para decoração\, faremos massa\, recheio e decoração. Você vai arrasar nas suas festas de final de ano. CHEF RENATA CARESIA
URL:https://cacaucenter.com.br/cursos/aula-gratis-bwb-3/
LOCATION:Cacau Center\, Avenida Pref. José Monteiro 783\, São Vicente\, SP\, Brazil
END:VEVENT
BEGIN:VEVENT
DTSTART;TZID=America/Sao_Paulo:20251105T140000
DTEND;TZID=America/Sao_Paulo:20251105T170000
DTSTAMP:20260424T004908
CREATED:20251028T190349Z
LAST-MODIFIED:20251028T190349Z
UID:6626-1762351200-1762362000@cacaucenter.com.br
SUMMARY: AULA GRÁTIS ICEBERG
DESCRIPTION:Venha para uma deliciosa aula de panetone e venda muito ainda neste Natal\, vamos fazer passo a passo a massa na versão doce e salgada ( essa receita da pra vender o ano todo ) sugestão de recheio e uma decoração pra arrasar. \nCHEF LILI ROMERA
URL:https://cacaucenter.com.br/cursos/aula-gratis-iceberg-3/
LOCATION:Cacau Center\, Avenida Pref. José Monteiro 783\, São Vicente\, SP\, Brazil
END:VEVENT
BEGIN:VEVENT
DTSTART;TZID=America/Sao_Paulo:20251107T140000
DTEND;TZID=America/Sao_Paulo:20251107T170000
DTSTAMP:20260424T004908
CREATED:20251028T190636Z
LAST-MODIFIED:20251028T190636Z
UID:6629-1762524000-1762534800@cacaucenter.com.br
SUMMARY: AULA GRÁTIS FAB!
DESCRIPTION: BOLOTONE PERSONALIZADO (CORES E AROMAS). Nesta aula incrível\, você vai aprender com Fab! a preparar o Bolotone personalizado\, explorando cores\, aromas e combinações irresistíveis que encantam os olhos e o paladar. \nCHEF IURI SENA
URL:https://cacaucenter.com.br/cursos/aula-gratis-fab-2/
LOCATION:Cacau Center\, Avenida Pref. José Monteiro 783\, São Vicente\, SP\, Brazil
END:VEVENT
BEGIN:VEVENT
DTSTART;TZID=America/Sao_Paulo:20251110T100000
DTEND;TZID=America/Sao_Paulo:20251110T120000
DTSTAMP:20260424T004908
CREATED:20251028T190858Z
LAST-MODIFIED:20251028T190858Z
UID:6632-1762768800-1762776000@cacaucenter.com.br
SUMMARY: AULA GRÁTIS OFICINA ADIMIX
DESCRIPTION: PANETONE & CHOCOTONE. Venha participar dessa deliciosa aula especial e aprenda a preparar Panetone Tradicional e Chocotone com os incríveis produtos Adimix. \nCHEF ALEXANDRE CANADÁ
URL:https://cacaucenter.com.br/cursos/aula-gratis-oficina-adimix-2/
LOCATION:Cacau Center\, Avenida Pref. José Monteiro 783\, São Vicente\, SP\, Brazil
END:VEVENT
BEGIN:VEVENT
DTSTART;TZID=America/Sao_Paulo:20251110T140000
DTEND;TZID=America/Sao_Paulo:20251110T170000
DTSTAMP:20260424T004908
CREATED:20251028T191104Z
LAST-MODIFIED:20251028T191104Z
UID:6635-1762783200-1762794000@cacaucenter.com.br
SUMMARY:AULA GRÁTIS OFICINA ADIMIX
DESCRIPTION:PANETONES TRUFADOS COM ADIMIX. Venha aprender a preparar panetones trufados incríveis\, com massa super macia e recheios irresistíveis tudo feito com os produtos Adimix\, que garantem sabor\, praticidade e qualidade. \nCHEF ALEXANDRE CANADÁ
URL:https://cacaucenter.com.br/cursos/aula-gratis-oficina-adimix-3/
LOCATION:Cacau Center\, Avenida Pref. José Monteiro 783\, São Vicente\, SP\, Brazil
END:VEVENT
BEGIN:VEVENT
DTSTART;TZID=America/Sao_Paulo:20251111T140000
DTEND;TZID=America/Sao_Paulo:20251111T170000
DTSTAMP:20260424T004908
CREATED:20251028T191257Z
LAST-MODIFIED:20251028T191257Z
UID:6638-1762869600-1762880400@cacaucenter.com.br
SUMMARY:AULA GRÁTIS NELISUL
DESCRIPTION:Vvamos te ensinar PATÊS com nosso preparo de frutas para deixar todos com água na boca nas festas de fim de ano e nos aniversários\, para fechar com chave de ouro um PUDIM DE TAPIOCA com preparos de frutas NELISUL. \nCHEF RICARDO GALHARDO
URL:https://cacaucenter.com.br/cursos/aula-gratis-nelisul-3/
LOCATION:Cacau Center\, Avenida Pref. José Monteiro 783\, São Vicente\, SP\, Brazil
END:VEVENT
BEGIN:VEVENT
DTSTART;TZID=America/Sao_Paulo:20251112T100000
DTEND;TZID=America/Sao_Paulo:20251112T140000
DTSTAMP:20260424T004908
CREATED:20251028T191549Z
LAST-MODIFIED:20251028T191549Z
UID:6641-1762941600-1762956000@cacaucenter.com.br
SUMMARY:AULA GRÁTIS ADIMIX
DESCRIPTION: Venha aprender a fazer o encantador Bolo Casinha do Papai Noel Uma criação natalina cheia de charme e sabor\, feita com os produtos Adimix que garantem textura\, praticidade e um resultado incrível. \nCHEF JORDAN
URL:https://cacaucenter.com.br/cursos/aula-gratis-adimix-6/
LOCATION:Cacau Center\, Avenida Pref. José Monteiro 783\, São Vicente\, SP\, Brazil
END:VEVENT
BEGIN:VEVENT
DTSTART;TZID=America/Sao_Paulo:20251112T140000
DTEND;TZID=America/Sao_Paulo:20251112T170000
DTSTAMP:20260424T004908
CREATED:20251028T191735Z
LAST-MODIFIED:20251028T191735Z
UID:6644-1762956000-1762966800@cacaucenter.com.br
SUMMARY:AULA GRÁTIS DONA JURA (CACAUFOODS)
DESCRIPTION: BOLO VINTAGE. Nesta aula\, você vai aprender montagem\, preparo de recheios e a decoração completa no estilo Vintage\, com todo o charme e delicadeza dessa tendência que está de volta. \nCHEF MARCELO BELLINI
URL:https://cacaucenter.com.br/cursos/aula-gratis-dona-jura-cacaufoods/
LOCATION:Cacau Center\, Avenida Pref. José Monteiro 783\, São Vicente\, SP\, Brazil
END:VEVENT
END:VCALENDAR