BEGIN:VCALENDAR
VERSION:2.0
PRODID:-//CACAU CENTER - ECPv6.15.11//NONSGML v1.0//EN
CALSCALE:GREGORIAN
METHOD:PUBLISH
X-WR-CALNAME:CACAU CENTER
X-ORIGINAL-URL:https://cacaucenter.com.br
X-WR-CALDESC:Eventos para CACAU CENTER
REFRESH-INTERVAL;VALUE=DURATION:PT1H
X-Robots-Tag:noindex
X-PUBLISHED-TTL:PT1H
BEGIN:VTIMEZONE
TZID:America/Sao_Paulo
BEGIN:STANDARD
TZOFFSETFROM:-0300
TZOFFSETTO:-0300
TZNAME:-03
DTSTART:20250101T000000
END:STANDARD
END:VTIMEZONE
BEGIN:VEVENT
DTSTART;TZID=America/Sao_Paulo:20260411T100000
DTEND;TZID=America/Sao_Paulo:20260411T120000
DTSTAMP:20260423T155623
CREATED:20260329T120855Z
LAST-MODIFIED:20260329T120855Z
UID:6935-1775901600-1775908800@cacaucenter.com.br
SUMMARY:AULA GRÁTIS RICH’S (CESIBON)
DESCRIPTION:BISCOITOS AMANTEIGADO DE LARANJA COM CHOCOLATE – Biscoito Amanteigado de Laranja com Chocolate\, desenvolvido com creme culinário Cesibon. Vamos trabalhar ponto de massa\, modelagem e acabamento para um produto padronizado e de alta qualidade.\nCHEF JUNIOR
URL:https://cacaucenter.com.br/cursos/aula-gratis-richs-cesibon-7/
LOCATION:Cacau Center\, Avenida Pref. José Monteiro 783\, São Vicente\, SP\, Brazil
END:VEVENT
BEGIN:VEVENT
DTSTART;TZID=America/Sao_Paulo:20260413T140000
DTEND;TZID=America/Sao_Paulo:20260413T170000
DTSTAMP:20260423T155623
CREATED:20260329T121023Z
LAST-MODIFIED:20260329T121023Z
UID:6937-1776088800-1776099600@cacaucenter.com.br
SUMMARY:AULA GRÁTIS VABENE
DESCRIPTION:ESPECIAL DIA DAS MÃES COM VABENE – Que tal transformar amor em lucro? Venha participar da nossa aula incrível com os produtos Vabene\, onde você vai aprender a preparar bolos e sobremesas irresistíveis para encantar e vender muito neste Dia das Mães! Técnicas práticas. Receitas que vendem\, dicas para lucrar mais\, produtos de qualidade que fazem a diferença. Faça\, venda e LUCRE MUITO nessa data tão especial! Garanta já sua vaga e não perca essa oportunidade de aumentar sua renda com delícias que todo mundo ama! Vagas limitadas. Esperamos por você!\nCHEF MARCOS VIDAL
URL:https://cacaucenter.com.br/cursos/aula-gratis-vabene/
LOCATION:Cacau Center\, Avenida Pref. José Monteiro 783\, São Vicente\, SP\, Brazil
END:VEVENT
BEGIN:VEVENT
DTSTART;TZID=America/Sao_Paulo:20260414T100000
DTEND;TZID=America/Sao_Paulo:20260414T120000
DTSTAMP:20260423T155623
CREATED:20260329T121226Z
LAST-MODIFIED:20260329T121226Z
UID:6939-1776160800-1776168000@cacaucenter.com.br
SUMMARY:AULA GRÁTIS OFICINA ADIMIX
DESCRIPTION:CURSO IMPERDÍVEL OFICINA ADIMIX!!! Já pensou em aprender receitas clássicas que vendem MUITO e encantam qualquer cliente? Vem aí um curso especial com as deliciosas: 💛 Lua de Mel 💛 Papo de Anjo. Você vai aprender técnicas práticas\, segredos de preparo e dicas para deixar suas receitas ainda mais saborosas e lucrativas! Perfeito para quem quer: Aumentar a renda\, Encantar clientes\, Ter produtos diferenciados no cardápio\, Garanta sua vaga e não fique de fora dessa oportunidade deliciosa! Vagas limitadas! Vem aprender com a qualidade Adimix e dar um novo sabor ao seu negócio. CHEF ALEXANDRE CANADÁ
URL:https://cacaucenter.com.br/cursos/aula-gratis-oficina-adimix-8/
LOCATION:Cacau Center\, Avenida Pref. José Monteiro 783\, São Vicente\, SP\, Brazil
END:VEVENT
BEGIN:VEVENT
DTSTART;TZID=America/Sao_Paulo:20260414T140000
DTEND;TZID=America/Sao_Paulo:20260414T170000
DTSTAMP:20260423T155623
CREATED:20260329T121345Z
LAST-MODIFIED:20260329T121345Z
UID:6942-1776175200-1776186000@cacaucenter.com.br
SUMMARY:AULA GRÁTIS OFICINA ADIMIX
DESCRIPTION:OFICINA IMPERDÍVEL COM PRODUTOS ADIMIX! Aprenda a preparar deliciosos pães de leite super macios e recheados que são um verdadeiro sucesso de vendas! Nessa oficina você vai aprender: Massa perfeita de pão de leite\, Recheio cremoso de creme de confeiteiro\, Recheio irresistível de leite condensado\, Dicas de preparo\, ponto ideal e acabamento\, Ideal para quem quer fazer e vender ou surpreender na cozinha! Garanta sua vaga e venha aprender receitas que encantam e dão lucro! Vem com a Adimix e transforme sua produção!\nCHEF ALEXANDRE CANADÁ
URL:https://cacaucenter.com.br/cursos/aula-gratis-oficina-adimix-9/
LOCATION:Cacau Center\, Avenida Pref. José Monteiro 783\, São Vicente\, SP\, Brazil
END:VEVENT
BEGIN:VEVENT
DTSTART;TZID=America/Sao_Paulo:20260415T140000
DTEND;TZID=America/Sao_Paulo:20260415T170000
DTSTAMP:20260423T155623
CREATED:20260329T121530Z
LAST-MODIFIED:20260329T121530Z
UID:6944-1776261600-1776272400@cacaucenter.com.br
SUMMARY:AULA GRÁTIS MAGO
DESCRIPTION: AULA ESPECIAL MAGO – ROSAS EM BISCOITOS 3D Que tal aprender a fazer esses lindos biscoitos em 3D em formato de rosas? Uma opção encantadora e super lucrativa para lembrancinhas de Dia das Mães! Nessa aula\, você vai descobrir técnicas incríveis para modelar\, decorar e dar aquele acabamento perfeito que encanta qualquer cliente! Ideal para quem quer: Encantar com produtos diferenciados\, aumentar as vendas nessa data tão especial\, criar lembrancinhas delicadas e cheias de charme\, transforme sua criatividade em lucro e surpreenda com cada detalhe! Garanta sua vaga e venha aprender essa tendência linda que está conquistando corações. CHEF FABIOLA PORTO
URL:https://cacaucenter.com.br/cursos/aula-gratis-mago-5/
LOCATION:Cacau Center\, Avenida Pref. José Monteiro 783\, São Vicente\, SP\, Brazil
END:VEVENT
BEGIN:VEVENT
DTSTART;TZID=America/Sao_Paulo:20260416T140000
DTEND;TZID=America/Sao_Paulo:20260416T170000
DTSTAMP:20260423T155623
CREATED:20260329T121656Z
LAST-MODIFIED:20260329T121656Z
UID:6947-1776348000-1776358800@cacaucenter.com.br
SUMMARY:AULA GRÁTIS MAVALÉRIO
DESCRIPTION:AULA ESPECIAL MAVALÉRIO DIA DAS MÃES– FLOWER POT CAKE (BOLO CACHEPÔ COM FLORES). Um bolo que impressiona pela delicadeza\, encanta como presente e tem alto valor de venda. Nessa aula exclusiva com produtos da Mavalério\, você vai aprender a produzir o elegante Flower Pot Cake\, o famoso bolo estilo vaso de flores\, perfeito para o Dia das Mães.\nCHEF ELIZANGELA ALDÁ
URL:https://cacaucenter.com.br/cursos/aula-gratis-mavalerio-9/
LOCATION:Cacau Center\, Avenida Pref. José Monteiro 783\, São Vicente\, SP\, Brazil
END:VEVENT
BEGIN:VEVENT
DTSTART;TZID=America/Sao_Paulo:20260417T140000
DTEND;TZID=America/Sao_Paulo:20260417T170000
DTSTAMP:20260423T155623
CREATED:20260329T121818Z
LAST-MODIFIED:20260329T121818Z
UID:6949-1776434400-1776445200@cacaucenter.com.br
SUMMARY:AULA GRÁTIS BWB
DESCRIPTION:AULA ESPECIAL BWB EMBALAGENS: Nessa aula incrível\, você vai aprender a produzir um bolo alto\, lindo e super elegante\, utilizando a Placa Texturizada da BWB para um acabamento profissional e encantador! Além disso\, vamos preparar uma massa amanteigada deliciosa e ensinar toda a montagem do bolo\, do início ao fim\, com dicas práticas para você arrasar nas suas produções! Ideal para quem quer: Aprimorar suas técnicas de decoração\, criar bolos sofisticados e valorizados\, encantar clientes e aumentar as vendas. Não perca essa oportunidade de aprender e se destacar! Garanta sua vaga e venha fazer parte dessa aula incrível!\nCHEF RENATA CARESIA
URL:https://cacaucenter.com.br/cursos/aula-gratis-bwb-7/
LOCATION:Cacau Center\, Avenida Pref. José Monteiro 783\, São Vicente\, SP\, Brazil
END:VEVENT
BEGIN:VEVENT
DTSTART;TZID=America/Sao_Paulo:20260422T140000
DTEND;TZID=America/Sao_Paulo:20260422T170000
DTSTAMP:20260423T155623
CREATED:20260329T121947Z
LAST-MODIFIED:20260329T121947Z
UID:6951-1776866400-1776877200@cacaucenter.com.br
SUMMARY:AULA GRÁTIS DONA JURA ( CACAUFOODS) DIA DAS MÃES
DESCRIPTION:Tem sentimentos que não cabem em palavras\, mas podem ser traduzidos em um bolo. O Dia das Mães é mais do que uma data é uma memória\, é carinho\, é gratidão por tudo aquilo que só uma mãe representa. E agora você tem a oportunidade de transformar esse amor em algo único\, feito pelas suas próprias mãos. Com Dona Jura e CacauFoods\, você vai viver uma experiência especial\, com Marcelo Bellini você vai aprender a criar um bolo de Dia das Mães\, com acabamento encantador e aquele toque profissional que emociona à primeira vista. Utilizando produtos Dona Jura e CacauFoods. Um bolo que não só vende mas toca quem recebe. Porque no final\, não é só sobre açúcar e decoração é sobre fazer alguém se sentir amado. \nCHEF MARCELO BELLINI
URL:https://cacaucenter.com.br/cursos/aula-gratis-dona-jura-cacaufoods-dia-das-maes/
LOCATION:Cacau Center\, Avenida Pref. José Monteiro 783\, São Vicente\, SP\, Brazil
END:VEVENT
BEGIN:VEVENT
DTSTART;TZID=America/Sao_Paulo:20260423T140000
DTEND;TZID=America/Sao_Paulo:20260423T170000
DTSTAMP:20260423T155623
CREATED:20260329T122118Z
LAST-MODIFIED:20260329T122118Z
UID:6953-1776952800-1776963600@cacaucenter.com.br
SUMMARY:AULA GRÁTIS NESTLÉ
DESCRIPTION:ESPECIAL DIA DAS MÃES: Biscoitos Red Velvet com Dora. Produtos Nestlé Que tal encantar neste Dia das Mães com biscoitos Red Velvet.  Nessa aula deliciosa com a culinarista Dora\, você vai aprender todos os segredos para preparar biscoitos macios\, saborosos e com uma apresentação perfeita\, utilizando produtos Nestlé que garantem qualidade e muito mais sabor! Ideal para quem quer: Criar lembrancinhas sofisticadas\, lucrar mais nessa data especial\, surpreender com sabor e beleza\, uma opção perfeita para presentear ou vender muito! Não fique de fora! Garanta sua vaga e venha aprender essa delícia! Te esperamos!\nCHEF DORA
URL:https://cacaucenter.com.br/cursos/aula-gratis-nestle-6/
LOCATION:Cacau Center\, Avenida Pref. José Monteiro 783\, São Vicente\, SP\, Brazil
END:VEVENT
BEGIN:VEVENT
DTSTART;TZID=America/Sao_Paulo:20260427T140000
DTEND;TZID=America/Sao_Paulo:20260427T170000
DTSTAMP:20260423T155623
CREATED:20260329T122634Z
LAST-MODIFIED:20260329T122634Z
UID:6959-1777298400-1777309200@cacaucenter.com.br
SUMMARY:AULA GRÁTIS ARCOLOR
DESCRIPTION:AULA ESPECIAL DIA DAS MÃES!!! Que tal aprender a fazer um bolo decorado incrível para encantar e lucrar neste Dia das Mães? Nessa aula\, você vai aprender tudo do zero: Massa perfeita\, Recheios deliciosos\, Técnicas de decoração que fazem toda a diferença. Um bolo lindo\, sofisticado e ideal para vendas ou para surpreender nessa data tão especial! Perfeito para quem quer: Aprender na prática\, criar bolos valorizados\, aumentar a renda no Dia das Mães. Vagas limitadas! Garanta já a sua e venha arrasar nas suas produções. CHEF DALVA BAIROS
URL:https://cacaucenter.com.br/cursos/aula-gratis-arcolor-7/
LOCATION:Cacau Center\, Avenida Pref. José Monteiro 783\, São Vicente\, SP\, Brazil
END:VEVENT
BEGIN:VEVENT
DTSTART;TZID=America/Sao_Paulo:20260428T140000
DTEND;TZID=America/Sao_Paulo:20260428T170000
DTSTAMP:20260423T155623
CREATED:20260329T122812Z
LAST-MODIFIED:20260329T122812Z
UID:6962-1777384800-1777395600@cacaucenter.com.br
SUMMARY:AULA GRÁTIS HARALD
DESCRIPTION:CURSO ESPECIAL HARALD – DIA DAS MÃES . Prepare-se para arrasar nas vendas e encantar neste Dia das Mães com receitas incríveis! Nessa aula\, você vai aprender: Coração trufado com brownie\, feito com uma trufa super prática e deliciosa. Bombons decorados perfeitos para um chá da tarde. E ainda uma receita surpresa especial! Tudo pensado para você criar produtos lindos\, saborosos e com alto potencial de vendas! Ideal para quem quer: Lucrar no Dia das Mães\, Oferecer produtos diferenciados\,  Encantar em cada detalhe. Não perca essa oportunidade! Corre e garanta já sua inscrição! CHEF MARCIA MACHADO
URL:https://cacaucenter.com.br/cursos/aula-gratis-harald-9/
LOCATION:Cacau Center\, Avenida Pref. José Monteiro 783\, São Vicente\, SP\, Brazil
END:VEVENT
BEGIN:VEVENT
DTSTART;TZID=America/Sao_Paulo:20260429T140000
DTEND;TZID=America/Sao_Paulo:20260429T170000
DTSTAMP:20260423T155623
CREATED:20260329T122916Z
LAST-MODIFIED:20260329T122916Z
UID:6965-1777471200-1777482000@cacaucenter.com.br
SUMMARY:AULA GRÁTIS GENUINE
DESCRIPTION:CURSO BENTO CAKE TEMÁTICO – DIA DAS MÃES: Que tal aprender a fazer bentos cakes lindos\, modernos e perfeitos para presentear e vender muito neste Dia das Mães? Nesse curso\, você vai aprender: Massa fofinha e bem estruturada\, recheios coringas\, práticos e deliciosos\, Decoração temática encantadora para a data. Tudo com técnicas fáceis e resultado profissional para você se destacar! E tem mais: Apostila completa para te acompanhar Sorteios especiais durante o curso Ideal para quem quer: Criar produtos personalizados e lucrativos. Encantar clientes com tendência do momento. Aumentar a renda com praticidade!!! Garanta sua vaga e venha arrasar com os bentos cakes!\nCHEF JHESSIKA HENRIQUES
URL:https://cacaucenter.com.br/cursos/aula-gratis-genuine-3/
LOCATION:Cacau Center\, Avenida Pref. José Monteiro 783\, São Vicente\, SP\, Brazil
END:VEVENT
BEGIN:VEVENT
DTSTART;TZID=America/Sao_Paulo:20260430T140000
DTEND;TZID=America/Sao_Paulo:20260430T170000
DTSTAMP:20260423T155623
CREATED:20260329T123022Z
LAST-MODIFIED:20260329T123022Z
UID:6967-1777557600-1777568400@cacaucenter.com.br
SUMMARY:AULA GRÁTIS OVOMALTINE
DESCRIPTION:AULA ESPECIAL CHEESECAKE NOBAKE DE OVOMALTINE COM A PROFESSORA CARLA ALMEIDA: Prepare-se para aprender uma sobremesa irresistível\, prática e perfeita para encantar e vender muito! Nessa aula\, a professora Carla Almeida vai te ensinar o passo a passo de uma deliciosa cheesecake de Ovomaltine sem forno (No Bake)\, com textura cremosa e sabor incrível! Você vai aprender: Base perfeita e crocante\, recheio cremoso de Ovomaltine\, finalização linda e de dar água na boca. Ideal para quem quer praticidade sem abrir mão do sabor e da apresentação! Perfeita para vendas\, Sobremesas especiais para encantar clientes e família. Não perca essa aula deliciosa! Garanta sua vaga e venha aprender com a gente. CHEF CARLA ALMEIDA
URL:https://cacaucenter.com.br/cursos/aula-gratis-ovomaltine-3/
LOCATION:Cacau Center\, Avenida Pref. José Monteiro 783\, São Vicente\, SP\, Brazil
END:VEVENT
BEGIN:VEVENT
DTSTART;TZID=America/Sao_Paulo:20260509T100000
DTEND;TZID=America/Sao_Paulo:20260509T130000
DTSTAMP:20260423T155623
CREATED:20260329T122415Z
LAST-MODIFIED:20260423T140544Z
UID:6956-1778320800-1778331600@cacaucenter.com.br
SUMMARY:SÁB 09/05 16/05 23/05 06/06 das 10:00h ás 13:00h -> CURSO OFICINA PARTICULAR DE PANIFICAÇÃO INVESTIMENTO R$180\,00.
DESCRIPTION:CURSO MÓDULO DE PANIFICAÇÃO com o Chef Canada. Vem aí um módulo completo pra você aprender receitas incríveis\, lucrativas e cheias de sabor! Conteúdo da aula: Módulo de Panificação. Pão de ciabatta tradicional e recheado. Pão de tapioca (tradicional e recheado). Pão de cebola (tradicional e recheado) Delícias especiais Trouxinhas folheadas doces e salgadas. Confeitaria: Torta de banana suíça. Torta de ricota cremosa. Bombocado. Queijadinha. Uma aula completa\, com técnicas edicas para você produzir com qualidade e aumentar suas vendas! Ideal para quem quer aprender\, se aperfeiçoar e lucrar de verdade! Curso com certificado! Garanta sua vaga e não fique de fora! Te esperamos!\nCHEF ALEXANDRE CANADÁ
URL:https://cacaucenter.com.br/cursos/sab-25-04-09-05-16-05-23-05-das-1000h-as-1300h-curso-oficina-particular-de-panificacao-investimento-r18000/
LOCATION:Cacau Center\, Avenida Pref. José Monteiro 783\, São Vicente\, SP\, Brazil
END:VEVENT
END:VCALENDAR