BEGIN:VCALENDAR
VERSION:2.0
PRODID:-//CACAU CENTER - ECPv6.15.11//NONSGML v1.0//EN
CALSCALE:GREGORIAN
METHOD:PUBLISH
X-ORIGINAL-URL:https://cacaucenter.com.br
X-WR-CALDESC:Eventos para CACAU CENTER
REFRESH-INTERVAL;VALUE=DURATION:PT1H
X-Robots-Tag:noindex
X-PUBLISHED-TTL:PT1H
BEGIN:VTIMEZONE
TZID:America/Sao_Paulo
BEGIN:STANDARD
TZOFFSETFROM:-0300
TZOFFSETTO:-0300
TZNAME:-03
DTSTART:20240101T000000
END:STANDARD
END:VTIMEZONE
BEGIN:VEVENT
DTSTART;TZID=America/Sao_Paulo:20260228T100000
DTEND;TZID=America/Sao_Paulo:20260228T140000
DTSTAMP:20260423T191305
CREATED:20260122T132730Z
LAST-MODIFIED:20260122T132730Z
UID:6839-1772272800-1772287200@cacaucenter.com.br
SUMMARY:AULA PARTICULAR R$80\,00
DESCRIPTION:SALGADINHOS FINOS E COMERCIAIS COM O CHEF ROBERTO AUGUSTO. Um curso completo para quem deseja inovar\, encantar clientes e aumentar a lucratividade com salgados criativos\, saborosos e versáteis perfeitos tanto para eventos quanto para vendas do dia a dia. O que você vai aprender: Coxinha da asinha empanada com Catupiry\, Coxinha com massa de presunto\, Coxinha dourada de carne seca com massa de mandioquinha\, Espetinho de cerejas com massa de milho verde\, Pão de queijo versátil (assado e frito)\, Mini esfiha de frango com massa de batata e Empadinha de camarão com massa de iogurte. Massas criativas e funcionais\, Técnicas práticas e replicáveis\, Produtos com alto valor agregado. Ideal para festas\, vitrines e encomendas. Um curso pensado para quem quer sair do comum e se destacar no mercado. Curso imperdível.\nCHEF ROBERTO AUGUSTO
URL:https://cacaucenter.com.br/cursos/aula-particular-r8000-2/
LOCATION:Cacau Center\, Avenida Pref. José Monteiro 783\, São Vicente\, SP\, Brazil
END:VEVENT
BEGIN:VEVENT
DTSTART;TZID=America/Sao_Paulo:20260227T140000
DTEND;TZID=America/Sao_Paulo:20260227T170000
DTSTAMP:20260423T191305
CREATED:20260122T132535Z
LAST-MODIFIED:20260122T132535Z
UID:6837-1772200800-1772211600@cacaucenter.com.br
SUMMARY:AULA GRÁTIS RICH’S (CESIBON)
DESCRIPTION:TÉCNICA DE BOLO GANACHEADO: Aprenda na prática as técnicas profissionais para montar\, nivelar e finalizar bolos ganacheados perfeitos\, com acabamento liso\, estrutura firme e visual impecável. Uso correto dos produtos Rich’s (CeSiBon). Ponto ideal da ganache. Técnicas de cobertura e alisamento. Dicas para um acabamento profissional e valorização do produto. Ideal para confeiteiros iniciantes e profissionais que desejam elevar o padrão dos seus bolos e aumentar as vendas. Vagas limitadas. Conhecimento\, técnica e resultado de vitrine!\nCHEF JUNIOR
URL:https://cacaucenter.com.br/cursos/aula-gratis-richs-cesibon-5/
LOCATION:Cacau Center\, Avenida Pref. José Monteiro 783\, São Vicente\, SP\, Brazil
END:VEVENT
BEGIN:VEVENT
DTSTART;TZID=America/Sao_Paulo:20260226T140000
DTEND;TZID=America/Sao_Paulo:20260226T170000
DTSTAMP:20260423T191305
CREATED:20260122T132422Z
LAST-MODIFIED:20260122T132422Z
UID:6835-1772114400-1772125200@cacaucenter.com.br
SUMMARY:AULA PARTICULAR R$50\,00
DESCRIPTION:CURSO GELADINHOS GOURMETS DE SUCESSO: Quer aprender a transformar uma ideia simples em uma fonte de renda lucrativa? Então esse curso é pra você! ✨ O que você vai aprender: Os principais sabores de geladinhos gourmets\, com coberturas irresistíveis. Geladinhos alcoólicos que fazem sucesso em festas e eventos. Receita base exclusiva\, com mais de 50 variações de sabores. Como transformar as sobremesas mais pedidas (pavê\, torta mousse de limão\, surpresa de uva ao leite ninho\, cheesecake de frutas vermelhas e muito mais) em geladinhos deliciosos e refrescantes. Além das receitas\, você vai aprender a vender de verdade: Embalagens que valorizam seu produto. Precificação correta para ter lucro. Armazenamento ideal. Divulgação que atrai clientes. Como criar seu diferencial e se destacar no mercado. Faça sucesso com algo simples\, delicioso e de baixo custo\, e aprenda a gerar muito lucro com geladinhos gourmets! Vagas limitadas. \nCHEF MAYARA PIGINI
URL:https://cacaucenter.com.br/cursos/aula-particular-r5000-2/
LOCATION:Cacau Center\, Avenida Pref. José Monteiro 783\, São Vicente\, SP\, Brazil
END:VEVENT
BEGIN:VEVENT
DTSTART;TZID=America/Sao_Paulo:20260226T100000
DTEND;TZID=America/Sao_Paulo:20260226T170000
DTSTAMP:20260423T191305
CREATED:20260122T132247Z
LAST-MODIFIED:20260122T132247Z
UID:6832-1772100000-1772125200@cacaucenter.com.br
SUMMARY:AULA PARTICULAR R$50\,00
DESCRIPTION:CURSO DE TORTAS\, QUICHES E EMPADAS: Prepare-se para uma aula deliciosa e completa\, perfeita para quem ama cozinhar e quer aprender receitas práticas e lucrativas ideais para vendas… No curso você vai aprender: 2 tipos de massa podre (tradicional e amanteigada). Empadão Caipira\, Empadão de brócolis com queijo e bacon\, Quiche de Espinafre\, Quiche de Cebola e Alho-Poró\, Empadas de Camarão e Empada de Palmito Cremosa. Receitas fáceis\, deliciosas e com toque profissional! Uma ótima oportunidade para aumentar sua renda com produtos que encantam o paladar o ano inteiro. CHEF DYEGO PIGINI
URL:https://cacaucenter.com.br/cursos/aula-particular-r5000/
LOCATION:Cacau Center\, Avenida Pref. José Monteiro 783\, São Vicente\, SP\, Brazil
END:VEVENT
BEGIN:VEVENT
DTSTART;TZID=America/Sao_Paulo:20260225T140000
DTEND;TZID=America/Sao_Paulo:20260225T170000
DTSTAMP:20260423T191305
CREATED:20260122T132133Z
LAST-MODIFIED:20260122T132133Z
UID:6829-1772028000-1772038800@cacaucenter.com.br
SUMMARY:AULA GRÁTIS DONA JURA (CACAUFOODS)
DESCRIPTION:CUPCAKES DE PÁSCOA: UMA OPORTUNIDADE DE SUCESSO NA CONFEITARIA! A Páscoa de 2026 se aproxima e traz consigo uma excelente oportunidade para quem deseja se destacar no universo da confeitaria! Se você tem o desejo de encantar seus clientes com produtos diferenciados ou quer dar os primeiros passos na criação de doces memoráveis\, esta aula na Cacau Center é ideal para você. Venha aprender técnicas essenciais e descobrir com Marcelo Bellini e CacauFoods e Dona Jura como ingredientes de qualidade podem transformar seus cupcakes em verdadeiras obras de arte comestíveis. Descubra a importância de escolher os melhores ingredientes e como a versatilidade de produtos de qualidade pode otimizar sua produção na cozinha\, resultando em acabamentos profissionais que conquistarão seus clientes! \n\n\n\n\n\nCHEF MARCELO BELLINI
URL:https://cacaucenter.com.br/cursos/aula-gratis-dona-jura-cacaufoods-12/
LOCATION:Cacau Center\, Avenida Pref. José Monteiro 783\, São Vicente\, SP\, Brazil
END:VEVENT
BEGIN:VEVENT
DTSTART;TZID=America/Sao_Paulo:20260224T140000
DTEND;TZID=America/Sao_Paulo:20260224T170000
DTSTAMP:20260423T191305
CREATED:20260122T130901Z
LAST-MODIFIED:20260122T130901Z
UID:6827-1771941600-1771952400@cacaucenter.com.br
SUMMARY:AULA GRÁTIS OFICINA ADIMIX
DESCRIPTION:CURSO OFICINA DE BRIOCHE SALGADO ADIMIX: Brioche Salgado Recheado e Trufado de Catupiry Massa macia\, amanteigada e um recheio cremoso irresistível! Ideal para vendas\, lanches gourmet e eventos.\nCHEF ALEXANDRE CANADÁ
URL:https://cacaucenter.com.br/cursos/aula-gratis-oficina-adimix-7/
LOCATION:Cacau Center\, Avenida Pref. José Monteiro 783\, São Vicente\, SP\, Brazil
END:VEVENT
BEGIN:VEVENT
DTSTART;TZID=America/Sao_Paulo:20260224T100000
DTEND;TZID=America/Sao_Paulo:20260224T170000
DTSTAMP:20260423T191305
CREATED:20260122T130706Z
LAST-MODIFIED:20260122T130706Z
UID:6825-1771927200-1771952400@cacaucenter.com.br
SUMMARY:AULA GRÁTIS OFICINA ADIMIX
DESCRIPTION:CURSO OFICINA DE BRIOCHE DOCE ADIMIX: Aprenda a preparar brioche tradicional\, brioche com gotas de chocolate e brioche açucarado\, utilizando os produtos Adimix\, com técnica correta\, maciez perfeita e sabor irresistível. Dicas de produção e comercialização Uma aula prática\, ideal para quem deseja encantar clientes\, ampliar o cardápio e aumentar as vendas. Curso indicado para iniciantes e profissionais. \nCHEF ALEXANDRE CANADÁ
URL:https://cacaucenter.com.br/cursos/aula-gratis-oficina-adimix-6/
LOCATION:Cacau Center\, Avenida Pref. José Monteiro 783\, São Vicente\, SP\, Brazil
END:VEVENT
BEGIN:VEVENT
DTSTART;TZID=America/Sao_Paulo:20260223T140000
DTEND;TZID=America/Sao_Paulo:20260223T170000
DTSTAMP:20260423T191305
CREATED:20260122T130538Z
LAST-MODIFIED:20260122T130538Z
UID:6823-1771855200-1771866000@cacaucenter.com.br
SUMMARY:AULA GRÁTIS HARALD
DESCRIPTION:PÁSCOA COM HARALD: A Páscoa já está batendo em nossa porta\, então chegou a hora de transformar uma barra de chocolate ou de cobertura em delícias para a Páscoa. Venha para este curso aprender o passo a passo. CHEF MARCIA MACHADO
URL:https://cacaucenter.com.br/cursos/aula-gratis-harald-5/
LOCATION:Cacau Center\, Avenida Pref. José Monteiro 783\, São Vicente\, SP\, Brazil
END:VEVENT
BEGIN:VEVENT
DTSTART;TZID=America/Sao_Paulo:20260221T100000
DTEND;TZID=America/Sao_Paulo:20260222T130000
DTSTAMP:20260423T191305
CREATED:20260122T130418Z
LAST-MODIFIED:20260122T130418Z
UID:6821-1771668000-1771765200@cacaucenter.com.br
SUMMARY:AULA PARTICULAR R$60\,00
DESCRIPTION:AULA PARTICULAR DE QUEIJOS & CHARCUTARIA: Já pensou em aprender a fazer seu próprio queijo artesanal? Nesta aula você vai aprender a preparar: Queijo fresco\, Requeijão\, Mascarpone\, Ricota. E ainda deliciosas: Linguiça de Pernil e Linguiça Toscana. Uma aula completa e imperdível! CHEF FABIOLA PORTO
URL:https://cacaucenter.com.br/cursos/aula-particular-r6000-3/
LOCATION:Cacau Center\, Avenida Pref. José Monteiro 783\, São Vicente\, SP\, Brazil
END:VEVENT
BEGIN:VEVENT
DTSTART;TZID=America/Sao_Paulo:20260220T140000
DTEND;TZID=America/Sao_Paulo:20260220T170000
DTSTAMP:20260423T191305
CREATED:20260122T130159Z
LAST-MODIFIED:20260122T130159Z
UID:6818-1771596000-1771606800@cacaucenter.com.br
SUMMARY:AULA OFICINA GENUINE
DESCRIPTION:OVO DE PÁSCOA TRADICIONAL. Uma aula prática\, onde você irá aprender a saborizar e temperar seu chocolate de acordo com o tipo de chocolate escolhido. Solicitamos 2 forminhas de 150g com 3 partes\, potinho derretedeira de chocolate e espátula de silicone e embalagem para ovo fechado de 150g\, para cada aluno usar em aula. Todo produto produzido em aula o aluno levara para casa. Limite máximo de 15 alunas. O investimento simbólico é de R$ 5\,00. Pagamento deve ser efetuado diretamente no CENTRO CULINÁRIO. CHEF JHESSIKA HERIQUES
URL:https://cacaucenter.com.br/cursos/aula-oficina-genuine-2/
LOCATION:Cacau Center\, Avenida Pref. José Monteiro 783\, São Vicente\, SP\, Brazil
END:VEVENT
BEGIN:VEVENT
DTSTART;TZID=America/Sao_Paulo:20260220T100000
DTEND;TZID=America/Sao_Paulo:20260220T120000
DTSTAMP:20260423T191305
CREATED:20260122T130044Z
LAST-MODIFIED:20260122T130044Z
UID:6815-1771581600-1771588800@cacaucenter.com.br
SUMMARY:AULA OFICINA GENUINE
DESCRIPTION:OVO DE PÁSCOA TRADICIONAL : Uma aula prática\, onde você irá aprender a saborizar e temperar seu chocolate de acordo com o tipo de chocolate escolhido. Solicitamos 2 forminhas de 150g com 3 partes\, potinho derretedeira de chocolate e espátula de silicone e embalagem para ovo fechado de 150g\, para cada aluno usar em aula. Todo produto produzido em aula o aluno levara para casa. Limite máximo de 15 alunas. O investimento simbólico é de R$ 5\,00. Pagamento deve ser efetuado diretamente no CENTRO CULINÁRIO. CHEF JHESSIKA HERIQUES
URL:https://cacaucenter.com.br/cursos/aula-oficina-genuine/
LOCATION:Cacau Center\, Avenida Pref. José Monteiro 783\, São Vicente\, SP\, Brazil
END:VEVENT
BEGIN:VEVENT
DTSTART;TZID=America/Sao_Paulo:20260219T140000
DTEND;TZID=America/Sao_Paulo:20260219T170000
DTSTAMP:20260423T191305
CREATED:20260122T125917Z
LAST-MODIFIED:20260122T125917Z
UID:6813-1771509600-1771520400@cacaucenter.com.br
SUMMARY:AULA GRÁTIS ICEBERG
DESCRIPTION:CURSO DE COLOMBA PASCAL COM PRODUTOS ICEBERG: Aprenda a produzir Colomba Pascal macia\, saborosa e com acabamento profissional\, utilizando os produtos Iceberg. Nesta aula\, você vai conhecer técnicas\, coberturas e dicas especiais para encantar seus clientes e aumentar suas vendas na Páscoa. Massa leve e aromática. Dicas de produção\, padronização e comercialização garanta já a sua vaga! Prepare-se para uma Páscoa de sucesso! \nCHEF LILI ROMERA
URL:https://cacaucenter.com.br/cursos/aula-gratis-iceberg-6/
LOCATION:Cacau Center\, Avenida Pref. José Monteiro 783\, São Vicente\, SP\, Brazil
END:VEVENT
BEGIN:VEVENT
DTSTART;TZID=America/Sao_Paulo:20260219T100000
DTEND;TZID=America/Sao_Paulo:20260219T120000
DTSTAMP:20260423T191305
CREATED:20260122T125819Z
LAST-MODIFIED:20260122T125819Z
UID:6811-1771495200-1771502400@cacaucenter.com.br
SUMMARY:AULA GRÁTIS ICEBERG
DESCRIPTION:CURSO ICEBERG PERSONALIZADOS: Aprenda a transformar doces clássicos em produtos encantadores e de alto valor! Conteúdo do curso: * Pão de Mel Personalizado\, Pirulito\, Cone Recheado Personalizado Técnicas de montagem\, recheios\, acabamento e personalização. Ideal para vendas\, datas comemorativas e presentes criativos. Curso passo a passo. Indicado para iniciantes e confeiteiros que querem inovar.\nCHEF LILI ROMERA
URL:https://cacaucenter.com.br/cursos/aula-gratis-iceberg-5/
LOCATION:Cacau Center\, Avenida Pref. José Monteiro 783\, São Vicente\, SP\, Brazil
END:VEVENT
BEGIN:VEVENT
DTSTART;TZID=America/Sao_Paulo:20260212T140000
DTEND;TZID=America/Sao_Paulo:20260212T170000
DTSTAMP:20260423T191305
CREATED:20260122T125620Z
LAST-MODIFIED:20260122T125658Z
UID:6809-1770904800-1770915600@cacaucenter.com.br
SUMMARY:AULA GRÁTIS BWB
DESCRIPTION:PÁSCOA PARA INICIANTES: Curso de Chocolate para Iniciantes. Nesta aula você vai aprender: Temperagem correta do chocolate. Como moldar corretamente nas formas . Como rechear e pesar o recheio corretamente. Aula imperdível\, ideal para quem quer começar na Páscoa com segurança e qualidade! Trabalhando com embalagens BWB. \nCHEF RENATA CARESIA
URL:https://cacaucenter.com.br/cursos/aula-gratis-bwb-5/
LOCATION:Cacau Center\, Avenida Pref. José Monteiro 783\, São Vicente\, SP\, Brazil
END:VEVENT
BEGIN:VEVENT
DTSTART;TZID=America/Sao_Paulo:20260211T140000
DTEND;TZID=America/Sao_Paulo:20260211T170000
DTSTAMP:20260423T191305
CREATED:20260122T125515Z
LAST-MODIFIED:20260122T125515Z
UID:6806-1770818400-1770829200@cacaucenter.com.br
SUMMARY:AULA GRÁTIS HARALD
DESCRIPTION:CHOCOLATERIA PASSO A PASSO PARA UMA PÁSCOA DE SUCESSO! Aprenda nesta deliciosa e chocolatuda aula a trabalhar com perfeição com chocolate\, desde a temperagem\, saborização e finalização! Você vai aprender a fazer um ovo saborizado diferenciado\, e se destacar em meio aos seus clientes! Venha aprender sobre este universo extremamente rentável! Não perca!!!\nCHEF CARLA COSTA
URL:https://cacaucenter.com.br/cursos/aula-gratis-harald-4/
LOCATION:Cacau Center\, Avenida Pref. José Monteiro 783\, São Vicente\, SP\, Brazil
END:VEVENT
BEGIN:VEVENT
DTSTART;TZID=America/Sao_Paulo:20260210T140000
DTEND;TZID=America/Sao_Paulo:20260210T170000
DTSTAMP:20260423T191305
CREATED:20260122T125345Z
LAST-MODIFIED:20260122T125345Z
UID:6804-1770732000-1770742800@cacaucenter.com.br
SUMMARY:AULA GRÁTIS MAVALÉRIO
DESCRIPTION:OVOS PERSONALIZADOS E TEMÁTICOS: Transforme chocolate em presente emocional e produto de alto valor! Nesta aula\, você vai aprender a criar ovos de Páscoa personalizados e temáticos\, utilizando chocolate Mavalério\, com técnicas atuais e acabamentos profissional e ideias que encantam e vendem. \nCHEF ELIZANGELA ALDÁ
URL:https://cacaucenter.com.br/cursos/aula-gratis-mavalerio-5/
LOCATION:Cacau Center\, Avenida Pref. José Monteiro 783\, São Vicente\, SP\, Brazil
END:VEVENT
BEGIN:VEVENT
DTSTART;TZID=America/Sao_Paulo:20260210T100000
DTEND;TZID=America/Sao_Paulo:20260210T120000
DTSTAMP:20260423T191305
CREATED:20260122T125226Z
LAST-MODIFIED:20260122T125226Z
UID:6802-1770717600-1770724800@cacaucenter.com.br
SUMMARY:AULA GRÁTIS MAVALÉRIO
DESCRIPTION:RECHEIOS PARA OVOS DE PÁSCOA SEM FOGO MAVALÉRIO: Aprenda a preparar recheios práticos\, seguros e altamente lucrativos\, ideais para ovos de Páscoa\, sem uso do fogo\, com textura perfeita e excelente validade.\nCHEF ELIZANGELA ALDÁ
URL:https://cacaucenter.com.br/cursos/aula-gratis-mavalerio-4/
LOCATION:Cacau Center\, Avenida Pref. José Monteiro 783\, São Vicente\, SP\, Brazil
END:VEVENT
BEGIN:VEVENT
DTSTART;TZID=America/Sao_Paulo:20260209T140000
DTEND;TZID=America/Sao_Paulo:20260209T170000
DTSTAMP:20260423T191305
CREATED:20260122T125113Z
LAST-MODIFIED:20260122T125113Z
UID:6800-1770645600-1770656400@cacaucenter.com.br
SUMMARY:AULA PROMOCIONAL ARCOLOR
DESCRIPTION:OFICINA DE MODELAGEM EM PASTA AMERICANA 3D! Entre no clima de Páscoa com a Chef Dalva Bairos especialista em modelagem 3D. Uma aula maravilhosa de modelagem à mão livre usando os produtos Arcolor. Deixe seus bolos e doces lindos. COMO PARTICIPAR: Na compra de uma pasta americana branca ARCOLOR na Cacau Center e apresentando o cupom fiscal no Centro Culinário\, você garante sua vaga nesta incrível oficina! \nCHEF DALVA BAIROS
URL:https://cacaucenter.com.br/cursos/aula-promocional-arcolor/
LOCATION:Cacau Center\, Avenida Pref. José Monteiro 783\, São Vicente\, SP\, Brazil
END:VEVENT
BEGIN:VEVENT
DTSTART;TZID=America/Sao_Paulo:20260207T140000
DTEND;TZID=America/Sao_Paulo:20260207T170000
DTSTAMP:20260423T191305
CREATED:20260122T124939Z
LAST-MODIFIED:20260122T124939Z
UID:6798-1770472800-1770483600@cacaucenter.com.br
SUMMARY:AULA GRÁTIS NUTELLA
DESCRIPTION:CURSO ESPECIAL DE SOBREMESAS PARA A PÁSCOA. Sofisticação\, sabor e criatividade em receitas que conquistam à primeira colherada. Encante seus clientes com sobremesas irresistíveis feitas com Nutella. Receitas lucrativas e perfeitas para vender na Páscoa!\nCHEF ANA CAROLINA COUTO (@anaformigaoficial)
URL:https://cacaucenter.com.br/cursos/aula-gratis-nutella-3/
LOCATION:Cacau Center\, Avenida Pref. José Monteiro 783\, São Vicente\, SP\, Brazil
END:VEVENT
BEGIN:VEVENT
DTSTART;TZID=America/Sao_Paulo:20260206T140000
DTEND;TZID=America/Sao_Paulo:20260206T170000
DTSTAMP:20260423T191305
CREATED:20260122T124810Z
LAST-MODIFIED:20260122T124810Z
UID:6796-1770386400-1770397200@cacaucenter.com.br
SUMMARY:AULA GRÁTIS MASTER MARTINI
DESCRIPTION:CURSO DE MASSA PARA ESFIHA DOCES E SALGADAS : Aprenda a preparar massa perfeita para esfiha\, macia e saborosa\, e explore versões doces e salgadas\, utilizando a qualidade e o rendimento dos produtos Master Martini. Uma aula prática\, ideal para quem quer diversificar o cardápio\, aumentar as vendas e encantar os clientes com receitas versáteis e lucrativas. CHEF EDILENE CERTONE
URL:https://cacaucenter.com.br/cursos/aula-gratis-master-martini-4/
LOCATION:Cacau Center\, Avenida Pref. José Monteiro 783\, São Vicente\, SP\, Brazil
END:VEVENT
BEGIN:VEVENT
DTSTART;TZID=America/Sao_Paulo:20260205T140000
DTEND;TZID=America/Sao_Paulo:20260205T170000
DTSTAMP:20260423T191305
CREATED:20260122T123938Z
LAST-MODIFIED:20260122T123938Z
UID:6794-1770300000-1770310800@cacaucenter.com.br
SUMMARY:AULA GRÁTIS DONA JURA (CACAUFOODS)
DESCRIPTION:O BLOCO DA CONFEITARIA CHEGOU NA CACAU CENTER! Quer aprender a fazer o bolo que vai ser nota 10 em todos os quesitos neste Carnaval? Venha participar junto comigo Marcelo Bellini da nossa aula exclusiva com os produtos CacauFoods e a linha Dona Jura! Vou te ensinar a criar um bolo vibrante\, cheio de cor e com aquele brilho que só a “No 1 das confeiteiras” proporciona. Vamos usar os melhores pós decorativos e confeitos para transformar açúcar em pura folia! Então não perca essa aula cheia de dicas e venha degustar e conhecer os produtos Dona Jura. \nCHEF MARCELO BELLINI
URL:https://cacaucenter.com.br/cursos/aula-gratis-dona-jura-cacaufoods-11/
LOCATION:Cacau Center\, Avenida Pref. José Monteiro 783\, São Vicente\, SP\, Brazil
END:VEVENT
BEGIN:VEVENT
DTSTART;TZID=America/Sao_Paulo:20260204T140000
DTEND;TZID=America/Sao_Paulo:20260204T170000
DTSTAMP:20260423T191305
CREATED:20260122T123809Z
LAST-MODIFIED:20260122T123809Z
UID:6792-1770213600-1770224400@cacaucenter.com.br
SUMMARY:AULA GRÁTIS NESTLÉ
DESCRIPTION:CURSO DE TEMPERAGEM DE CHOCOLATE COM NESTLÉ PROFESSIONAL! Quer aprender a técnica certa de temperar chocolate e transformar receitas em produtos bonitos\, brilhantes e deliciosos? O que você vai aprender: O que é temperagem e por que ela é essencial. Técnicas profissionais para trabalhar o chocolate. Uso correto dos Chocolates NESTLÉ Dicas para moldar e obter acabamento perfeito.\nCHEF DORA
URL:https://cacaucenter.com.br/cursos/aula-gratis-nestle-4/
LOCATION:Cacau Center\, Avenida Pref. José Monteiro 783\, São Vicente\, SP\, Brazil
END:VEVENT
BEGIN:VEVENT
DTSTART;TZID=America/Sao_Paulo:20260203T140000
DTEND;TZID=America/Sao_Paulo:20260203T170000
DTSTAMP:20260423T191305
CREATED:20260122T123644Z
LAST-MODIFIED:20260122T123644Z
UID:6790-1770127200-1770138000@cacaucenter.com.br
SUMMARY:AULA GRÁTIS NELISUL
DESCRIPTION:PANIFICAÇÃO CASEIRA: Para começar o ano vamos aprender a fazer pão caseiro recheados com os deliciosos preparos de frutas da Nelisul e também uma deliciosa sobremesa fácil e rápida. Então venha comigo e com a NELISUL. Venha participar da aula tó te esperando. \nCHEF RICARDO GALHARDO
URL:https://cacaucenter.com.br/cursos/aula-gratis-nelisul-5/
LOCATION:Cacau Center\, Avenida Pref. José Monteiro 783\, São Vicente\, SP\, Brazil
END:VEVENT
BEGIN:VEVENT
DTSTART;TZID=America/Sao_Paulo:20260202T140000
DTEND;TZID=America/Sao_Paulo:20260202T170000
DTSTAMP:20260423T191305
CREATED:20260122T123514Z
LAST-MODIFIED:20260122T123514Z
UID:6788-1770040800-1770051600@cacaucenter.com.br
SUMMARY:AULA GRÁTIS GRAN FINALE
DESCRIPTION:OVO DE CORTE CRUNCH CAKE: “Quando a páscoa encontra a tendência mais crocante do momento!” Você não pode ficar de fora dessa aula incrível. O ovo tendência dessa Páscoa!! Muita crocância e sabor reunidos nesse ovo de corte. \nCHEF CARLA ALMEIDA
URL:https://cacaucenter.com.br/cursos/aula-gratis-gran-finale/
LOCATION:Cacau Center\, Avenida Pref. José Monteiro 783\, São Vicente\, SP\, Brazil
END:VEVENT
BEGIN:VEVENT
DTSTART;TZID=America/Sao_Paulo:20260202T100000
DTEND;TZID=America/Sao_Paulo:20260202T120000
DTSTAMP:20260423T191305
CREATED:20260122T123252Z
LAST-MODIFIED:20260122T123252Z
UID:6786-1770026400-1770033600@cacaucenter.com.br
SUMMARY:AULA GRÁTIS BARRY CALLEBAUT (SICAO)
DESCRIPTION:MASTER CLASS DE CHOCOLATE: Uma experiência exclusiva para\nquem deseja aperfeiçoar técnicas\, elevar o nível profissional e dominar o verdadeiro chocolate! Técnicas avançadas com chocolate Ponto correto\, temperagem e acabamento. Dicas profissionais para brilho\, sabor e qualidade Segredos que fazem a diferença no mercado. Curso indicado para alunos\, confeiteiros e apaixonados por chocolate \nCHEF CACO
URL:https://cacaucenter.com.br/cursos/aula-gratis-barry-callebaut-sicao-6/
LOCATION:Cacau Center\, Avenida Pref. José Monteiro 783\, São Vicente\, SP\, Brazil
END:VEVENT
BEGIN:VEVENT
DTSTART;TZID=America/Sao_Paulo:20251216T140000
DTEND;TZID=America/Sao_Paulo:20251216T170000
DTSTAMP:20260423T191305
CREATED:20251129T182115Z
LAST-MODIFIED:20251129T182115Z
UID:6768-1765893600-1765904400@cacaucenter.com.br
SUMMARY:AULA GRÁTIS NELISUL
DESCRIPTION:Vamos aprender um delicioso Paris Brest e Torta Cuka de Farofa \nEstão venha comigo e com a NELISUL. \nCHEF RICARDO GALHARDO
URL:https://cacaucenter.com.br/cursos/aula-gratis-nelisul-4/
LOCATION:Cacau Center\, Avenida Pref. José Monteiro 783\, São Vicente\, SP\, Brazil
END:VEVENT
BEGIN:VEVENT
DTSTART;TZID=America/Sao_Paulo:20251216T100000
DTEND;TZID=America/Sao_Paulo:20251216T140000
DTSTAMP:20260423T191305
CREATED:20251129T181947Z
LAST-MODIFIED:20251129T181947Z
UID:6765-1765879200-1765893600@cacaucenter.com.br
SUMMARY:AULA GRÁTIS OVOMALTINE
DESCRIPTION:BROWNIE NA TAÇA COM OVOMALTINE\n\nUma explosão de sabor. Camadas de brownie molhadinho\, creme especial e aquela crocância irresistível de Ovomaltine. Perfeito para adoçar seu dia.\n\nCHEF DOUGLAS SANTOS
URL:https://cacaucenter.com.br/cursos/aula-gratis-ovomaltine-2/
LOCATION:Cacau Center\, Avenida Pref. José Monteiro 783\, São Vicente\, SP\, Brazil
END:VEVENT
BEGIN:VEVENT
DTSTART;TZID=America/Sao_Paulo:20251215T140000
DTEND;TZID=America/Sao_Paulo:20251215T170000
DTSTAMP:20260423T191305
CREATED:20251129T181821Z
LAST-MODIFIED:20251129T181821Z
UID:6763-1765807200-1765818000@cacaucenter.com.br
SUMMARY:AULA GRÁTIS MASTER MARTINI
DESCRIPTION:SOBREMESAS NATALINAS COM MASTER MARTINI \nAprenda receitas especiais para o Natal utilizando toda a cremosidade e qualidade dos produtos Master Martini! Você vai aprender: Sobremesas geladas natalinas\, toque profissional\, decoração especiais Master Martini . Montagens elegantes para vendas e ceias. Perfeito para quem quer aumentar as vendas de fim de ano ou encantar na ceia com sobremesas de alto padrão.\nCHEF EDILENE
URL:https://cacaucenter.com.br/cursos/aula-gratis-master-martini-3/
LOCATION:Cacau Center\, Avenida Pref. José Monteiro 783\, São Vicente\, SP\, Brazil
END:VEVENT
BEGIN:VEVENT
DTSTART;TZID=America/Sao_Paulo:20251215T100000
DTEND;TZID=America/Sao_Paulo:20251215T120000
DTSTAMP:20260423T191305
CREATED:20251129T181701Z
LAST-MODIFIED:20251129T181701Z
UID:6760-1765792800-1765800000@cacaucenter.com.br
SUMMARY:AULA GRÁTIS MASTER MARTINI
DESCRIPTION:AULA DE QUICHES ESPECIAIS COM MASTER MARTINI \nAprenda receitas incríveis de quiches usando os produtos Master Martini! Base crocante\, recheios cremosos e sabor profissional. Técnicas que você vai aprender: massa perfeita\, recheios super saborosos e finalização e dicas de venda. Ideal\npara quem quer lucrar nas encomendas ou aprimorar o cardápio.\nCHEF EDILENE \n 
URL:https://cacaucenter.com.br/cursos/aula-gratis-master-martini-2/
LOCATION:Cacau Center\, Avenida Pref. José Monteiro 783\, São Vicente\, SP\, Brazil
END:VEVENT
BEGIN:VEVENT
DTSTART;TZID=America/Sao_Paulo:20251213T100000
DTEND;TZID=America/Sao_Paulo:20251213T120000
DTSTAMP:20260423T191305
CREATED:20251129T181524Z
LAST-MODIFIED:20251129T181524Z
UID:6757-1765620000-1765627200@cacaucenter.com.br
SUMMARY:AULA GRÁTIS NUTELLA
DESCRIPTION:SOBREMESA NA TRAVESSA COM NUTELLA \nAprenda uma receita irresistível para arrasar nas festas de final de ano! Cremosa\, sofisticada e super fácil de fazer a sobremesa que ninguém vai esquecer! Garanta sua vaga e surpreenda na ceia. \nCHEF ANA CAROLINA COUTO
URL:https://cacaucenter.com.br/cursos/aula-gratis-nutella-2/
LOCATION:Cacau Center\, Avenida Pref. José Monteiro 783\, São Vicente\, SP\, Brazil
END:VEVENT
END:VCALENDAR