BEGIN:VCALENDAR
VERSION:2.0
PRODID:-//CACAU CENTER - ECPv6.15.11//NONSGML v1.0//EN
CALSCALE:GREGORIAN
METHOD:PUBLISH
X-WR-CALNAME:CACAU CENTER
X-ORIGINAL-URL:https://cacaucenter.com.br
X-WR-CALDESC:Eventos para CACAU CENTER
REFRESH-INTERVAL;VALUE=DURATION:PT1H
X-Robots-Tag:noindex
X-PUBLISHED-TTL:PT1H
BEGIN:VTIMEZONE
TZID:America/Sao_Paulo
BEGIN:STANDARD
TZOFFSETFROM:-0300
TZOFFSETTO:-0300
TZNAME:-03
DTSTART:20240101T000000
END:STANDARD
END:VTIMEZONE
BEGIN:VEVENT
DTSTART;TZID=America/Sao_Paulo:20251201T100000
DTEND;TZID=America/Sao_Paulo:20251201T120000
DTSTAMP:20260423T191121
CREATED:20251129T174158Z
LAST-MODIFIED:20251129T174158Z
UID:6704-1764583200-1764590400@cacaucenter.com.br
SUMMARY:AULA GRÁTIS BWB
DESCRIPTION:CURSO DE LEMBRANÇAS NATALINAS \nVamos criar lembrancinhas lindas\, práticas e deliciosas\nusando as formas BWB\, perfeitas para vendas\, presentes ou para adicionar charme à sua ceia. Técnicas fáceis\, acabamento profissional e muitas ideias para lucrar no fim de ano! \nCHEF RENATA CARESIA
URL:https://cacaucenter.com.br/cursos/aula-gratis-bwb-4/
LOCATION:Cacau Center\, Avenida Pref. José Monteiro 783\, São Vicente\, SP\, Brazil
END:VEVENT
BEGIN:VEVENT
DTSTART;TZID=America/Sao_Paulo:20251201T140000
DTEND;TZID=America/Sao_Paulo:20251201T170000
DTSTAMP:20260423T191121
CREATED:20251129T174337Z
LAST-MODIFIED:20251129T174337Z
UID:6706-1764597600-1764608400@cacaucenter.com.br
SUMMARY:AULA GRÁTIS BARRY CALLEBAUT (SICAO)
DESCRIPTION:TORTA MOUSSE TRÊS CHOCOLATES \nVocê vai aprender uma mousse diferenciada\, com camadas de\nmuito sabor\, finalizada com uma cobertura deliciosa que dá água na boca. Tudo feito com os chocolates Sicao\, garantindo cremosidade\, brilho e um resultado profissional!\nCHEF CARLA ALMEIDA
URL:https://cacaucenter.com.br/cursos/aula-gratis-barry-callebaut-sicao-4/
LOCATION:Cacau Center\, Avenida Pref. José Monteiro 783\, São Vicente\, SP\, Brazil
END:VEVENT
BEGIN:VEVENT
DTSTART;TZID=America/Sao_Paulo:20251202T100000
DTEND;TZID=America/Sao_Paulo:20251202T140000
DTSTAMP:20260423T191121
CREATED:20251129T174621Z
LAST-MODIFIED:20251129T174621Z
UID:6709-1764669600-1764684000@cacaucenter.com.br
SUMMARY:AULA GRÁTIS MAVALÉRIO
DESCRIPTION:AULA ESPECIAL DE NATAL MAVALÉRIO \nBolo Natalino de Pistache — massa macia\, recheio de brigadeiro branco cremoso e flocos de pistache na cobertura\, numa explosão de sabor e sofisticação. Uma receita perfeita pra presentear\, vender e brilhar nas festas de fim de ano. \nELISANGELA ALDA
URL:https://cacaucenter.com.br/cursos/aula-gratis-mavalerio-3/
LOCATION:Cacau Center\, Avenida Pref. José Monteiro 783\, São Vicente\, SP\, Brazil
END:VEVENT
BEGIN:VEVENT
DTSTART;TZID=America/Sao_Paulo:20251202T140000
DTEND;TZID=America/Sao_Paulo:20251202T170000
DTSTAMP:20260423T191121
CREATED:20251129T174801Z
LAST-MODIFIED:20251129T174801Z
UID:6712-1764684000-1764694800@cacaucenter.com.br
SUMMARY:AULA GRÁTIS BLUESTAR
DESCRIPTION:PETIT FOUR – VENHAM APRENDER ESSA DELÍCIA \nAprenda a fazer um Petit Four incrível\, perfeito para faça e venda ou para surpreender nas suas festas e encomendas! No curso\, você vai aprender a preparar: Petit Four de Queijo Parmesão\, Petit Four de Creme de Cebola com Parmesão e Petit Four\nde Creme de Cebola. Receitas práticas\, saborosas e feitas com produtos BlueStar!\nCHEF JUNIOR
URL:https://cacaucenter.com.br/cursos/aula-gratis-bluestar-2/
LOCATION:Cacau Center\, Avenida Pref. José Monteiro 783\, São Vicente\, SP\, Brazil
END:VEVENT
BEGIN:VEVENT
DTSTART;TZID=America/Sao_Paulo:20251203T100000
DTEND;TZID=America/Sao_Paulo:20251203T120000
DTSTAMP:20260423T191121
CREATED:20251129T174941Z
LAST-MODIFIED:20251129T174941Z
UID:6715-1764756000-1764763200@cacaucenter.com.br
SUMMARY:AULA GRÁTIS DONA LELLA
DESCRIPTION:AULA DONA LELLA!!!! Aprenda nesta deliciosa aula a fazer um divino BOLOTONE saborizado\, uma super opção para surpreender seus clientes e incluir em seu cardápio natalino! Além disso\, aprenda a fazer também a opção BOLOTONE NO POTE\, como uma super sugestão de venda para lembrancinhas.\nCHEF CARLA COSTA
URL:https://cacaucenter.com.br/cursos/aula-gratis-dona-lella-3/
LOCATION:Cacau Center\, Avenida Pref. José Monteiro 783\, São Vicente\, SP\, Brazil
END:VEVENT
BEGIN:VEVENT
DTSTART;TZID=America/Sao_Paulo:20251203T140000
DTEND;TZID=America/Sao_Paulo:20251203T170000
DTSTAMP:20260423T191121
CREATED:20251129T175132Z
LAST-MODIFIED:20251129T175132Z
UID:6718-1764770400-1764781200@cacaucenter.com.br
SUMMARY:AULA GRÁTIS HARALD
DESCRIPTION:CHOCOTONES SABORIZADOS COM A LINHA TOP HARALD \nAprenda nesta deliciosa aula a pegar o seu tradicional chocotone\, e transformá-lo em uma verdadeira explosão de sabores com a linha TOP da Harald. Entre eles\, aprenda o Pistachotone e o Caramelotone salgado\, que farão total sucesso no\nseu cardápio natalino.\nCHEF CARLA COSTA
URL:https://cacaucenter.com.br/cursos/aula-gratis-harald-3/
LOCATION:Cacau Center\, Avenida Pref. José Monteiro 783\, São Vicente\, SP\, Brazil
END:VEVENT
BEGIN:VEVENT
DTSTART;TZID=America/Sao_Paulo:20251204T100000
DTEND;TZID=America/Sao_Paulo:20251204T120000
DTSTAMP:20260423T191121
CREATED:20251129T175428Z
LAST-MODIFIED:20251129T175428Z
UID:6721-1764842400-1764849600@cacaucenter.com.br
SUMMARY: AULA GRÁTIS BARRY CALLEBAUT (SICAO)
DESCRIPTION:CURSO CHARLOTTE NATALINA COM SICAO – BARRY CALLEBAUT \nAprenda a criar uma Charlotte irresistível\, com chocolate de qualidade profissional Sicao\, e encante seus clientes neste Natal!!! Técnicas fáceis e resultado impecável. Acabamento elegante e totalmente natalino. Aula prática\, perfeita para quem quer vender ou presentear. Garanta sua vaga e venha viver\na magia do Natal com muito chocolate!\nCHEF CACO
URL:https://cacaucenter.com.br/cursos/aula-gratis-barry-callebaut-sicao-5/
LOCATION:Cacau Center\, Avenida Pref. José Monteiro 783\, São Vicente\, SP\, Brazil
END:VEVENT
BEGIN:VEVENT
DTSTART;TZID=America/Sao_Paulo:20251204T140000
DTEND;TZID=America/Sao_Paulo:20251204T170000
DTSTAMP:20260423T191121
CREATED:20251129T175613Z
LAST-MODIFIED:20251129T175613Z
UID:6724-1764856800-1764867600@cacaucenter.com.br
SUMMARY:AULA GRÁTIS FAB!
DESCRIPTION:CURSO FAB – BOLO EM FORMATO DE ÁRVORE DE NATAL \nAprenda a criar um bolo natalino encantador\, moderno e super vendável! Técnicas fáceis\, acabamento profissional e aquele toque especial para surpreender seus clientes neste fim de ano. Vagas limitadas garanta a sua e venha fazer um Natal ainda mais doce\nCHEF IURI SENA
URL:https://cacaucenter.com.br/cursos/aula-gratis-fab-3/
LOCATION:Cacau Center\, Avenida Pref. José Monteiro 783\, São Vicente\, SP\, Brazil
END:VEVENT
BEGIN:VEVENT
DTSTART;TZID=America/Sao_Paulo:20251205T100000
DTEND;TZID=America/Sao_Paulo:20251205T120000
DTSTAMP:20260423T191121
CREATED:20251129T175802Z
LAST-MODIFIED:20251129T175802Z
UID:6727-1764928800-1764936000@cacaucenter.com.br
SUMMARY:AULA GRÁTIS DAUS
DESCRIPTION:AULA ESPECIAL DE CHANTILLY DAUS – BOLO NATALINO VINTAGE \nAprenda a criar um bolo clássico\, encantador e cheio de detalhes\nCHEF ANDREIA PINHO
URL:https://cacaucenter.com.br/cursos/aula-gratis-daus/
LOCATION:Cacau Center\, Avenida Pref. José Monteiro 783\, São Vicente\, SP\, Brazil
END:VEVENT
BEGIN:VEVENT
DTSTART;TZID=America/Sao_Paulo:20251205T140000
DTEND;TZID=America/Sao_Paulo:20251205T170000
DTSTAMP:20260423T191121
CREATED:20251129T175958Z
LAST-MODIFIED:20251129T175958Z
UID:6730-1764943200-1764954000@cacaucenter.com.br
SUMMARY:AULA PROMOCIONAL OFICINA ARCOLOR
DESCRIPTION:Venha aprender Pavê de Chocolate Misto \ncremoso\, irresistível e perfeito para vender ou encantar a família. E ainda: Decoração de Cupcakes 2D\, técnicas simples e lindas para deixar suas criações profissionais. Um único curso\, duas habilidades incríveis! Perfeito para iniciantes e para quem quer aumentar o cardápio de Natal. COMO PARTICIPAR: Na compra de\numa pasta americana branca Arcolor na Cacau Center e apresentando o cupom fiscal no Centro Culinário\, você garante sua vaga nesta incrível oficina modelagem 2D!\nCHEF DALVA BAIROS
URL:https://cacaucenter.com.br/cursos/aula-promocional-oficina-arcolor-2/
LOCATION:Cacau Center\, Avenida Pref. José Monteiro 783\, São Vicente\, SP\, Brazil
END:VEVENT
BEGIN:VEVENT
DTSTART;TZID=America/Sao_Paulo:20251208T100000
DTEND;TZID=America/Sao_Paulo:20251208T120000
DTSTAMP:20260423T191121
CREATED:20251129T180233Z
LAST-MODIFIED:20251129T180233Z
UID:6733-1765188000-1765195200@cacaucenter.com.br
SUMMARY:AULA GRÁTIS OFICINA ADIMIX
DESCRIPTION:AULA OFICINA DE PÃO DE QUEIJO TRADICIONAL E RECHEADOS \nAprenda o verdadeiro pão de queijo com praticidade e muito sabor!\nNessa aula você vai aprender técnicas\, dicas de preparo e finalizações usando a linha Adimix\, perfeita para quem quer produzir com qualidade e rendimento. Massa perfeita com Adimix \, pontos corretos da massa\, formatos e finalizações. \nCHEF ALEXANDRE CANADÁ
URL:https://cacaucenter.com.br/cursos/aula-gratis-oficina-adimix-4/
LOCATION:Cacau Center\, Avenida Pref. José Monteiro 783\, São Vicente\, SP\, Brazil
END:VEVENT
BEGIN:VEVENT
DTSTART;TZID=America/Sao_Paulo:20251208T140000
DTEND;TZID=America/Sao_Paulo:20251208T170000
DTSTAMP:20260423T191121
CREATED:20251129T180417Z
LAST-MODIFIED:20251129T180417Z
UID:6736-1765202400-1765213200@cacaucenter.com.br
SUMMARY:AULA GRÁTIS OFICINA ADIMIX
DESCRIPTION:OFICINA DE SONHOS – Aprenda receitas fáceis\, lucrativas e com acabamento perfeito usando as linhas especiais Adimix. Ideal para quem quer empreender ou aprimorar suas habilidades. \nCHEF ALEXANDRE CANADÁ
URL:https://cacaucenter.com.br/cursos/aula-gratis-oficina-adimix-5/
LOCATION:Cacau Center\, Avenida Pref. José Monteiro 783\, São Vicente\, SP\, Brazil
END:VEVENT
BEGIN:VEVENT
DTSTART;TZID=America/Sao_Paulo:20251209T100000
DTEND;TZID=America/Sao_Paulo:20251209T120000
DTSTAMP:20260423T191121
CREATED:20251129T180553Z
LAST-MODIFIED:20251129T180553Z
UID:6739-1765274400-1765281600@cacaucenter.com.br
SUMMARY:AULA PROMOCIONAL GENUINE
DESCRIPTION:BYTES NATALINOS. UMA AULA 100% PRÁTICA. \nOnde o aluno irá produzir seus próprios bytes\, sabores natalinos para presentear e arrasar nas vendas\, e\ntoda a produção feita em aula\, o aluno leva para casa. Trazer um tigela plástica( bowl) e uma espátula plástica ( pão duro). Limite máximo de 15 alunas. O investimento simbólico é de R$ 5\,00. Pagamento deve ser efetuado diretamente no CENTRO CULINÁRIO.\nCHEF JHESSIKA HENRIQUES
URL:https://cacaucenter.com.br/cursos/aula-promocional-genuine-2/
LOCATION:Cacau Center\, Avenida Pref. José Monteiro 783\, São Vicente\, SP\, Brazil
END:VEVENT
BEGIN:VEVENT
DTSTART;TZID=America/Sao_Paulo:20251209T140000
DTEND;TZID=America/Sao_Paulo:20251209T170000
DTSTAMP:20260423T191121
CREATED:20251129T180710Z
LAST-MODIFIED:20251129T180710Z
UID:6742-1765288800-1765299600@cacaucenter.com.br
SUMMARY:AULA PROMOCIONAL GENUINE
DESCRIPTION:AULA OFICINA DE BISCOITOS NATALINOS (KIDS) \nAula 100% prática para os alunos produzirem seus próprios biscoitinhos de natal banhados em chocolate. Toda produção feita em aula o aluno leva para casa. Limite máximo de 15 crianças a partir de 7 anos. O investimento simbólico é de R$ 5\,00 e\npedimos que os pais mandem as crianças com uma roupa que possa sujar. Pagamento deve ser efetuado diretamente no CENTRO CULINÁRIO. \nCHEF JHESSIKA HENRIQUES
URL:https://cacaucenter.com.br/cursos/aula-promocional-genuine-3/
LOCATION:Cacau Center\, Avenida Pref. José Monteiro 783\, São Vicente\, SP\, Brazil
END:VEVENT
BEGIN:VEVENT
DTSTART;TZID=America/Sao_Paulo:20251210T100000
DTEND;TZID=America/Sao_Paulo:20251210T140000
DTSTAMP:20260423T191121
CREATED:20251129T180836Z
LAST-MODIFIED:20251129T180836Z
UID:6745-1765360800-1765375200@cacaucenter.com.br
SUMMARY:AULA GRÁTIS DONA JURA (CACAUFOODS)
DESCRIPTION:Torta Estilo Floresta Negra repaginada moderna\, elegante e irresistível perfeita para encantar clientes e aumentar suas vendas. Uma experiência gastronômica que vai muito além da receita: é técnica\, estética e sabor trabalhando juntos. \nCHEF MARCELO BELLINI
URL:https://cacaucenter.com.br/cursos/aula-gratis-dona-jura-cacaufoods-9/
LOCATION:Cacau Center\, Avenida Pref. José Monteiro 783\, São Vicente\, SP\, Brazil
END:VEVENT
BEGIN:VEVENT
DTSTART;TZID=America/Sao_Paulo:20251210T140000
DTEND;TZID=America/Sao_Paulo:20251210T170000
DTSTAMP:20260423T191121
CREATED:20251129T181013Z
LAST-MODIFIED:20251129T181013Z
UID:6748-1765375200-1765386000@cacaucenter.com.br
SUMMARY:AULA GRÁTIS DONA JURA (CACAUFOODS)
DESCRIPTION:Bolo Natalino \nMassa Red Velvet macia e vibrante\, cobertura perfeita de em chantilly e decoração temática que transforma qualquer mesa em celebração. Tudo feito com produtos Dona Jura\ne CacauFoods\, unindo sabor\, técnica e a magia da data mais encantadora do ano. Uma aula para viver o sabor\, a beleza e a arte do Natal. \nCHEF MARCELO BELLINI
URL:https://cacaucenter.com.br/cursos/aula-gratis-dona-jura-cacaufoods-10/
LOCATION:Cacau Center\, Avenida Pref. José Monteiro 783\, São Vicente\, SP\, Brazil
END:VEVENT
BEGIN:VEVENT
DTSTART;TZID=America/Sao_Paulo:20251211T140000
DTEND;TZID=America/Sao_Paulo:20251211T170000
DTSTAMP:20260423T191121
CREATED:20251129T181202Z
LAST-MODIFIED:20251129T181202Z
UID:6751-1765461600-1765472400@cacaucenter.com.br
SUMMARY:AULA GRÁTIS ICEBERG
DESCRIPTION:Torta Napoleão de Nozes \nCamadas leves\, crocantes e um creme irresistível. Taça Napolitana sobremesa elegante\, fresca e cheia de sabor! Aprenda técnicas profissionais\, montagem impecável e todos\nos segredos para transformar essas sobremesas em sucesso garantido! \nCHEF LILI ROMERA
URL:https://cacaucenter.com.br/cursos/aula-gratis-iceberg-4/
LOCATION:Cacau Center\, Avenida Pref. José Monteiro 783\, São Vicente\, SP\, Brazil
END:VEVENT
BEGIN:VEVENT
DTSTART;TZID=America/Sao_Paulo:20251212T140000
DTEND;TZID=America/Sao_Paulo:20251212T170000
DTSTAMP:20260423T191121
CREATED:20251129T181340Z
LAST-MODIFIED:20251129T181340Z
UID:6754-1765548000-1765558800@cacaucenter.com.br
SUMMARY:AULA GRÁTIS ADIMIX
DESCRIPTION:MINI PORÇÕES GOURMET COM OS PRODUTOS ADIMIX \nDescubra técnicas e receitas exclusivas para preparar mini porções sofisticadas e irresistíveis\, perfeitas para festas\,\neventos e encomendas. Aprenda a criar sabores marcantes em versões delicadas que fazem toda a diferença na hora de vender e impressionar. \nCHEF JORDAN
URL:https://cacaucenter.com.br/cursos/aula-gratis-adimix-7/
LOCATION:Cacau Center\, Avenida Pref. José Monteiro 783\, São Vicente\, SP\, Brazil
END:VEVENT
BEGIN:VEVENT
DTSTART;TZID=America/Sao_Paulo:20251213T100000
DTEND;TZID=America/Sao_Paulo:20251213T120000
DTSTAMP:20260423T191121
CREATED:20251129T181524Z
LAST-MODIFIED:20251129T181524Z
UID:6757-1765620000-1765627200@cacaucenter.com.br
SUMMARY:AULA GRÁTIS NUTELLA
DESCRIPTION:SOBREMESA NA TRAVESSA COM NUTELLA \nAprenda uma receita irresistível para arrasar nas festas de final de ano! Cremosa\, sofisticada e super fácil de fazer a sobremesa que ninguém vai esquecer! Garanta sua vaga e surpreenda na ceia. \nCHEF ANA CAROLINA COUTO
URL:https://cacaucenter.com.br/cursos/aula-gratis-nutella-2/
LOCATION:Cacau Center\, Avenida Pref. José Monteiro 783\, São Vicente\, SP\, Brazil
END:VEVENT
BEGIN:VEVENT
DTSTART;TZID=America/Sao_Paulo:20251215T100000
DTEND;TZID=America/Sao_Paulo:20251215T120000
DTSTAMP:20260423T191121
CREATED:20251129T181701Z
LAST-MODIFIED:20251129T181701Z
UID:6760-1765792800-1765800000@cacaucenter.com.br
SUMMARY:AULA GRÁTIS MASTER MARTINI
DESCRIPTION:AULA DE QUICHES ESPECIAIS COM MASTER MARTINI \nAprenda receitas incríveis de quiches usando os produtos Master Martini! Base crocante\, recheios cremosos e sabor profissional. Técnicas que você vai aprender: massa perfeita\, recheios super saborosos e finalização e dicas de venda. Ideal\npara quem quer lucrar nas encomendas ou aprimorar o cardápio.\nCHEF EDILENE \n 
URL:https://cacaucenter.com.br/cursos/aula-gratis-master-martini-2/
LOCATION:Cacau Center\, Avenida Pref. José Monteiro 783\, São Vicente\, SP\, Brazil
END:VEVENT
BEGIN:VEVENT
DTSTART;TZID=America/Sao_Paulo:20251215T140000
DTEND;TZID=America/Sao_Paulo:20251215T170000
DTSTAMP:20260423T191121
CREATED:20251129T181821Z
LAST-MODIFIED:20251129T181821Z
UID:6763-1765807200-1765818000@cacaucenter.com.br
SUMMARY:AULA GRÁTIS MASTER MARTINI
DESCRIPTION:SOBREMESAS NATALINAS COM MASTER MARTINI \nAprenda receitas especiais para o Natal utilizando toda a cremosidade e qualidade dos produtos Master Martini! Você vai aprender: Sobremesas geladas natalinas\, toque profissional\, decoração especiais Master Martini . Montagens elegantes para vendas e ceias. Perfeito para quem quer aumentar as vendas de fim de ano ou encantar na ceia com sobremesas de alto padrão.\nCHEF EDILENE
URL:https://cacaucenter.com.br/cursos/aula-gratis-master-martini-3/
LOCATION:Cacau Center\, Avenida Pref. José Monteiro 783\, São Vicente\, SP\, Brazil
END:VEVENT
BEGIN:VEVENT
DTSTART;TZID=America/Sao_Paulo:20251216T100000
DTEND;TZID=America/Sao_Paulo:20251216T140000
DTSTAMP:20260423T191121
CREATED:20251129T181947Z
LAST-MODIFIED:20251129T181947Z
UID:6765-1765879200-1765893600@cacaucenter.com.br
SUMMARY:AULA GRÁTIS OVOMALTINE
DESCRIPTION:BROWNIE NA TAÇA COM OVOMALTINE\n\nUma explosão de sabor. Camadas de brownie molhadinho\, creme especial e aquela crocância irresistível de Ovomaltine. Perfeito para adoçar seu dia.\n\nCHEF DOUGLAS SANTOS
URL:https://cacaucenter.com.br/cursos/aula-gratis-ovomaltine-2/
LOCATION:Cacau Center\, Avenida Pref. José Monteiro 783\, São Vicente\, SP\, Brazil
END:VEVENT
BEGIN:VEVENT
DTSTART;TZID=America/Sao_Paulo:20251216T140000
DTEND;TZID=America/Sao_Paulo:20251216T170000
DTSTAMP:20260423T191121
CREATED:20251129T182115Z
LAST-MODIFIED:20251129T182115Z
UID:6768-1765893600-1765904400@cacaucenter.com.br
SUMMARY:AULA GRÁTIS NELISUL
DESCRIPTION:Vamos aprender um delicioso Paris Brest e Torta Cuka de Farofa \nEstão venha comigo e com a NELISUL. \nCHEF RICARDO GALHARDO
URL:https://cacaucenter.com.br/cursos/aula-gratis-nelisul-4/
LOCATION:Cacau Center\, Avenida Pref. José Monteiro 783\, São Vicente\, SP\, Brazil
END:VEVENT
END:VCALENDAR