BEGIN:VCALENDAR
VERSION:2.0
PRODID:-//CACAU CENTER - ECPv6.15.11//NONSGML v1.0//EN
CALSCALE:GREGORIAN
METHOD:PUBLISH
X-ORIGINAL-URL:https://cacaucenter.com.br
X-WR-CALDESC:Eventos para CACAU CENTER
REFRESH-INTERVAL;VALUE=DURATION:PT1H
X-Robots-Tag:noindex
X-PUBLISHED-TTL:PT1H
BEGIN:VTIMEZONE
TZID:America/Sao_Paulo
BEGIN:STANDARD
TZOFFSETFROM:-0300
TZOFFSETTO:-0300
TZNAME:-03
DTSTART:20240101T000000
END:STANDARD
END:VTIMEZONE
BEGIN:VEVENT
DTSTART;TZID=America/Sao_Paulo:20251122T100000
DTEND;TZID=America/Sao_Paulo:20251122T120000
DTSTAMP:20260424T021634
CREATED:20251028T193320Z
LAST-MODIFIED:20251028T193320Z
UID:6666-1763805600-1763812800@cacaucenter.com.br
SUMMARY:AULA GRÁTIS RICH’S (CESIBON)
DESCRIPTION:CHOCOTONE. Venham aprender a fazer um Chocotone incrível\, onde usaremos creme culinário e outros ingredientes para que você tenha um produto incrível. \nCHEF JUNIOR
URL:https://cacaucenter.com.br/cursos/aula-gratis-richs-cesibon-4/
LOCATION:Cacau Center\, Avenida Pref. José Monteiro 783\, São Vicente\, SP\, Brazil
END:VEVENT
END:VCALENDAR