BEGIN:VCALENDAR
VERSION:2.0
PRODID:-//CACAU CENTER - ECPv6.15.11//NONSGML v1.0//EN
CALSCALE:GREGORIAN
METHOD:PUBLISH
X-WR-CALNAME:CACAU CENTER
X-ORIGINAL-URL:https://cacaucenter.com.br
X-WR-CALDESC:Eventos para CACAU CENTER
REFRESH-INTERVAL;VALUE=DURATION:PT1H
X-Robots-Tag:noindex
X-PUBLISHED-TTL:PT1H
BEGIN:VTIMEZONE
TZID:America/Sao_Paulo
BEGIN:STANDARD
TZOFFSETFROM:-0300
TZOFFSETTO:-0300
TZNAME:-03
DTSTART:20240101T000000
END:STANDARD
END:VTIMEZONE
BEGIN:VEVENT
DTSTART;TZID=America/Sao_Paulo:20251028T140000
DTEND;TZID=America/Sao_Paulo:20251028T170000
DTSTAMP:20260424T004835
CREATED:20250926T223830Z
LAST-MODIFIED:20250926T223830Z
UID:6595-1761660000-1761670800@cacaucenter.com.br
SUMMARY:AULA GRÁTIS DONA LELLA
DESCRIPTION:TÉCNICAS DO BOLO ESPATULADO \nVenham aprender uma massa perfeita\, um recheio incrível de Sonho de valsa artesanal\, e as Técnicas necessárias para ter\, um bolo lindo e perfeito. Temperatura ideal do chantilly\, velocidade e ponto correto. \nCHEF JUNIOR
URL:https://cacaucenter.com.br/cursos/aula-gratis-dona-lella-2/
LOCATION:Cacau Center\, Avenida Pref. José Monteiro 783\, São Vicente\, SP\, Brazil
END:VEVENT
END:VCALENDAR