BEGIN:VCALENDAR
VERSION:2.0
PRODID:-//CACAU CENTER - ECPv6.15.11//NONSGML v1.0//EN
CALSCALE:GREGORIAN
METHOD:PUBLISH
X-ORIGINAL-URL:https://cacaucenter.com.br
X-WR-CALDESC:Eventos para CACAU CENTER
REFRESH-INTERVAL;VALUE=DURATION:PT1H
X-Robots-Tag:noindex
X-PUBLISHED-TTL:PT1H
BEGIN:VTIMEZONE
TZID:America/Sao_Paulo
BEGIN:STANDARD
TZOFFSETFROM:-0300
TZOFFSETTO:-0300
TZNAME:-03
DTSTART:20240101T000000
END:STANDARD
END:VTIMEZONE
BEGIN:VEVENT
DTSTART;TZID=America/Sao_Paulo:20251121T100000
DTEND;TZID=America/Sao_Paulo:20251121T120000
DTSTAMP:20260424T005043
CREATED:20251028T193029Z
LAST-MODIFIED:20251028T193029Z
UID:6661-1763719200-1763726400@cacaucenter.com.br
SUMMARY:AULA GRÁTIS RICH’S (CESIBON)
DESCRIPTION:BISCOITOS AMANTEIGADO CRIATIVOS: Venham aprender uma receita inédita\, massa incrível usando nosso creme culinário CeSiBon. Uma massa que desmancha na boca\, faremos vários modelos usando\, ejetor\, cortadores para que você se destaque nesse final de ano. \nCHEF JUNIOR
URL:https://cacaucenter.com.br/cursos/aula-gratis-richs-cesibon-3/
LOCATION:Cacau Center\, Avenida Pref. José Monteiro 783\, São Vicente\, SP\, Brazil
END:VEVENT
BEGIN:VEVENT
DTSTART;TZID=America/Sao_Paulo:20251121T140000
DTEND;TZID=America/Sao_Paulo:20251121T170000
DTSTAMP:20260424T005043
CREATED:20251028T193146Z
LAST-MODIFIED:20251028T193146Z
UID:6663-1763733600-1763744400@cacaucenter.com.br
SUMMARY: AULA GRÁTIS SUGAR ART
DESCRIPTION:TÉCNICAS DE BOLO ESPATULADO NATALINO. Venham aprender uma massa incrível\, um Brigadeiro gourmet. Iremos usar pó de decoração SugarArt e gliter\, e fazer um bolo natalino incrível. \nCHEF JUNIOR
URL:https://cacaucenter.com.br/cursos/aula-gratis-sugar-art/
LOCATION:Cacau Center\, Avenida Pref. José Monteiro 783\, São Vicente\, SP\, Brazil
END:VEVENT
END:VCALENDAR