BEGIN:VCALENDAR
VERSION:2.0
PRODID:-//CACAU CENTER - ECPv6.15.11//NONSGML v1.0//EN
CALSCALE:GREGORIAN
METHOD:PUBLISH
X-ORIGINAL-URL:https://cacaucenter.com.br
X-WR-CALDESC:Eventos para CACAU CENTER
REFRESH-INTERVAL;VALUE=DURATION:PT1H
X-Robots-Tag:noindex
X-PUBLISHED-TTL:PT1H
BEGIN:VTIMEZONE
TZID:America/Sao_Paulo
BEGIN:STANDARD
TZOFFSETFROM:-0300
TZOFFSETTO:-0300
TZNAME:-03
DTSTART:20250101T000000
END:STANDARD
END:VTIMEZONE
BEGIN:VEVENT
DTSTART;TZID=America/Sao_Paulo:20260202T100000
DTEND;TZID=America/Sao_Paulo:20260202T120000
DTSTAMP:20260423T203954
CREATED:20260122T123252Z
LAST-MODIFIED:20260122T123252Z
UID:6786-1770026400-1770033600@cacaucenter.com.br
SUMMARY:AULA GRÁTIS BARRY CALLEBAUT (SICAO)
DESCRIPTION:MASTER CLASS DE CHOCOLATE: Uma experiência exclusiva para\nquem deseja aperfeiçoar técnicas\, elevar o nível profissional e dominar o verdadeiro chocolate! Técnicas avançadas com chocolate Ponto correto\, temperagem e acabamento. Dicas profissionais para brilho\, sabor e qualidade Segredos que fazem a diferença no mercado. Curso indicado para alunos\, confeiteiros e apaixonados por chocolate \nCHEF CACO
URL:https://cacaucenter.com.br/cursos/aula-gratis-barry-callebaut-sicao-6/
LOCATION:Cacau Center\, Avenida Pref. José Monteiro 783\, São Vicente\, SP\, Brazil
END:VEVENT
BEGIN:VEVENT
DTSTART;TZID=America/Sao_Paulo:20260202T140000
DTEND;TZID=America/Sao_Paulo:20260202T170000
DTSTAMP:20260423T203954
CREATED:20260122T123514Z
LAST-MODIFIED:20260122T123514Z
UID:6788-1770040800-1770051600@cacaucenter.com.br
SUMMARY:AULA GRÁTIS GRAN FINALE
DESCRIPTION:OVO DE CORTE CRUNCH CAKE: “Quando a páscoa encontra a tendência mais crocante do momento!” Você não pode ficar de fora dessa aula incrível. O ovo tendência dessa Páscoa!! Muita crocância e sabor reunidos nesse ovo de corte. \nCHEF CARLA ALMEIDA
URL:https://cacaucenter.com.br/cursos/aula-gratis-gran-finale/
LOCATION:Cacau Center\, Avenida Pref. José Monteiro 783\, São Vicente\, SP\, Brazil
END:VEVENT
END:VCALENDAR