BEGIN:VCALENDAR
VERSION:2.0
PRODID:-//CACAU CENTER - ECPv6.15.11//NONSGML v1.0//EN
CALSCALE:GREGORIAN
METHOD:PUBLISH
X-ORIGINAL-URL:https://cacaucenter.com.br
X-WR-CALDESC:Eventos para CACAU CENTER
REFRESH-INTERVAL;VALUE=DURATION:PT1H
X-Robots-Tag:noindex
X-PUBLISHED-TTL:PT1H
BEGIN:VTIMEZONE
TZID:America/Sao_Paulo
BEGIN:STANDARD
TZOFFSETFROM:-0300
TZOFFSETTO:-0300
TZNAME:-03
DTSTART:20250101T000000
END:STANDARD
END:VTIMEZONE
BEGIN:VEVENT
DTSTART;TZID=America/Sao_Paulo:20260210T100000
DTEND;TZID=America/Sao_Paulo:20260210T120000
DTSTAMP:20260423T203953
CREATED:20260122T125226Z
LAST-MODIFIED:20260122T125226Z
UID:6802-1770717600-1770724800@cacaucenter.com.br
SUMMARY:AULA GRÁTIS MAVALÉRIO
DESCRIPTION:RECHEIOS PARA OVOS DE PÁSCOA SEM FOGO MAVALÉRIO: Aprenda a preparar recheios práticos\, seguros e altamente lucrativos\, ideais para ovos de Páscoa\, sem uso do fogo\, com textura perfeita e excelente validade.\nCHEF ELIZANGELA ALDÁ
URL:https://cacaucenter.com.br/cursos/aula-gratis-mavalerio-4/
LOCATION:Cacau Center\, Avenida Pref. José Monteiro 783\, São Vicente\, SP\, Brazil
END:VEVENT
BEGIN:VEVENT
DTSTART;TZID=America/Sao_Paulo:20260210T140000
DTEND;TZID=America/Sao_Paulo:20260210T170000
DTSTAMP:20260423T203953
CREATED:20260122T125345Z
LAST-MODIFIED:20260122T125345Z
UID:6804-1770732000-1770742800@cacaucenter.com.br
SUMMARY:AULA GRÁTIS MAVALÉRIO
DESCRIPTION:OVOS PERSONALIZADOS E TEMÁTICOS: Transforme chocolate em presente emocional e produto de alto valor! Nesta aula\, você vai aprender a criar ovos de Páscoa personalizados e temáticos\, utilizando chocolate Mavalério\, com técnicas atuais e acabamentos profissional e ideias que encantam e vendem. \nCHEF ELIZANGELA ALDÁ
URL:https://cacaucenter.com.br/cursos/aula-gratis-mavalerio-5/
LOCATION:Cacau Center\, Avenida Pref. José Monteiro 783\, São Vicente\, SP\, Brazil
END:VEVENT
END:VCALENDAR