BEGIN:VCALENDAR
VERSION:2.0
PRODID:-//CACAU CENTER - ECPv6.15.11//NONSGML v1.0//EN
CALSCALE:GREGORIAN
METHOD:PUBLISH
X-ORIGINAL-URL:https://cacaucenter.com.br
X-WR-CALDESC:Eventos para CACAU CENTER
REFRESH-INTERVAL;VALUE=DURATION:PT1H
X-Robots-Tag:noindex
X-PUBLISHED-TTL:PT1H
BEGIN:VTIMEZONE
TZID:America/Sao_Paulo
BEGIN:STANDARD
TZOFFSETFROM:-0300
TZOFFSETTO:-0300
TZNAME:-03
DTSTART:20250101T000000
END:STANDARD
END:VTIMEZONE
BEGIN:VEVENT
DTSTART;TZID=America/Sao_Paulo:20260302T140000
DTEND;TZID=America/Sao_Paulo:20260302T170000
DTSTAMP:20260423T191428
CREATED:20260225T123915Z
LAST-MODIFIED:20260225T123915Z
UID:6843-1772460000-1772470800@cacaucenter.com.br
SUMMARY:AULA GRÁTIS BARRY CALLEBAUT (SICAO)
DESCRIPTION:GESTÃO DE DELIVERY PARA CONFEITEIRAS – Você que deseja entrar no delivery\, ou que já está o delivery mas não está tendo o resultado. Essa aula é para você. Nessa aula você vai aprender um ovo de Páscoa de delivery\, extremamente lucrativo\, com brownie\, brigadeiro amargo e brigadeiro de pistache. Vai aprender como ter um delivery lucrativo e vender o ano todo. Criar um cardápio de Páscoa para delivery. Receitas lucrativas e gestão de delivery. \nCHEF BRUNA SOUZA
URL:https://cacaucenter.com.br/cursos/aula-gratis-barry-callebaut-sicao-7/
LOCATION:Cacau Center\, Avenida Pref. José Monteiro 783\, São Vicente\, SP\, Brazil
END:VEVENT
END:VCALENDAR