BEGIN:VCALENDAR
VERSION:2.0
PRODID:-//CACAU CENTER - ECPv6.15.11//NONSGML v1.0//EN
CALSCALE:GREGORIAN
METHOD:PUBLISH
X-WR-CALNAME:CACAU CENTER
X-ORIGINAL-URL:https://cacaucenter.com.br
X-WR-CALDESC:Eventos para CACAU CENTER
REFRESH-INTERVAL;VALUE=DURATION:PT1H
X-Robots-Tag:noindex
X-PUBLISHED-TTL:PT1H
BEGIN:VTIMEZONE
TZID:America/Sao_Paulo
BEGIN:STANDARD
TZOFFSETFROM:-0300
TZOFFSETTO:-0300
TZNAME:-03
DTSTART:20250101T000000
END:STANDARD
END:VTIMEZONE
BEGIN:VEVENT
DTSTART;TZID=America/Sao_Paulo:20260408T140000
DTEND;TZID=America/Sao_Paulo:20260408T170000
DTSTAMP:20260423T173831
CREATED:20260329T120244Z
LAST-MODIFIED:20260329T120244Z
UID:6926-1775656800-1775667600@cacaucenter.com.br
SUMMARY:AULA GRÁTIS FAB!
DESCRIPTION:TÉCNICAS DE DECORAÇÃO EM CHANTILLY – com o lançamento dos incríveis brilhos comestíveis! Quer deixar seus bolos modernos\, elegantes e super valorizados? Então essa aula é pra você! Você vai aprender: Técnicas profissionais com chantilly. Aplicação perfeita dos brilhos comestíveis. Acabamentos sofisticados que encantam clientes. Dicas para valorizar ainda mais suas vendas. Ideal para quem quer inovar\, se destacar e lucrar mais com a confeitaria! Garanta sua vaga e venha brilhar com a gente!\nCHEF IURI SENA
URL:https://cacaucenter.com.br/cursos/aula-gratis-fab-4/
LOCATION:Cacau Center\, Avenida Pref. José Monteiro 783\, São Vicente\, SP\, Brazil
END:VEVENT
END:VCALENDAR