BEGIN:VCALENDAR
VERSION:2.0
PRODID:-//CACAU CENTER - ECPv6.15.11//NONSGML v1.0//EN
CALSCALE:GREGORIAN
METHOD:PUBLISH
X-ORIGINAL-URL:https://cacaucenter.com.br
X-WR-CALDESC:Eventos para CACAU CENTER
REFRESH-INTERVAL;VALUE=DURATION:PT1H
X-Robots-Tag:noindex
X-PUBLISHED-TTL:PT1H
BEGIN:VTIMEZONE
TZID:America/Sao_Paulo
BEGIN:STANDARD
TZOFFSETFROM:-0300
TZOFFSETTO:-0300
TZNAME:-03
DTSTART:20240101T000000
END:STANDARD
END:VTIMEZONE
BEGIN:VEVENT
DTSTART;TZID=America/Sao_Paulo:20251029T100000
DTEND;TZID=America/Sao_Paulo:20251029T120000
DTSTAMP:20260424T002358
CREATED:20250926T223954Z
LAST-MODIFIED:20250926T223954Z
UID:6598-1761732000-1761739200@cacaucenter.com.br
SUMMARY:AULA GRÁTIS BLUESTAR
DESCRIPTION:SOBREMESA SUPRESA DE UVAS\, NA CAKE BOX E TAÇAS \nVenham aprender a fazer uma massa perfeita\, um Brigadeiro gourmet saboroso. E processo para uma montagem perfeita na cake box e na taça. Para que vocês se destaquem e saiam na frente na confeitaria. \nCHEF JUNIOR
URL:https://cacaucenter.com.br/cursos/aula-gratis-bluestar/
LOCATION:Cacau Center\, Avenida Pref. José Monteiro 783\, São Vicente\, SP\, Brazil
END:VEVENT
BEGIN:VEVENT
DTSTART;TZID=America/Sao_Paulo:20251029T140000
DTEND;TZID=America/Sao_Paulo:20251029T170000
DTSTAMP:20260424T002358
CREATED:20250926T224136Z
LAST-MODIFIED:20250926T224136Z
UID:6601-1761746400-1761757200@cacaucenter.com.br
SUMMARY:AULA GRÁTIS RICH’ CESIBON
DESCRIPTION:GINGERBREAD \nVenham aprender fazer esse biscoito maravilhoso e incrível\, e típico para o final de ano. E o diferencial dessa massa que iremos usar nosso creme culinário CeSiBon doces e salgados\, e você terá o melhor Gingerbread da vida. \nCHEF JUNIOR
URL:https://cacaucenter.com.br/cursos/aula-gratis-rich-cesibon/
LOCATION:Cacau Center\, Avenida Pref. José Monteiro 783\, São Vicente\, SP\, Brazil
END:VEVENT
END:VCALENDAR