BEGIN:VCALENDAR
VERSION:2.0
PRODID:-//CACAU CENTER - ECPv6.15.11//NONSGML v1.0//EN
CALSCALE:GREGORIAN
METHOD:PUBLISH
X-ORIGINAL-URL:https://cacaucenter.com.br
X-WR-CALDESC:Eventos para CACAU CENTER
REFRESH-INTERVAL;VALUE=DURATION:PT1H
X-Robots-Tag:noindex
X-PUBLISHED-TTL:PT1H
BEGIN:VTIMEZONE
TZID:America/Sao_Paulo
BEGIN:STANDARD
TZOFFSETFROM:-0300
TZOFFSETTO:-0300
TZNAME:-03
DTSTART:20240101T000000
END:STANDARD
END:VTIMEZONE
BEGIN:VEVENT
DTSTART;TZID=America/Sao_Paulo:20251113T140000
DTEND;TZID=America/Sao_Paulo:20251113T170000
DTSTAMP:20260424T002524
CREATED:20251028T191915Z
LAST-MODIFIED:20251028T191915Z
UID:6647-1763042400-1763053200@cacaucenter.com.br
SUMMARY:AULA GRÁTIS NUTELLA
DESCRIPTION:BOLO MATILDA DE NUTELLA.  Venha aprender essa delícia e surpreenda seus clientes com o verdadeiro Bolo Matilda dos sonhos. \nCHEF ANA CAROLINA COUTO
URL:https://cacaucenter.com.br/cursos/aula-gratis-nutella/
LOCATION:Cacau Center\, Avenida Pref. José Monteiro 783\, São Vicente\, SP\, Brazil
END:VEVENT
END:VCALENDAR