BEGIN:VCALENDAR
VERSION:2.0
PRODID:-//CACAU CENTER - ECPv6.15.11//NONSGML v1.0//EN
CALSCALE:GREGORIAN
METHOD:PUBLISH
X-ORIGINAL-URL:https://cacaucenter.com.br
X-WR-CALDESC:Eventos para CACAU CENTER
REFRESH-INTERVAL;VALUE=DURATION:PT1H
X-Robots-Tag:noindex
X-PUBLISHED-TTL:PT1H
BEGIN:VTIMEZONE
TZID:America/Sao_Paulo
BEGIN:STANDARD
TZOFFSETFROM:-0300
TZOFFSETTO:-0300
TZNAME:-03
DTSTART:20240101T000000
END:STANDARD
END:VTIMEZONE
BEGIN:VEVENT
DTSTART;TZID=America/Sao_Paulo:20251126T140000
DTEND;TZID=America/Sao_Paulo:20251126T170000
DTSTAMP:20260424T002835
CREATED:20251028T193949Z
LAST-MODIFIED:20251028T193949Z
UID:6678-1764165600-1764176400@cacaucenter.com.br
SUMMARY:AULA GRÁTIS DONA JURA (CACAUFOODS)
DESCRIPTION: Venha celebrar comigo na Cacau Center\, em uma aula incrível com os produtos Dona Jura e CacauFoods. Vamos juntos preparar o bolo do meu aniversário\, cheio de técnica\, sabor e emoção. Venha viver essa celebração comigo e levar para casa muito mais do que uma receita\, mas uma doce lembrança e novas inspirações para sua confeitaria. \nCHEF MARCELO BELLINI
URL:https://cacaucenter.com.br/cursos/aula-gratis-dona-jura-cacaufoods-8/
LOCATION:Cacau Center\, Avenida Pref. José Monteiro 783\, São Vicente\, SP\, Brazil
END:VEVENT
END:VCALENDAR