BEGIN:VCALENDAR
VERSION:2.0
PRODID:-//CACAU CENTER - ECPv6.15.11//NONSGML v1.0//EN
CALSCALE:GREGORIAN
METHOD:PUBLISH
X-WR-CALNAME:CACAU CENTER
X-ORIGINAL-URL:https://cacaucenter.com.br
X-WR-CALDESC:Eventos para CACAU CENTER
REFRESH-INTERVAL;VALUE=DURATION:PT1H
X-Robots-Tag:noindex
X-PUBLISHED-TTL:PT1H
BEGIN:VTIMEZONE
TZID:America/Sao_Paulo
BEGIN:STANDARD
TZOFFSETFROM:-0300
TZOFFSETTO:-0300
TZNAME:-03
DTSTART:20240101T000000
END:STANDARD
END:VTIMEZONE
BEGIN:VEVENT
DTSTART;TZID=America/Sao_Paulo:20251128T100000
DTEND;TZID=America/Sao_Paulo:20251128T170000
DTSTAMP:20260424T002342
CREATED:20251028T194206Z
LAST-MODIFIED:20251028T194206Z
UID:6681-1764324000-1764349200@cacaucenter.com.br
SUMMARY:AULA PARTICULAR - R$100\,00
DESCRIPTION: AULA MINI CEIA DE NATAL – Aprenda a preparar uma deliciosa ceia para seu natal ou ano novo. Receitas: pernil noite feliz assado e ao molho de cerejas\, sobrecoxas desossadas recheadas ao molho de laranja\, lombo ao molho de cerveja preta\, lagarto ao champagne e cogumelos frescos\, tender ao molho de manga\, salada de frutas com peito de peru\, farofa de banana da terra\, arroz com lentilha e cebola frita\, claro além de uma deliciosa mousse de cenoura para a entrada e um delicioso Strogonoff de morangos para a sobremesa. Faremos em aula: O pernil ao molho de cerejas\, sobrecoxas desossadas recheadas ao molho de laranja\, lombo ao molho de cerveja preta\, salada de peito de peru com frutas\, arroz com lentilha e cebolas frita\, a farofa de banana da terra e uma deliciosa sobremesa Strogonoff de morangos. \nCHEF ROBERTO AUGUSTO
URL:https://cacaucenter.com.br/cursos/aula-particular-r10000/
LOCATION:Cacau Center\, Avenida Pref. José Monteiro 783\, São Vicente\, SP\, Brazil
END:VEVENT
END:VCALENDAR