BEGIN:VCALENDAR
VERSION:2.0
PRODID:-//CACAU CENTER - ECPv6.15.11//NONSGML v1.0//EN
CALSCALE:GREGORIAN
METHOD:PUBLISH
X-ORIGINAL-URL:https://cacaucenter.com.br
X-WR-CALDESC:Eventos para CACAU CENTER
REFRESH-INTERVAL;VALUE=DURATION:PT1H
X-Robots-Tag:noindex
X-PUBLISHED-TTL:PT1H
BEGIN:VTIMEZONE
TZID:America/Sao_Paulo
BEGIN:STANDARD
TZOFFSETFROM:-0300
TZOFFSETTO:-0300
TZNAME:-03
DTSTART:20240101T000000
END:STANDARD
END:VTIMEZONE
BEGIN:VEVENT
DTSTART;TZID=America/Sao_Paulo:20251004T100000
DTEND;TZID=America/Sao_Paulo:20251004T130000
DTSTAMP:20260424T034245
CREATED:20250926T214917Z
LAST-MODIFIED:20250926T215008Z
UID:6530-1759572000-1759582800@cacaucenter.com.br
SUMMARY:AULA PROMOCIONAL GENUINE  ESPECIAL DIA DAS CRIANÇAS
DESCRIPTION:Uma aula exclusiva para as crianças se divertirem com o melhor chocolate. Nesse dia as crianças irão produzir seus próprios pirulitos de chocolates\, com texturas e sabores diferentes\, decorações e poderão levar toda produção para casa. Limite máximo de 15 crianças a partir de 7 anos. O investimento simbólico é de R$ 5\,00 e pedimos que os pais mandem as crianças com e uma roupa que possa sujar. Pagamento deve ser efetuado diretamente no CENTRO CULINÁRIO até o dia 2 de outubro.\n\nCHEF JESSICA HENRIQUES
URL:https://cacaucenter.com.br/cursos/aula-promocional-genuine-aula-especial-dia-das-criancas/
LOCATION:Cacau Center\, Avenida Pref. José Monteiro 783\, São Vicente\, SP\, Brazil
END:VEVENT
END:VCALENDAR