BEGIN:VCALENDAR
VERSION:2.0
PRODID:-//CACAU CENTER - ECPv6.15.11//NONSGML v1.0//EN
CALSCALE:GREGORIAN
METHOD:PUBLISH
X-ORIGINAL-URL:https://cacaucenter.com.br
X-WR-CALDESC:Eventos para CACAU CENTER
REFRESH-INTERVAL;VALUE=DURATION:PT1H
X-Robots-Tag:noindex
X-PUBLISHED-TTL:PT1H
BEGIN:VTIMEZONE
TZID:America/Sao_Paulo
BEGIN:STANDARD
TZOFFSETFROM:-0300
TZOFFSETTO:-0300
TZNAME:-03
DTSTART:20240101T000000
END:STANDARD
END:VTIMEZONE
BEGIN:VEVENT
DTSTART;TZID=America/Sao_Paulo:20251118T140000
DTEND;TZID=America/Sao_Paulo:20251118T170000
DTSTAMP:20260424T005310
CREATED:20251028T192740Z
LAST-MODIFIED:20251028T192740Z
UID:6655-1763474400-1763485200@cacaucenter.com.br
SUMMARY:AULA OFICINA PARTICULAR -R$50\,00
DESCRIPTION:OFICINA DE BEIRUTE E TORTAS DE FRUTAS: Aprenda a preparar Beirutes massa e recheio irresistíveis e tortas doces de morango e frutas frescas fantásticas decoração para enriquecer e diversificar seu cardápio. Descubra técnicas de recheios cremosos\, massas perfeitas e apresentações que encantam. \nCHEF ALEXANDRE CANADÁ
URL:https://cacaucenter.com.br/cursos/aula-oficina-particular-r5000/
LOCATION:Cacau Center\, Avenida Pref. José Monteiro 783\, São Vicente\, SP\, Brazil
END:VEVENT
END:VCALENDAR