BEGIN:VCALENDAR
VERSION:2.0
PRODID:-//CACAU CENTER - ECPv6.15.11//NONSGML v1.0//EN
CALSCALE:GREGORIAN
METHOD:PUBLISH
X-WR-CALNAME:CACAU CENTER
X-ORIGINAL-URL:https://cacaucenter.com.br
X-WR-CALDESC:Eventos para CACAU CENTER
REFRESH-INTERVAL;VALUE=DURATION:PT1H
X-Robots-Tag:noindex
X-PUBLISHED-TTL:PT1H
BEGIN:VTIMEZONE
TZID:America/Sao_Paulo
BEGIN:STANDARD
TZOFFSETFROM:-0300
TZOFFSETTO:-0300
TZNAME:-03
DTSTART:20250101T000000
END:STANDARD
END:VTIMEZONE
BEGIN:VEVENT
DTSTART;TZID=America/Sao_Paulo:20260303T140000
DTEND;TZID=America/Sao_Paulo:20260303T170000
DTSTAMP:20260423T185803
CREATED:20260225T124043Z
LAST-MODIFIED:20260225T124043Z
UID:6845-1772546400-1772557200@cacaucenter.com.br
SUMMARY:AULA GRÁTIS ITAMBÉ
DESCRIPTION:CURSO KIT DEGUSTAÇÕES COM ITAMBÉ: Em parceria com a incrível Itambé\, preparamos um curso delicioso e cheio de oportunidades para você inovar e vender muito. Curso Kit Degustações perfeito para encantar clientes e aumentar suas vendas! Você vai aprender a montar kit estratégico\, com combinações irresistíveis e apresentação profissional. Preparações práticas e lucrativas. Utilização dos produtos Itambé. Montagem e finalização de kit para venda. Dicas de precificação e apresentação. Uma aula pensada para quem quer se destacar e lucrar mais! \nCHEF LUCIANE
URL:https://cacaucenter.com.br/cursos/aula-gratis-itambe-2/
LOCATION:Cacau Center\, Avenida Pref. José Monteiro 783\, São Vicente\, SP\, Brazil
END:VEVENT
END:VCALENDAR