BEGIN:VCALENDAR
VERSION:2.0
PRODID:-//CACAU CENTER - ECPv6.15.11//NONSGML v1.0//EN
CALSCALE:GREGORIAN
METHOD:PUBLISH
X-WR-CALNAME:CACAU CENTER
X-ORIGINAL-URL:https://cacaucenter.com.br
X-WR-CALDESC:Eventos para CACAU CENTER
REFRESH-INTERVAL;VALUE=DURATION:PT1H
X-Robots-Tag:noindex
X-PUBLISHED-TTL:PT1H
BEGIN:VTIMEZONE
TZID:America/Sao_Paulo
BEGIN:STANDARD
TZOFFSETFROM:-0300
TZOFFSETTO:-0300
TZNAME:-03
DTSTART:20250101T000000
END:STANDARD
END:VTIMEZONE
BEGIN:VEVENT
DTSTART;TZID=America/Sao_Paulo:20260309T100000
DTEND;TZID=America/Sao_Paulo:20260309T170000
DTSTAMP:20260423T191647
CREATED:20260225T125013Z
LAST-MODIFIED:20260225T125013Z
UID:6857-1773050400-1773075600@cacaucenter.com.br
SUMMARY:SEG – TER 09 / 03 e 10/03 das 10H às 17H -> CONECTA ICEBERG
DESCRIPTION:CURSO ESPECIAL DE PÁSCOA – Uma imersão deliciosa no universo do chocolate e da confeitaria criativa! Prepare-se para aprender técnicas\, segredos e receitas que vende e encantam! Chef Janaina – Chocolates e seus Segredos\, descubra técnicas\, temperagem e truques que transformam o chocolate. Chef Lili Romera – Trio de trufas decoradas\, \nbiscoitos recheados\, decorados para a Páscoa e Coelhinho de brownie\nChef Aline – Ovos pintados com produto Chococolor\, Brigadeiro cenourinha e \nPão de mel personalizado. Chef Any – Cake pop divertido\, Pavlova e Bolo desmistificando o produto Chant Up. Técnicas práticas\, Decorações criativas\, Ideias perfeitas para vender na Páscoa. Garanta sua vaga e venha transformar o açúcar\, o chocolate e a criatividade em verdadeiras obras de arte comestíveis. Inscrições abertas. OBS.: NA COMPRA DE R$30\,00 EM PRODUTOS ICEBERG NA LOJA CACAU CENTER ASSIM QUE EFETUAR SUAS COMPRAS MANDE O COMPROVANTE COM O SEU NOME COMPLETO NO WHATSAPP DO CENTRO CULINÁRIO PARA CONCLUIR A SUA INSCRIÇÃO.
URL:https://cacaucenter.com.br/cursos/seg-ter-09-03-e-10-03-das-10h-as-17h-conecta-iceberg/
LOCATION:Cacau Center\, Avenida Pref. José Monteiro 783\, São Vicente\, SP\, Brazil
END:VEVENT
END:VCALENDAR