BEGIN:VCALENDAR
VERSION:2.0
PRODID:-//CACAU CENTER - ECPv6.15.11//NONSGML v1.0//EN
CALSCALE:GREGORIAN
METHOD:PUBLISH
X-ORIGINAL-URL:https://cacaucenter.com.br
X-WR-CALDESC:Eventos para CACAU CENTER
REFRESH-INTERVAL;VALUE=DURATION:PT1H
X-Robots-Tag:noindex
X-PUBLISHED-TTL:PT1H
BEGIN:VTIMEZONE
TZID:America/Sao_Paulo
BEGIN:STANDARD
TZOFFSETFROM:-0300
TZOFFSETTO:-0300
TZNAME:-03
DTSTART:20250101T000000
END:STANDARD
END:VTIMEZONE
BEGIN:VEVENT
DTSTART;TZID=America/Sao_Paulo:20260325T140000
DTEND;TZID=America/Sao_Paulo:20260325T170000
DTSTAMP:20260423T191728
CREATED:20260225T131819Z
LAST-MODIFIED:20260225T131819Z
UID:6895-1774447200-1774458000@cacaucenter.com.br
SUMMARY:AULA GRÁTIS DONA JURA (CACAUFOODS) ESPECIAL DE PÁSCOA
DESCRIPTION: Aqui na Cacau Center\, você não vai aprender apenas um ovo Você vai aprender com Marcelo Bellini a fazer um Ovo de Chocolate Recheado com Bolo de Cenoura que se vende sozinho! Imagina seu cliente abrindo…Casca Crocante\, estruturada\, feita com produtos Dona Jura e CacauFoods… e por dentro? Bolo de cenoura macio\, úmido e envolvido em muito chocolate! Na Cacau Center\, você vai aprender: Estrutura perfeita para suportar o recheio\, técnicas para manter o bolo macio e equilibrado\, dicas e muito mais. Essa é aquela aula que faz você sair do básico e entrar no nível mais profissional. Garanta sua inscrição agora e prepare-se para vender como nunca nesta Páscoa. \nCHEF MARCELO BELLINI
URL:https://cacaucenter.com.br/cursos/aula-gratis-dona-jura-cacaufoods-especial-de-pascoa/
LOCATION:Cacau Center\, Avenida Pref. José Monteiro 783\, São Vicente\, SP\, Brazil
END:VEVENT
END:VCALENDAR