BEGIN:VCALENDAR
VERSION:2.0
PRODID:-//CACAU CENTER - ECPv6.15.11//NONSGML v1.0//EN
CALSCALE:GREGORIAN
METHOD:PUBLISH
X-WR-CALNAME:CACAU CENTER
X-ORIGINAL-URL:https://cacaucenter.com.br
X-WR-CALDESC:Eventos para CACAU CENTER
REFRESH-INTERVAL;VALUE=DURATION:PT1H
X-Robots-Tag:noindex
X-PUBLISHED-TTL:PT1H
BEGIN:VTIMEZONE
TZID:America/Sao_Paulo
BEGIN:STANDARD
TZOFFSETFROM:-0300
TZOFFSETTO:-0300
TZNAME:-03
DTSTART:20250101T000000
END:STANDARD
END:VTIMEZONE
BEGIN:VEVENT
DTSTART;TZID=America/Sao_Paulo:20260331T100000
DTEND;TZID=America/Sao_Paulo:20260331T120000
DTSTAMP:20260423T174611
CREATED:20260225T132535Z
LAST-MODIFIED:20260225T132535Z
UID:6910-1774951200-1774958400@cacaucenter.com.br
SUMMARY:AULA GRÁTIS MAVALÉRIO
DESCRIPTION:FUDGE DE PÁSCOA – A Páscoa é tempo de chocolate. E nesta aula especial Mavalério\, você vai aprender a produzir um Docinho delicioso que é o Fudge. Sabores que encantam e idéias de finalização para Páscoa e eventos em geral. Fácil\, lucrativo e super vendável. Um produto tendência\, sofisticado e com alto valor agregado para vender muito na Páscoa.\nCHEF ELIZANGELA ALDÁ
URL:https://cacaucenter.com.br/cursos/aula-gratis-mavalerio-6/
LOCATION:Cacau Center\, Avenida Pref. José Monteiro 783\, São Vicente\, SP\, Brazil
END:VEVENT
BEGIN:VEVENT
DTSTART;TZID=America/Sao_Paulo:20260331T140000
DTEND;TZID=America/Sao_Paulo:20260331T170000
DTSTAMP:20260423T174611
CREATED:20260225T132630Z
LAST-MODIFIED:20260225T132630Z
UID:6912-1774965600-1774976400@cacaucenter.com.br
SUMMARY:AULA GRÁTIS MAVALÉRIO
DESCRIPTION:BISCOITOS DECORADOS DE PÁSCOA – Quer um produto fácil\, de baixo custo e que vende muito na Páscoa? Nesta aula você vai aprender a produzir Biscoitos Decorados de Páscoa\, perfeitos para lembrancinhas\, kits presenteáveis e vendas por unidade. Um produto simples de fazer\, encantador na vitrine e com excelente margem de lucro.\nCHEF ELIZANGELA ALDÁ
URL:https://cacaucenter.com.br/cursos/aula-gratis-mavalerio-7/
LOCATION:Cacau Center\, Avenida Pref. José Monteiro 783\, São Vicente\, SP\, Brazil
END:VEVENT
END:VCALENDAR