BEGIN:VCALENDAR
VERSION:2.0
PRODID:-//CACAU CENTER - ECPv6.15.11//NONSGML v1.0//EN
CALSCALE:GREGORIAN
METHOD:PUBLISH
X-ORIGINAL-URL:https://cacaucenter.com.br
X-WR-CALDESC:Eventos para CACAU CENTER
REFRESH-INTERVAL;VALUE=DURATION:PT1H
X-Robots-Tag:noindex
X-PUBLISHED-TTL:PT1H
BEGIN:VTIMEZONE
TZID:America/Sao_Paulo
BEGIN:STANDARD
TZOFFSETFROM:-0300
TZOFFSETTO:-0300
TZNAME:-03
DTSTART:20240101T000000
END:STANDARD
END:VTIMEZONE
BEGIN:VEVENT
DTSTART;TZID=America/Sao_Paulo:20250916T100000
DTEND;TZID=America/Sao_Paulo:20250916T130000
DTSTAMP:20260424T014944
CREATED:20250830T140928Z
LAST-MODIFIED:20250830T141129Z
UID:6472-1758016800-1758027600@cacaucenter.com.br
SUMMARY:AULA GRÁTIS GUSTOSIA
DESCRIPTION:AULA GRÁTIS GUSTOSIA\nCURSO EXCLUSIVO GUSTOSIA – MORANGO DO AMOR RECHEADO \nAprenda a preparar o irresistível Morango do Amor com o recheio delicioso dos produtos Gustosia. Uma receita apaixonante\, prática e perfeita para encantar\nclientes e aumentar suas vendas! Vagas limitadas garanta já a sua. CHEF MICHAEL LEVINE
URL:https://cacaucenter.com.br/cursos/aula-gratis-gustosia/
LOCATION:Cacau Center\, Avenida Pref. José Monteiro 783\, São Vicente\, SP\, Brazil
END:VEVENT
BEGIN:VEVENT
DTSTART;TZID=America/Sao_Paulo:20250916T140000
DTEND;TZID=America/Sao_Paulo:20250916T170000
DTSTAMP:20260424T014944
CREATED:20250830T141354Z
LAST-MODIFIED:20250830T141354Z
UID:6474-1758031200-1758042000@cacaucenter.com.br
SUMMARY:AULA GRÁTIS GUSTOSIA
DESCRIPTION:AULA GRÁTIS GUSTOSIA\nCURSO DE BOLOS CASEIRINHOS COM OS PRODUTOS GUSTOSIA \nQuer aprender a preparar bolos fofinhos\, saborosos e com aquele gostinho de feito em casa? No nosso curso\, você vai descobrir receitas práticas\, técnicas\nfáceis e o segredo para transformar os produtos Gustosia em bolos irresistíveis para vender ou encantar a família. Aprenda: Massas fofinhas e saborosas\, Recheios e coberturas simples e deliciosos. Dicas para conservar e vender\nseus bolos. Perfeito para quem quer empreender na confeitaria ou simplesmente adoçar os momentos em família! Vagas limitadas – garanta já a\nsua! CHEF MICHAEL LEVINE
URL:https://cacaucenter.com.br/cursos/aula-gratis-gustosia-2/
LOCATION:Cacau Center\, Avenida Pref. José Monteiro 783\, São Vicente\, SP\, Brazil
END:VEVENT
BEGIN:VEVENT
DTSTART;TZID=America/Sao_Paulo:20250917T100000
DTEND;TZID=America/Sao_Paulo:20250917T130000
DTSTAMP:20260424T014944
CREATED:20250830T142822Z
LAST-MODIFIED:20250830T142822Z
UID:6476-1758103200-1758114000@cacaucenter.com.br
SUMMARY:AULA GRÁTIS WILTON
DESCRIPTION:AULA GRÁTIS WILTON\nSUPER AULA DE BOLO RETRO! \nNesta aula vamos fazer uma massa deliciosa de baunilha e super fácil de fazer\, um recheio de chocolate tostado com caramelo crocante e uma bela decoração com vários pontos de bicos que\nestá tendo uma grande procura\, então venha aprender a agregar muito mais valor no seu produto.\nCHEF ANA LÚCIA TEIXEIRA (INSTRUTORA WILTON)
URL:https://cacaucenter.com.br/cursos/aula-gratis-wilton/
LOCATION:Cacau Center\, Avenida Pref. José Monteiro 783\, São Vicente\, SP\, Brazil
END:VEVENT
BEGIN:VEVENT
DTSTART;TZID=America/Sao_Paulo:20250917T140000
DTEND;TZID=America/Sao_Paulo:20250917T170000
DTSTAMP:20260424T014944
CREATED:20250830T143041Z
LAST-MODIFIED:20250830T143041Z
UID:6478-1758117600-1758128400@cacaucenter.com.br
SUMMARY:AULA GRÁTIS WILTON
DESCRIPTION:AULA GRÁTIS WILTON\nAULA PRÁTICA SOMENTE 10 ALUNOS \nAula 100% prática de Bicos \, esta aula será um divisor de águas na sua carreira na confeitaria\, faremos mais de 12 pontos com uma apostila guiada\nque irá facilitar o treino\, uma aula com muitas técnicas\, posição correta de mão para um trabalho perfeito\, as vagas são limitadíssimas então corra e garanta sua vaga.\nPARA VOCÊ PARTICIPAR COMPRAR O KIT QUE VAI PAGAR E RETIRAR NO BALCÃO DA RECEPÇÃO DA LOJA CACAU CENTER . VALOR $30\,00\n(SOMENTE 10 ALUNOS) Obs: trazer uma embalagem para colocar o creme batido e o mesmo será batido individualmente em aula. CHEF ANA LÚCIA TEIXEIRA (INSTRUTORA WILTON)
URL:https://cacaucenter.com.br/cursos/aula-gratis-wilton-2/
LOCATION:Cacau Center\, Avenida Pref. José Monteiro 783\, São Vicente\, SP\, Brazil
END:VEVENT
BEGIN:VEVENT
DTSTART;TZID=America/Sao_Paulo:20250918T140000
DTEND;TZID=America/Sao_Paulo:20250918T170000
DTSTAMP:20260424T014944
CREATED:20250830T143211Z
LAST-MODIFIED:20250830T143211Z
UID:6480-1758204000-1758214800@cacaucenter.com.br
SUMMARY:AULA GRÁTIS DONA LELA BROWNIE
DESCRIPTION:AULA GRÁTIS DONA LELA BROWNIE \nVenham aprender uma receita\, diferenciada com um sabor único e indiscutível. CHEF JUNIOR
URL:https://cacaucenter.com.br/cursos/aula-gratis-dona-lela-brownie/
LOCATION:Cacau Center\, Avenida Pref. José Monteiro 783\, São Vicente\, SP\, Brazil
END:VEVENT
BEGIN:VEVENT
DTSTART;TZID=America/Sao_Paulo:20250919T100000
DTEND;TZID=America/Sao_Paulo:20250919T130000
DTSTAMP:20260424T014944
CREATED:20250830T143337Z
LAST-MODIFIED:20250830T143337Z
UID:6482-1758276000-1758286800@cacaucenter.com.br
SUMMARY:AULA GRÁTIS BLUESTAR PETIT BROWNIE
DESCRIPTION:AULA GRÁTIS BLUESTAR\nPETIT BROWNIE \nVenham aprender a fazer um Petit Brownie incrível\, e\ndiferenciado com ejentor Vocês vão aprender a fazer um Brigadeiro gourmet de Limão Siciliano divino.\nCHEF JUNIOR
URL:https://cacaucenter.com.br/cursos/aula-gratis-bluestar-petit-brownie/
LOCATION:Cacau Center\, Avenida Pref. José Monteiro 783\, São Vicente\, SP\, Brazil
END:VEVENT
BEGIN:VEVENT
DTSTART;TZID=America/Sao_Paulo:20250920T100000
DTEND;TZID=America/Sao_Paulo:20250920T130000
DTSTAMP:20260424T014944
CREATED:20250830T144130Z
LAST-MODIFIED:20250830T144130Z
UID:6486-1758362400-1758373200@cacaucenter.com.br
SUMMARY:AULA GRÁTIS RICH’S CESIBON COOKIES
DESCRIPTION:AULA GRÁTIS RICH’S CESIBON COOKIES \nVenham aprender o melhor cookies\, massa incrivel que vamos usar nosso creme culinário cesibon na massa. receita perfeita e sabor único.\nCHEF JUNIOR
URL:https://cacaucenter.com.br/cursos/aula-gratis-richs-cesibon-cookies/
LOCATION:Cacau Center\, Avenida Pref. José Monteiro 783\, São Vicente\, SP\, Brazil
END:VEVENT
BEGIN:VEVENT
DTSTART;TZID=America/Sao_Paulo:20250922T140000
DTEND;TZID=America/Sao_Paulo:20250922T170000
DTSTAMP:20260424T014944
CREATED:20250830T144259Z
LAST-MODIFIED:20250830T144259Z
UID:6488-1758549600-1758560400@cacaucenter.com.br
SUMMARY:AULA GRÁTIS GENUINE PÃO DE MEL DE CARAMELO SALGADO
DESCRIPTION:AULA GRÁTIS GENUINE\nPÃO DE MEL DE CARAMELO SALGADO \nNessa aula você aprenderá a minha massa deliciosa de pão de mel\, para utilizar qualquer tipo de recheio\,\numa massa econômica e versátil. Um recheio incrível de caramelo salgado\, feito com chocolate \ncaramelizado\, um verdadeiro pão de mel de luxo.\nDecoração\, apresentação\, apostila e sorteios.\nCHEF JHESSIKA HENRIQUES
URL:https://cacaucenter.com.br/cursos/aula-gratis-genuine-pao-de-mel-de-caramelo-salgado/
LOCATION:Cacau Center\, Avenida Pref. José Monteiro 783\, São Vicente\, SP\, Brazil
END:VEVENT
BEGIN:VEVENT
DTSTART;TZID=America/Sao_Paulo:20250923T140000
DTEND;TZID=America/Sao_Paulo:20250923T170000
DTSTAMP:20260424T014944
CREATED:20250830T144350Z
LAST-MODIFIED:20250830T144350Z
UID:6491-1758636000-1758646800@cacaucenter.com.br
SUMMARY:AULA GRÁTIS OVOMALTINE TORTA DE COOKIES OVOMALTINE
DESCRIPTION:AULA GRÁTIS OVOMALTINE\nTORTA DE COOKIES OVOMALTINE \nVenha Aprender a Torta de Cookies com Ovomaltine\, uma sobremesa irresistível que vai conquistar qualquer cliente ou família!  Passo a passo fácil. Receita lucrativa e de sucesso\nGaranta sua vaga e surpreenda com essa delícia crocante e cremosa! CHEF DOUGLAS SANTOS
URL:https://cacaucenter.com.br/cursos/aula-gratis-ovomaltine-torta-de-cookies-ovomaltine/
LOCATION:Cacau Center\, Avenida Pref. José Monteiro 783\, São Vicente\, SP\, Brazil
END:VEVENT
BEGIN:VEVENT
DTSTART;TZID=America/Sao_Paulo:20250924T100000
DTEND;TZID=America/Sao_Paulo:20250924T140000
DTSTAMP:20260424T014944
CREATED:20250830T144505Z
LAST-MODIFIED:20250830T144505Z
UID:6493-1758708000-1758722400@cacaucenter.com.br
SUMMARY:AULA GRÁTIS DONA JURA (CACAUFOODS)
DESCRIPTION:AULA GRÁTIS DONA JURA (CACAUFOODS)\nAULA ESPECIAL DE BRIGADEIROS SORTIDOS \nVenha aprender com Marcelo Bellini a preparar os mais deliciosos brigadeiros em uma aula\ncheia de sabor! Nesta experiência doce\, você vai conhecer técnicas especiais para criar brigadeiros sortidos\, com diferentes sabores e acabamentos\, usando a qualidade dos produtos CacauFoods Dona Jura. Dicas de preparo\, cobertura e apresentação para encantar seus clientes e familiares! Não perca essa oportunidade de aprimorar suas habilidades e ampliar seu cardápio com brigadeiros que fazem sucesso em qualquer ocasião. CHEF MARCELO BELLINI
URL:https://cacaucenter.com.br/cursos/aula-gratis-dona-jura-cacaufoods-5/
LOCATION:Cacau Center\, Avenida Pref. José Monteiro 783\, São Vicente\, SP\, Brazil
END:VEVENT
BEGIN:VEVENT
DTSTART;TZID=America/Sao_Paulo:20250924T140000
DTEND;TZID=America/Sao_Paulo:20250924T170000
DTSTAMP:20260424T014944
CREATED:20250830T144637Z
LAST-MODIFIED:20250830T144637Z
UID:6495-1758722400-1758733200@cacaucenter.com.br
SUMMARY:AULA GRÁTIS HARALD CURSO HARALD DE SOBREMESAS
DESCRIPTION:AULA GRÁTIS HARALD\nCURSO HARALD DE SOBREMESAS \nVocê quer surpreender seus amigos e familiares? Então não pode perder este curso que terá estás delícias em apresentações diferenciadas Banofee Trufada de Caramelo e Bolo Piscina Delicioso. Não perca está oportunidade de se destacar com este diferencial. CHEF MARCIA MACHADO
URL:https://cacaucenter.com.br/cursos/aula-gratis-harald-curso-harald-de-sobremesas/
LOCATION:Cacau Center\, Avenida Pref. José Monteiro 783\, São Vicente\, SP\, Brazil
END:VEVENT
BEGIN:VEVENT
DTSTART;TZID=America/Sao_Paulo:20250926T100000
DTEND;TZID=America/Sao_Paulo:20250926T140000
DTSTAMP:20260424T014944
CREATED:20250926T214043Z
LAST-MODIFIED:20250926T214118Z
UID:6527-1758880800-1758895200@cacaucenter.com.br
SUMMARY:AULA GRÁTIS BARRY CALLEBAUT (SICAO)
DESCRIPTION:CURSO DE TRUFAS FRUTADAS\n\nDescubra o segredo das irresistíveis trufas artesanais nos sabores mais apaixonantes: Cereja e Maracujá. Um curso delicioso para quem quer inovar e encantar com doces que derretem na boca! Tudo com o chocolate Sicao Barry Callebaut\n\nCHEF CARLA ALMEIDA
URL:https://cacaucenter.com.br/cursos/aula-gratis-barry-callebaut-sicao-2/
LOCATION:Cacau Center\, Avenida Pref. José Monteiro 783\, São Vicente\, SP\, Brazil
END:VEVENT
BEGIN:VEVENT
DTSTART;TZID=America/Sao_Paulo:20250926T140000
DTEND;TZID=America/Sao_Paulo:20250926T170000
DTSTAMP:20260424T014944
CREATED:20250830T144815Z
LAST-MODIFIED:20250830T144815Z
UID:6497-1758895200-1758906000@cacaucenter.com.br
SUMMARY:AULA GRÁTIS ARCOLOR
DESCRIPTION:AULA GRÁTIS ARCOLOR\nCURSO LONG CAKE O BOLO ALONGADO QUE ENCANTA \nAprenda as técnicas para criar esse estilo moderno e elegante de bolo\, perfeito para festas e comemorações. Técnicas de montagem e acabamento imperdível. Decoração criativa e sofisticada. Dicas exclusivas para vender e encantar\nclientes. Reserve já sua vaga e descubra o segredo do Long Cake. CHEF DALVA BAIROS
URL:https://cacaucenter.com.br/cursos/aula-gratis-arcolor-2/
LOCATION:Cacau Center\, Avenida Pref. José Monteiro 783\, São Vicente\, SP\, Brazil
END:VEVENT
BEGIN:VEVENT
DTSTART;TZID=America/Sao_Paulo:20250927T100000
DTEND;TZID=America/Sao_Paulo:20250927T130000
DTSTAMP:20260424T014944
CREATED:20250830T144920Z
LAST-MODIFIED:20250830T144920Z
UID:6499-1758967200-1758978000@cacaucenter.com.br
SUMMARY:AULA PARTICULAR- R$60\,00 AULA IMPERDÍVEL DE CONFEITARIA
DESCRIPTION:AULA PARTICULAR- R$60\,00\nAULA IMPERDÍVEL DE CONFEITARIA \nQuer aprender a fazer bolos que ENCANTAM no sabor e ARRASAM na decoração? Vem comigo nessa experiência doce e criativa Vamos explorar: Massas variadas — fofinhas\, saborosas e\nversáteis. 3 tipos de recheios irresistíveis\n3 coberturas incríveis — do clássico ao moderno\nIdeal pra quem quer vender\, presentear ou brilhar nas comemorações! Bônus: dicas exclusivas de montagem e finalização profissional!\nAs vagas são limitadas\, então garanta já a sua.\nCHEF FERNANDO
URL:https://cacaucenter.com.br/cursos/aula-particular-r6000-aula-imperdivel-de-confeitaria/
LOCATION:Cacau Center\, Avenida Pref. José Monteiro 783\, São Vicente\, SP\, Brazil
END:VEVENT
BEGIN:VEVENT
DTSTART;TZID=America/Sao_Paulo:20250929T140000
DTEND;TZID=America/Sao_Paulo:20250929T170000
DTSTAMP:20260424T014944
CREATED:20250830T145014Z
LAST-MODIFIED:20250830T145014Z
UID:6501-1759154400-1759165200@cacaucenter.com.br
SUMMARY:AULA GRÁTIS MAGO
DESCRIPTION:AULA GRÁTIS MAGO\nAULA ESPECIAL – PÃES & QUICHE \nAprenda a preparar pães artesanais macios e saborosos e uma quiche irresistível\, perfeita para vender ou servir em momentos especiais!\nTécnicas simples e práticas. Massas leves e recheios deliciosos. Receita versátil e lucrativa\nGaranta já sua vaga e venha colocar a mão na massa! CHEF FABIOLA PORTO
URL:https://cacaucenter.com.br/cursos/aula-gratis-mago/
LOCATION:Cacau Center\, Avenida Pref. José Monteiro 783\, São Vicente\, SP\, Brazil
END:VEVENT
BEGIN:VEVENT
DTSTART;TZID=America/Sao_Paulo:20250930T140000
DTEND;TZID=America/Sao_Paulo:20250930T170000
DTSTAMP:20260424T014944
CREATED:20250830T145116Z
LAST-MODIFIED:20250830T145116Z
UID:6503-1759240800-1759251600@cacaucenter.com.br
SUMMARY:AULA GRÁTIS NESTLÉ
DESCRIPTION:AULA GRÁTIS NESTLÉ\nAULA ESPECIAL – MINI BOLOS MONSTRINHOS PARA O HALLOWEEN \n\nVenha aprender a fazer mini bolos divertidos\, criativos e assustadoramente deliciosos para encantar no Halloween! Decoração temática fácil e lúdica. Técnicas práticas e passo a passo. Ideias perfeitas para vender ou surpreender a família\nGaranta sua vaga e prepare-se para um Halloween cheio de sabor. CHEF DORA
URL:https://cacaucenter.com.br/cursos/aula-gratis-nestle-2/
LOCATION:Cacau Center\, Avenida Pref. José Monteiro 783\, São Vicente\, SP\, Brazil
END:VEVENT
END:VCALENDAR