BEGIN:VCALENDAR
VERSION:2.0
PRODID:-//CACAU CENTER - ECPv6.15.11//NONSGML v1.0//EN
CALSCALE:GREGORIAN
METHOD:PUBLISH
X-ORIGINAL-URL:https://cacaucenter.com.br
X-WR-CALDESC:Eventos para CACAU CENTER
REFRESH-INTERVAL;VALUE=DURATION:PT1H
X-Robots-Tag:noindex
X-PUBLISHED-TTL:PT1H
BEGIN:VTIMEZONE
TZID:America/Sao_Paulo
BEGIN:STANDARD
TZOFFSETFROM:-0300
TZOFFSETTO:-0300
TZNAME:-03
DTSTART:20250101T000000
END:STANDARD
END:VTIMEZONE
BEGIN:VEVENT
DTSTART;TZID=America/Sao_Paulo:20260302T140000
DTEND;TZID=America/Sao_Paulo:20260302T170000
DTSTAMP:20260423T173059
CREATED:20260225T123915Z
LAST-MODIFIED:20260225T123915Z
UID:6843-1772460000-1772470800@cacaucenter.com.br
SUMMARY:AULA GRÁTIS BARRY CALLEBAUT (SICAO)
DESCRIPTION:GESTÃO DE DELIVERY PARA CONFEITEIRAS – Você que deseja entrar no delivery\, ou que já está o delivery mas não está tendo o resultado. Essa aula é para você. Nessa aula você vai aprender um ovo de Páscoa de delivery\, extremamente lucrativo\, com brownie\, brigadeiro amargo e brigadeiro de pistache. Vai aprender como ter um delivery lucrativo e vender o ano todo. Criar um cardápio de Páscoa para delivery. Receitas lucrativas e gestão de delivery. \nCHEF BRUNA SOUZA
URL:https://cacaucenter.com.br/cursos/aula-gratis-barry-callebaut-sicao-7/
LOCATION:Cacau Center\, Avenida Pref. José Monteiro 783\, São Vicente\, SP\, Brazil
END:VEVENT
BEGIN:VEVENT
DTSTART;TZID=America/Sao_Paulo:20260303T140000
DTEND;TZID=America/Sao_Paulo:20260303T170000
DTSTAMP:20260423T173059
CREATED:20260225T124043Z
LAST-MODIFIED:20260225T124043Z
UID:6845-1772546400-1772557200@cacaucenter.com.br
SUMMARY:AULA GRÁTIS ITAMBÉ
DESCRIPTION:CURSO KIT DEGUSTAÇÕES COM ITAMBÉ: Em parceria com a incrível Itambé\, preparamos um curso delicioso e cheio de oportunidades para você inovar e vender muito. Curso Kit Degustações perfeito para encantar clientes e aumentar suas vendas! Você vai aprender a montar kit estratégico\, com combinações irresistíveis e apresentação profissional. Preparações práticas e lucrativas. Utilização dos produtos Itambé. Montagem e finalização de kit para venda. Dicas de precificação e apresentação. Uma aula pensada para quem quer se destacar e lucrar mais! \nCHEF LUCIANE
URL:https://cacaucenter.com.br/cursos/aula-gratis-itambe-2/
LOCATION:Cacau Center\, Avenida Pref. José Monteiro 783\, São Vicente\, SP\, Brazil
END:VEVENT
BEGIN:VEVENT
DTSTART;TZID=America/Sao_Paulo:20260304T140000
DTEND;TZID=America/Sao_Paulo:20260304T170000
DTSTAMP:20260423T173059
CREATED:20260225T124354Z
LAST-MODIFIED:20260225T124354Z
UID:6850-1772632800-1772643600@cacaucenter.com.br
SUMMARY:AULA GRÁTIS BARRY CALLEBAUT (SICAO) BISCOITOS DE CACAU PRETO DECORADOS PARA A PÁSCOA
DESCRIPTION: Aposte nas lembrancinhas para encantar nesta Páscoa! Os biscoitos de cacau preto são sofisticados\, deliciosos e sempre tendência nessa época tão especial. Perfeitos para: Lembrancinhas escolares\, Mimos para clientes\, Presentes personalizados\, Complementar cestas de Páscoa. Além do sabor intenso e marcante do cacau preto\, a decoração deixa tudo ainda mais encantador e personalizado para a data. Garanta já os seus e surpreenda nesta Páscoa! \nCHEF CARLA ALMEIDA
URL:https://cacaucenter.com.br/cursos/aula-gratis-barry-callebaut-sicao-biscoitos-de-cacau-preto-decorados-para-a-pascoa/
LOCATION:Cacau Center\, Avenida Pref. José Monteiro 783\, São Vicente\, SP\, Brazil
END:VEVENT
BEGIN:VEVENT
DTSTART;TZID=America/Sao_Paulo:20260307T100000
DTEND;TZID=America/Sao_Paulo:20260307T140000
DTSTAMP:20260423T173059
CREATED:20260225T124746Z
LAST-MODIFIED:20260225T124746Z
UID:6855-1772877600-1772892000@cacaucenter.com.br
SUMMARY:AULA OFICINA PARTICULAR R$50\,00
DESCRIPTION:CURSO OFICINA DE PANIFICAÇÃO – Festival de Pães de Batata Prepare-se para uma aula deliciosa e super prática! Neste sábado vamos ensinar: Pão de Batata Tradicional – macio\, leve e perfeito para o dia a dia Pães de Batata Recheados várias opções irresistíveis para vender muito! Uma aula completa\, com técnicas\, dicas de preparo\, modelagem e ponto ideal da massa para você arrasar na produção. Garanta sua vaga! Vagas limitadas! \nCHEF ALEXANDRE CANADÁ
URL:https://cacaucenter.com.br/cursos/aula-oficina-particular-r5000-2/
LOCATION:Cacau Center\, Avenida Pref. José Monteiro 783\, São Vicente\, SP\, Brazil
END:VEVENT
BEGIN:VEVENT
DTSTART;TZID=America/Sao_Paulo:20260311T140000
DTEND;TZID=America/Sao_Paulo:20260311T170000
DTSTAMP:20260423T173059
CREATED:20260225T125258Z
LAST-MODIFIED:20260225T125258Z
UID:6859-1773237600-1773248400@cacaucenter.com.br
SUMMARY:AULA GRÁTIS HARALD
DESCRIPTION:UMA PÁSCOA TOP DE OPORTUNIDADES! Prepare-se para uma aula deliciosa e cheia de ideias para vender muito nesta Páscoa. Aprenda a produzir opções incríveis de ovos utilizando a Linha TOP da Harald\, garantindo qualidade\, sabor e acabamento profissional. Você vai aprender: Ovo Palha Italiana\, Ovo Sensação de Morango\, Técnicas de montagem e finalização. Dicas de produção e venda para lucrar mais. Uma aula pensada para quem quer transformar a Páscoa em uma grande oportunidade de renda! \n\n\n\n\nCHEF CARLA COSTA
URL:https://cacaucenter.com.br/cursos/aula-gratis-harald-6/
LOCATION:Cacau Center\, Avenida Pref. José Monteiro 783\, São Vicente\, SP\, Brazil
END:VEVENT
BEGIN:VEVENT
DTSTART;TZID=America/Sao_Paulo:20260312T140000
DTEND;TZID=America/Sao_Paulo:20260312T170000
DTSTAMP:20260423T173059
CREATED:20260225T125444Z
LAST-MODIFIED:20260225T125444Z
UID:6861-1773324000-1773334800@cacaucenter.com.br
SUMMARY:AULA GRÁTIS NELISUL
DESCRIPTION:PÁSCOA CHEGANDO É TEMPO DE LUCRAR! A Páscoa está batendo à porta e é hora de transformar sabor em oportunidade! Venha aprender a fazer deliciosas lembrancinhas e colomba pascal\, com os preparos especiais de frutas que encantam e vendem muito nessa época do ano! Junto com a NELISUL\, vamos preparar receitas incríveis para você arrasar nas vendas e aumentar sua renda nesta Páscoa! Não fique de fora! Venha comigo e com a NELISUL estamos te esperando!\nCHEF RICARDO GALHARDO
URL:https://cacaucenter.com.br/cursos/aula-gratis-nelisul-6/
LOCATION:Cacau Center\, Avenida Pref. José Monteiro 783\, São Vicente\, SP\, Brazil
END:VEVENT
BEGIN:VEVENT
DTSTART;TZID=America/Sao_Paulo:20260317T140000
DTEND;TZID=America/Sao_Paulo:20260317T170000
DTSTAMP:20260423T173059
CREATED:20260225T130025Z
LAST-MODIFIED:20260225T130025Z
UID:6870-1773756000-1773766800@cacaucenter.com.br
SUMMARY:AULA GRÁTIS MAGO
DESCRIPTION:OVO TABLETE – Vem aí uma aula incrível e super atual para você inovar nessa Páscoa! Diversos sabores e texturas para encantar seus clientes e aumentar seus lucros! Quer aprender essa novidade que está fazendo o maior sucesso e é muito lucrativa? Então anota aí na sua agenda e não perca essa oportunidade! Será uma aula prática\, cheia de dicas\, técnicas e sugestões de combinações para você vender muito nessa Páscoa! Garanta sua vaga!\nCHEF FABIOLA PORTO
URL:https://cacaucenter.com.br/cursos/aula-gratis-mago-4/
LOCATION:Cacau Center\, Avenida Pref. José Monteiro 783\, São Vicente\, SP\, Brazil
END:VEVENT
BEGIN:VEVENT
DTSTART;TZID=America/Sao_Paulo:20260318T140000
DTEND;TZID=America/Sao_Paulo:20260318T170000
DTSTAMP:20260423T173059
CREATED:20260225T130216Z
LAST-MODIFIED:20260225T130216Z
UID:6872-1773842400-1773853200@cacaucenter.com.br
SUMMARY:AULA GRÁTIS DONA JURA (CACAUFOODS
DESCRIPTION: A PÁSCOA MAIS DOCE DO ANO COMEÇA AQUI!!! Prepare-se para uma aula simplesmente irresistível na Cacau Center com Marcelo Bellini. Vamos mergulhar no universo dos Ovos de Colher para Páscoa\, usando toda a qualidade e sabor dos produtos Dona Jura e CacauFoods combinação perfeita para criar ovos lindos\, lucrativos e de dar água na boca! Você vai aprender: Técnicas de montagem\, recheios cremosos e estruturados\, decorações que encantam e vendem\, dicas para agregar valor e aumentar seu lucro na PáscoaEssa é a sua oportunidade de transformar chocolate em oportunidade\, criatividade em renda e talento em vendas\, Não fique de fora da temporada mais lucrativa da confeitaria. Garanta sua vaga e venha viver essa experiência doce\, prática e cheia de conhecimento. A Páscoa não espera e o sucesso também não. \nCHEF MARCELO BELLINI
URL:https://cacaucenter.com.br/cursos/aula-gratis-dona-jura-cacaufoods-13/
LOCATION:Cacau Center\, Avenida Pref. José Monteiro 783\, São Vicente\, SP\, Brazil
END:VEVENT
BEGIN:VEVENT
DTSTART;TZID=America/Sao_Paulo:20260320T100000
DTEND;TZID=America/Sao_Paulo:20260320T120000
DTSTAMP:20260423T173059
CREATED:20260225T130623Z
LAST-MODIFIED:20260225T130623Z
UID:6880-1774000800-1774008000@cacaucenter.com.br
SUMMARY:AULA GRÁTIS GENUINE
DESCRIPTION:OVO TRUFADO DE CARAMELO SALGADO – Você está pronta paraaprender uma combinação sofisticada\, deliciosa e SUPER lucrativa? Nesta aula incrível vamos trabalhar: Técnica de caramelização do chocolate. Preparo de um recheio cremoso de caramelo salgado Montagem perfeita do Ovo Trufado. Dicas de produção e lucratividade Uma explosão de sabor que une o doce intenso do chocolate com o toque equilibrado do sal\, simplesmente irresistível! Apostila completa inclusa. Sorteio especial durante a aula. Não perca essa oportunidade de encantar seus clientes e aumentar suas vendas nesta Páscoa! Garanta sua vaga.\nCHEF JHESSIKA HENRIQUES
URL:https://cacaucenter.com.br/cursos/aula-gratis-genuine/
LOCATION:Cacau Center\, Avenida Pref. José Monteiro 783\, São Vicente\, SP\, Brazil
END:VEVENT
BEGIN:VEVENT
DTSTART;TZID=America/Sao_Paulo:20260320T140000
DTEND;TZID=America/Sao_Paulo:20260320T170000
DTSTAMP:20260423T173059
CREATED:20260225T130742Z
LAST-MODIFIED:20260225T130742Z
UID:6883-1774015200-1774026000@cacaucenter.com.br
SUMMARY:AULA GRÁTIS GENUINE
DESCRIPTION:AULA PRÁTICA – OVO DRAGÊ. Uma aula exclusiva para você que quer se destacar nesta Páscoa com técnica\, qualidade e muito sabor! Nesta aula prática você vai aprender: Técnica correta de temperagem do chocolate. Técnica de drageamento (dragê) para um acabamento perfeito e sofisticado. Produção completa do Ovo Dragê. Dicas para produção\, conservação e venda. E o melhor !!! Tudo o que for produzido em aula\, os alunos levarão para casa! Uma experiência prática\, lucrativa e cheia de aprendizado para você elevar o nível das suas produções. Garanta sua vaga e venha colocar a mão no chocolate.\nCHEF JHESSIKA HENRIQUES
URL:https://cacaucenter.com.br/cursos/aula-gratis-genuine-2/
LOCATION:Cacau Center\, Avenida Pref. José Monteiro 783\, São Vicente\, SP\, Brazil
END:VEVENT
BEGIN:VEVENT
DTSTART;TZID=America/Sao_Paulo:20260321T100000
DTEND;TZID=America/Sao_Paulo:20260321T140000
DTSTAMP:20260423T173059
CREATED:20260225T130909Z
LAST-MODIFIED:20260225T130909Z
UID:6886-1774087200-1774101600@cacaucenter.com.br
SUMMARY:AULA PARTICULAR R$80\,00
DESCRIPTION:O CHEF ANDRÉ DEALIS ESTÁ DE VOLTA A BAIXADA SANTISTA TRAZENDO ESTA AULA CHEIA DE INOVAÇÕES E TENDÊNCIAS PARA 2026. ” One Bites Cakes” os famosos bolos de uma única mordida será a nova tendência em bolos para este ano. Aprenda três bolos incríveis com contraste de texturas jamais visto. Mini bolo de Laranjas e Baunilha (massa fofinha de laranjas\, mousse de laranjas com baunilha\, glaçagem de chocolate e farofa crocante). Mini bolo Cheesecake de Nutella Crisp (massa de cacau\, recheio de cheesecake de Nutella coberto com ganache crocante). Mini bolo de limão com framboesa (massa de limão\,cremoso de limão\, geleia de framboesa coberto com casquinha crocante de chocolate branco). Você não pode perder esta aula\, cheia de conteúdo e muita técnica para sair na frente da concorrência. Reserve agora a sua vaga. Espero vocês.
URL:https://cacaucenter.com.br/cursos/aula-particular-r8000-3/
LOCATION:Cacau Center\, Avenida Pref. José Monteiro 783\, São Vicente\, SP\, Brazil
END:VEVENT
BEGIN:VEVENT
DTSTART;TZID=America/Sao_Paulo:20260323T140000
DTEND;TZID=America/Sao_Paulo:20260323T170000
DTSTAMP:20260423T173059
CREATED:20260225T131026Z
LAST-MODIFIED:20260225T131026Z
UID:6889-1774274400-1774285200@cacaucenter.com.br
SUMMARY:AULA GRÁTIS ARCOLOR
DESCRIPTION:AULA DE BOLO DECORADO COM PASTA AMERICANA. Quer aprender a fazer um bolo lindo\, estruturado e perfeito para vender? Então essa aula é pra você! Nesta aula completa vamos aprender: Preparo da massa ideal (macia e estruturada). Recheio equilibrado e saboroso. Cobertura perfeita para receber a pasta americana. Técnicas de decoração com pasta americana. Você vai entender cada etapa do processo\, do preparo à finalização\, aprendendo técnicas que valorizam seu trabalho e aumentam seu lucro! Uma aula prática\, detalhada e cheia de dicas profissionais. Garanta sua vaga e venha evoluir na confeitaria!\nCHEF DALVA BAIROS
URL:https://cacaucenter.com.br/cursos/aula-gratis-arcolor-4/
LOCATION:Cacau Center\, Avenida Pref. José Monteiro 783\, São Vicente\, SP\, Brazil
END:VEVENT
BEGIN:VEVENT
DTSTART;TZID=America/Sao_Paulo:20260327T100000
DTEND;TZID=America/Sao_Paulo:20260327T120000
DTSTAMP:20260423T173059
CREATED:20260225T132103Z
LAST-MODIFIED:20260225T132103Z
UID:6901-1774605600-1774612800@cacaucenter.com.br
SUMMARY:AULA GRÁTIS BLUESTAR
DESCRIPTION:BISCOITO AMANTEIGADO\, COM RASPAS DE LIMÃO SICILIANO – Prepare- se para uma aula deliciosa e cheia de criatividade! Vamos aprender a fazer biscoitos amanteigados com raspas de limão siciliano\, com massa perfeita\, textura que derrete na boca e aquele aroma cítrico irresistível. E o melhor: vamos trabalhar com ejetor de Páscoa\, criando formatos temáticos lindos\, além de explorar outros modelos e possibilidades para você ampliar seu catálogo e suas vendas.\nCHEF JUNIOR
URL:https://cacaucenter.com.br/cursos/aula-gratis-bluestar-3/
LOCATION:Cacau Center\, Avenida Pref. José Monteiro 783\, São Vicente\, SP\, Brazil
END:VEVENT
BEGIN:VEVENT
DTSTART;TZID=America/Sao_Paulo:20260328T100000
DTEND;TZID=America/Sao_Paulo:20260328T120000
DTSTAMP:20260423T173059
CREATED:20260225T132307Z
LAST-MODIFIED:20260225T132307Z
UID:6905-1774692000-1774699200@cacaucenter.com.br
SUMMARY:AULA GRÁTIS CESIBON ( RICH’S )
DESCRIPTION:TARTELETES DE CREME DE DOCE DE LEITE E NOZES PECAN – Uma aula para quem ama a confeitaria clássica com um toque sofisticado! Você vai aprender a preparar tarteletes de doce de leite e nozes pecan\, combinando uma base crocante\, recheio cremoso e o sabor marcante das nozes\, resultando em uma sobremesa elegante e irresistível.\nCHEF JUNIOR
URL:https://cacaucenter.com.br/cursos/aula-gratis-cesibon-richs-2/
LOCATION:Cacau Center\, Avenida Pref. José Monteiro 783\, São Vicente\, SP\, Brazil
END:VEVENT
BEGIN:VEVENT
DTSTART;TZID=America/Sao_Paulo:20260330T140000
DTEND;TZID=America/Sao_Paulo:20260330T170000
DTSTAMP:20260423T173059
CREATED:20260225T132427Z
LAST-MODIFIED:20260225T132427Z
UID:6907-1774879200-1774890000@cacaucenter.com.br
SUMMARY:AULA GRÁTIS ARCOLOR
DESCRIPTION:AULA MINI BOLOS DE VITRINE . Quer deixar sua vitrine irresistível e aumentar suas vendas? Então essa aula é para você. Você vai aprender: Massa perfeita e estruturada\, recheios equilibrados e cremosos\, montagem profissional\, técnicas de decoração que valorizam a vitrine\, Dicas de conservação e precificação. Mini bolos que encantam os olhos e conquistam pelo sabor! Ideal para quem quer lucrar com bolos individuais\, datas comemorativas e vendas por impulso. Garanta sua vaga e venha aprender a transformar mini bolos em grandes vendas. \nCHEF DALVA BAIROS
URL:https://cacaucenter.com.br/cursos/aula-gratis-arcolor-5/
LOCATION:Cacau Center\, Avenida Pref. José Monteiro 783\, São Vicente\, SP\, Brazil
END:VEVENT
BEGIN:VEVENT
DTSTART;TZID=America/Sao_Paulo:20260331T100000
DTEND;TZID=America/Sao_Paulo:20260331T120000
DTSTAMP:20260423T173059
CREATED:20260225T132535Z
LAST-MODIFIED:20260225T132535Z
UID:6910-1774951200-1774958400@cacaucenter.com.br
SUMMARY:AULA GRÁTIS MAVALÉRIO
DESCRIPTION:FUDGE DE PÁSCOA – A Páscoa é tempo de chocolate. E nesta aula especial Mavalério\, você vai aprender a produzir um Docinho delicioso que é o Fudge. Sabores que encantam e idéias de finalização para Páscoa e eventos em geral. Fácil\, lucrativo e super vendável. Um produto tendência\, sofisticado e com alto valor agregado para vender muito na Páscoa.\nCHEF ELIZANGELA ALDÁ
URL:https://cacaucenter.com.br/cursos/aula-gratis-mavalerio-6/
LOCATION:Cacau Center\, Avenida Pref. José Monteiro 783\, São Vicente\, SP\, Brazil
END:VEVENT
BEGIN:VEVENT
DTSTART;TZID=America/Sao_Paulo:20260331T140000
DTEND;TZID=America/Sao_Paulo:20260331T170000
DTSTAMP:20260423T173059
CREATED:20260225T132630Z
LAST-MODIFIED:20260225T132630Z
UID:6912-1774965600-1774976400@cacaucenter.com.br
SUMMARY:AULA GRÁTIS MAVALÉRIO
DESCRIPTION:BISCOITOS DECORADOS DE PÁSCOA – Quer um produto fácil\, de baixo custo e que vende muito na Páscoa? Nesta aula você vai aprender a produzir Biscoitos Decorados de Páscoa\, perfeitos para lembrancinhas\, kits presenteáveis e vendas por unidade. Um produto simples de fazer\, encantador na vitrine e com excelente margem de lucro.\nCHEF ELIZANGELA ALDÁ
URL:https://cacaucenter.com.br/cursos/aula-gratis-mavalerio-7/
LOCATION:Cacau Center\, Avenida Pref. José Monteiro 783\, São Vicente\, SP\, Brazil
END:VEVENT
END:VCALENDAR