BEGIN:VCALENDAR
VERSION:2.0
PRODID:-//CACAU CENTER - ECPv6.15.11//NONSGML v1.0//EN
CALSCALE:GREGORIAN
METHOD:PUBLISH
X-WR-CALNAME:CACAU CENTER
X-ORIGINAL-URL:https://cacaucenter.com.br
X-WR-CALDESC:Eventos para CACAU CENTER
REFRESH-INTERVAL;VALUE=DURATION:PT1H
X-Robots-Tag:noindex
X-PUBLISHED-TTL:PT1H
BEGIN:VTIMEZONE
TZID:America/Sao_Paulo
BEGIN:STANDARD
TZOFFSETFROM:-0300
TZOFFSETTO:-0300
TZNAME:-03
DTSTART:20250101T000000
END:STANDARD
END:VTIMEZONE
BEGIN:VEVENT
DTSTART;TZID=America/Sao_Paulo:20260211T140000
DTEND;TZID=America/Sao_Paulo:20260211T170000
DTSTAMP:20260423T202541
CREATED:20260122T125515Z
LAST-MODIFIED:20260122T125515Z
UID:6806-1770818400-1770829200@cacaucenter.com.br
SUMMARY:AULA GRÁTIS HARALD
DESCRIPTION:CHOCOLATERIA PASSO A PASSO PARA UMA PÁSCOA DE SUCESSO! Aprenda nesta deliciosa e chocolatuda aula a trabalhar com perfeição com chocolate\, desde a temperagem\, saborização e finalização! Você vai aprender a fazer um ovo saborizado diferenciado\, e se destacar em meio aos seus clientes! Venha aprender sobre este universo extremamente rentável! Não perca!!!\nCHEF CARLA COSTA
URL:https://cacaucenter.com.br/cursos/aula-gratis-harald-4/
LOCATION:Cacau Center\, Avenida Pref. José Monteiro 783\, São Vicente\, SP\, Brazil
END:VEVENT
END:VCALENDAR