BEGIN:VCALENDAR
VERSION:2.0
PRODID:-//CACAU CENTER - ECPv6.15.11//NONSGML v1.0//EN
CALSCALE:GREGORIAN
METHOD:PUBLISH
X-ORIGINAL-URL:https://cacaucenter.com.br
X-WR-CALDESC:Eventos para CACAU CENTER
REFRESH-INTERVAL;VALUE=DURATION:PT1H
X-Robots-Tag:noindex
X-PUBLISHED-TTL:PT1H
BEGIN:VTIMEZONE
TZID:America/Sao_Paulo
BEGIN:STANDARD
TZOFFSETFROM:-0300
TZOFFSETTO:-0300
TZNAME:-03
DTSTART:20250101T000000
END:STANDARD
END:VTIMEZONE
BEGIN:VEVENT
DTSTART;TZID=America/Sao_Paulo:20260327T100000
DTEND;TZID=America/Sao_Paulo:20260327T120000
DTSTAMP:20260423T185918
CREATED:20260225T132103Z
LAST-MODIFIED:20260225T132103Z
UID:6901-1774605600-1774612800@cacaucenter.com.br
SUMMARY:AULA GRÁTIS BLUESTAR
DESCRIPTION:BISCOITO AMANTEIGADO\, COM RASPAS DE LIMÃO SICILIANO – Prepare- se para uma aula deliciosa e cheia de criatividade! Vamos aprender a fazer biscoitos amanteigados com raspas de limão siciliano\, com massa perfeita\, textura que derrete na boca e aquele aroma cítrico irresistível. E o melhor: vamos trabalhar com ejetor de Páscoa\, criando formatos temáticos lindos\, além de explorar outros modelos e possibilidades para você ampliar seu catálogo e suas vendas.\nCHEF JUNIOR
URL:https://cacaucenter.com.br/cursos/aula-gratis-bluestar-3/
LOCATION:Cacau Center\, Avenida Pref. José Monteiro 783\, São Vicente\, SP\, Brazil
END:VEVENT
END:VCALENDAR